PDS_VERSION_ID = PDS3
/* FILE DATA ELEMENTS */
RECORD_TYPE = STREAM
/* POINTERS TO DATA OBJECTS */
^COMPRESSED_FILE = "HC743_0000_IR3.JP2"
/* IDENTIFICATION DATA ELEMENTS */
DATA_SET_ID = "MEX-M-HRSC-5-REFDR-MAPPROJECTED-V3.0"
DATA_SET_NAME = "MARS EXPRESS HRSC MAP PROJECTED REFDR V3.0"
DETECTOR_ID = MEX_HRSC_IR
EVENT_TYPE = "MARS-REGIONAL-MAPPING-Vo-Im-Fl"
INSTRUMENT_HOST_ID = MEX
INSTRUMENT_HOST_NAME = "MARS EXPRESS"
INSTRUMENT_ID = HRSC
INSTRUMENT_NAME = "HIGH RESOLUTION STEREO CAMERA"
MISSION_NAME = "MARS EXPRESS"
MISSION_PHASE_NAME = ME_Phase_29
PROCESSING_LEVEL_ID = 3
PRODUCT_CREATION_TIME = 2016-10-29T02:00:08.000Z
PRODUCT_ID = "HC743_0000_IR3.JP2"
RELEASE_ID = 0121
REVISION_ID = 0000
/* QUALITY DATA ELEMENTS */
DATA_QUALITY_ID = 1
DATA_QUALITY_DESC = "Data calculated based on original SPICE kernels"
/* TIME DATA ELEMENTS */
SPACECRAFT_CLOCK_START_COUNT = "1/0337517534.09048"
SPACECRAFT_CLOCK_STOP_COUNT = "1/0337517752.05328"
START_TIME = 2014-01-11T10:53:23.421Z
STOP_TIME = 2014-01-11T10:55:46.451Z
/* ORBITAL DATA ELEMENTS */
ASCENDING_NODE_LONGITUDE = 334.53
MAXIMUM_RESOLUTION = 65.4
FOOTPRINT_POINT_LATITUDE = (-43.6354,-43.6362,-43.6366,-43.6365, -43.636,-43.635,-43.3541,-43.0352, -42.7226,-42.5612,-42.2431,-42.0816, -41.9191,-41.7573,-41.5149,-41.3532, -41.1106,-40.9465,-40.7813,-40.5336, -40.369,-40.204,-40.0383,-39.8703, -39.619,-39.4513,-39.2854,-39.1185, -38.8647,-38.6936,-38.5222,-38.3512, -38.1801,-38.0082,-37.752,-37.4917, -37.3189,-37.1457,-36.965,-36.6998, -36.5238,-36.3494,-36.1697,-35.99, -35.8098,-35.6321,-35.4538,-35.216, -35.2132,-35.2098,-35.2054,-35.2029, -35.1985,-35.1937,-35.4656,-35.6454, -35.915,-36.0949,-36.2744,-36.4493, -36.6254,-36.803,-36.9801,-37.1563, -37.4179,-37.5915,-37.7622,-37.9361, -38.1163,-38.2899,-38.46,-38.6257, -38.8026,-38.9739,-39.1392,-39.3078, -39.4758,-39.6443,-39.813,-39.9818, -40.1464,-40.3109,-40.4758,-40.6412, -40.8068,-40.9763,-41.1424,-41.306, -41.4678,-41.7867,-41.9495,-42.1127, -42.2743,-42.5923,-42.9104,-43.0698, -43.3089,-43.4685,-43.6285,-43.6354)
FOOTPRINT_POINT_LONGITUDE = (40.039,39.7626,39.4836,39.2021,38.9182 ,38.6313,38.3993,38.4178,38.4293,38.441 ,38.4589,38.4671,38.4754,38.483,38.4941 ,38.5018,38.5134,38.5207,38.5279, 38.5386,38.5454,38.5524,38.5603,38.5678 ,38.5764,38.5824,38.5866,38.5919, 38.6005,38.6062,38.6123,38.618,38.6239, 38.6301,38.6328,38.6399,38.6439,38.6485 ,38.6567,38.6632,38.667,38.6693,38.6744 ,38.6782,38.6825,38.6846,38.6875, 38.7685,39.0433,39.3927,39.7771,40.0059 ,40.3092,40.6101,40.7357,40.728,40.7164 ,40.7085,40.7006,40.6928,40.685,40.677, 40.6689,40.6609,40.6488,40.6407,40.6326 ,40.6243,40.6158,40.6074,40.5991, 40.5909,40.5822,40.5736,40.5653,40.5567 ,40.5481,40.5394,40.5306,40.5218, 40.5131,40.5043,40.4954,40.4864,40.4774 ,40.4679,40.4586,40.4493,40.4402, 40.4221,40.4126,40.4031,40.3935,40.3745 ,40.3552,40.3454,40.3306,40.3205, 40.3104,40.039)
ORBIT_NUMBER = 12743
ORBITAL_ECCENTRICITY = 0.577
ORBITAL_INCLINATION = 86.89
ORBITAL_SEMIMAJOR_AXIS = 8782.2
PERIAPSIS_ALTITUDE = 330.27
PERIAPSIS_ARGUMENT_ANGLE = 300.45
PERIAPSIS_TIME = 2014-01-11T10:48:51.000Z
SPACECRAFT_ORIENTATION = (0.0,1.0,0.0)
^MEX_ORIENTATION_DESC = "MEX_ORIENTATION_DESC.TXT"
SPACECRAFT_POINTING_MODE = ACROSSTRACK
^MEX_POINTING_DESC = "MEX_POINTING_DESC.TXT"
RIGHT_ASCENSION = -1e+32
DECLINATION = -1e+32
OFFSET_ANGLE = 0.8
SPACECRAFT_SOLAR_DISTANCE = 2.49186e+08
TARGET_NAME = MARS
/* CAMERA DATA ELEMENTS */
DETECTOR_TEMPERATURE = 17.5549
FOCAL_PLANE_TEMPERATURE = 8.5833
INST_CMPRS_NAME = "DISCRETE COSINE TRANSFORMATION (DCT)"
INST_CMPRS_RATIO = 10.4354
INST_CMPRS_QUALITY = 0
INST_CMPRS_QUANTZ_TBL_ID = 0
INSTRUMENT_TEMPERATURE = 11.8457
LENS_TEMPERATURE = 8.1755
MACROPIXEL_SIZE = 4
MISSING_FRAMES = 0
PIXEL_SUBSAMPLING_FLAG = N
SIGNAL_CHAIN_ID = 2
/* RADIOMETRIC DATA ELEMENTS */
BANDWIDTH = 81.0
CENTER_FILTER_WAVELENGTH = 955.5
RADIANCE_OFFSET = 0.0439331
RADIANCE_SCALING_FACTOR = 0.00392813
REFLECTANCE_SCALING_FACTOR = 0.000526215
MEX:REFLECTANCE_OFFSET = 0.0058853
/* IMAGE OBJECT DEFINITIONS */
OBJECT = IMAGE
  INTERCHANGE_FORMAT = BINARY
  LINES = 10079
  LINE_SAMPLES = 2081
  SAMPLE_TYPE = UNSIGNED_INTEGER
  SAMPLE_BITS = 8
  BANDS = 1
  BAND_STORAGE_TYPE = BAND_SEQUENTIAL
  MAXIMUM = 255
  MEAN = 98.9196
  MINIMUM = 1
  STANDARD_DEVIATION = 34.3667
END_OBJECT = IMAGE
/* MAP OBJECT DEFINITIONS */
OBJECT = IMAGE_MAP_PROJECTION
  ^DATA_SET_MAP_PROJECTION_CATALOG= "DSMAP.CAT"
  A_AXIS_RADIUS = 3396.0
  B_AXIS_RADIUS = 3396.0
  C_AXIS_RADIUS = 3396.0
  CENTER_LATITUDE = 0.0
  CENTER_LONGITUDE = 40.0
  COORDINATE_SYSTEM_NAME = PLANETOGRAPHIC
  COORDINATE_SYSTEM_TYPE = "BODY-FIXED ROTATING"
  EASTERNMOST_LONGITUDE = 40.7357
  FIRST_STANDARD_PARALLEL = "N/A"
  LINE_FIRST_PIXEL = 1
  LINE_LAST_PIXEL = 10079
  LINE_PROJECTION_OFFSET = -41770.125
  MAP_PROJECTION_ROTATION = 0.0
  MAP_PROJECTION_TYPE = SINUSOIDAL
  MAP_RESOLUTION = 1185.42760773333
  MAP_SCALE = 0.05
  MAXIMUM_LATITUDE = -35.1937
  MINIMUM_LATITUDE = -43.6366
  POSITIVE_LONGITUDE_DIRECTION = EAST
  REFERENCE_LATITUDE = "N/A"
  REFERENCE_LONGITUDE = "N/A"
  SAMPLE_FIRST_PIXEL = 1
  SAMPLE_LAST_PIXEL = 2081
  SAMPLE_PROJECTION_OFFSET = 1417.875
  SECOND_STANDARD_PARALLEL = "N/A"
  WESTERNMOST_LONGITUDE = 38.3993
END_OBJECT = IMAGE_MAP_PROJECTION
/* The JPEG2000 image data file associated with this label. */
OBJECT = COMPRESSED_FILE
  FILE_NAME = "HC743_0000_IR3.JP2"
  RECORD_TYPE = UNDEFINED
  FILE_RECORDS = UNK
  ENCODING_TYPE = "JP2"
  INTERCHANGE_FORMAT = BINARY
  UNCOMPRESSED_FILE_NAME = "HC743_0000_IR3.IMG"
  REQUIRED_STORAGE_BYTES = "20995209"
  ^DESCRIPTION = "JP2INFO.TXT"
END_OBJECT = COMPRESSED_FILE
END
