PDS_VERSION_ID = PDS3
/* FILE DATA ELEMENTS */
RECORD_TYPE = STREAM
/* POINTERS TO DATA OBJECTS */
^COMPRESSED_FILE = "HC743_0000_P13.JP2"
/* IDENTIFICATION DATA ELEMENTS */
DATA_SET_ID = "MEX-M-HRSC-5-REFDR-MAPPROJECTED-V3.0"
DATA_SET_NAME = "MARS EXPRESS HRSC MAP PROJECTED REFDR V3.0"
DETECTOR_ID = MEX_HRSC_P1
EVENT_TYPE = "MARS-REGIONAL-MAPPING-Vo-Im-Fl"
INSTRUMENT_HOST_ID = MEX
INSTRUMENT_HOST_NAME = "MARS EXPRESS"
INSTRUMENT_ID = HRSC
INSTRUMENT_NAME = "HIGH RESOLUTION STEREO CAMERA"
MISSION_NAME = "MARS EXPRESS"
MISSION_PHASE_NAME = ME_Phase_29
PROCESSING_LEVEL_ID = 3
PRODUCT_CREATION_TIME = 2016-10-29T02:00:08.000Z
PRODUCT_ID = "HC743_0000_P13.JP2"
RELEASE_ID = 0121
REVISION_ID = 0000
/* QUALITY DATA ELEMENTS */
DATA_QUALITY_ID = 1
DATA_QUALITY_DESC = "Data calculated based on original SPICE kernels"
/* TIME DATA ELEMENTS */
SPACECRAFT_CLOCK_START_COUNT = "1/0337517534.09048"
SPACECRAFT_CLOCK_STOP_COUNT = "1/0337517752.05328"
START_TIME = 2014-01-11T10:53:16.731Z
STOP_TIME = 2014-01-11T10:55:37.963Z
/* ORBITAL DATA ELEMENTS */
ASCENDING_NODE_LONGITUDE = 334.53
MAXIMUM_RESOLUTION = 31.9
FOOTPRINT_POINT_LATITUDE = (-43.6629,-43.662,-43.6606,-43.6586, -43.6561,-43.6529,-43.521,-43.36, -43.1988,-42.9615,-42.6404,-42.4772, -42.3168,-41.9972,-41.6752,-41.5116, -41.348,-41.1843,-41.0211,-40.8581, -40.6953,-40.4465,-40.2798,-40.1121, -39.9453,-39.6965,-39.5299,-39.3603, -39.192,-39.0227,-38.8535,-38.5997, -38.4275,-38.2543,-38.081,-37.9088, -37.7396,-37.4794,-37.304,-37.1283, -36.9498,-36.687,-36.4202,-36.2408, -36.0627,-35.8843,-35.7039,-35.523, -35.3421,-35.2212,-35.22,-35.2185, -35.2176,-35.2155,-35.2125,-35.2103, -35.3915,-35.5739,-35.8464,-36.0249, -36.2927,-36.4706,-36.6495,-36.826, -37.0014,-37.1769,-37.3541,-37.6158, -37.7864,-37.9622,-38.2274,-38.3999, -38.5683,-38.7392,-38.9957,-39.2496, -39.4199,-39.5895,-39.8394,-40.0061, -40.2559,-40.4227,-40.59,-40.7545, -40.9208,-41.0863,-41.2513,-41.415, -41.5778,-41.7386,-41.9004,-42.2214, -42.4627,-42.7037,-42.8645,-43.0255, -43.2668,-43.509,-43.6709,-43.6629)
FOOTPRINT_POINT_LONGITUDE = (40.021,39.7361,39.4483,39.158,38.8651, 38.5688,38.3953,38.4047,38.4143,38.4224 ,38.4402,38.4529,38.4617,38.4777, 38.4931,38.5009,38.5088,38.5168,38.5243 ,38.5316,38.5386,38.5494,38.5562, 38.5647,38.5719,38.5811,38.5874,38.5933 ,38.5975,38.6032,38.609,38.6177,38.6238 ,38.6298,38.6359,38.6407,38.642,38.6492 ,38.6534,38.6582,38.6664,38.673,38.6779 ,38.6829,38.6864,38.6904,38.6943, 38.6968,38.6995,38.923,39.3027,39.5405, 39.8544,40.1471,40.4568,40.7328,40.7253 ,40.7177,40.7062,40.6985,40.687,40.6792 ,40.6713,40.6635,40.6557,40.6478, 40.6397,40.6277,40.6198,40.6115,40.5989 ,40.5907,40.5826,40.5742,40.5616, 40.5489,40.5404,40.5317,40.5189,40.5102 ,40.4971,40.4883,40.4794,40.4705, 40.4613,40.4521,40.4428,40.4337,40.4246 ,40.4157,40.4064,40.3877,40.3735, 40.3591,40.3494,40.3396,40.3248,40.3098 ,40.2996,40.021)
ORBIT_NUMBER = 12743
ORBITAL_ECCENTRICITY = 0.577
ORBITAL_INCLINATION = 86.89
ORBITAL_SEMIMAJOR_AXIS = 8782.2
PERIAPSIS_ALTITUDE = 330.27
PERIAPSIS_ARGUMENT_ANGLE = 300.45
PERIAPSIS_TIME = 2014-01-11T10:48:51.000Z
SPACECRAFT_ORIENTATION = (0.0,1.0,0.0)
^MEX_ORIENTATION_DESC = "MEX_ORIENTATION_DESC.TXT"
SPACECRAFT_POINTING_MODE = ACROSSTRACK
^MEX_POINTING_DESC = "MEX_POINTING_DESC.TXT"
RIGHT_ASCENSION = -1e+32
DECLINATION = -1e+32
OFFSET_ANGLE = 0.8
SPACECRAFT_SOLAR_DISTANCE = 2.49186e+08
TARGET_NAME = MARS
/* CAMERA DATA ELEMENTS */
DETECTOR_TEMPERATURE = 17.5549
FOCAL_PLANE_TEMPERATURE = 8.5833
INST_CMPRS_NAME = "DISCRETE COSINE TRANSFORMATION (DCT)"
INST_CMPRS_RATIO = 7.68856
INST_CMPRS_QUALITY = 0
INST_CMPRS_QUANTZ_TBL_ID = 0
INSTRUMENT_TEMPERATURE = 11.8457
LENS_TEMPERATURE = 8.1755
MACROPIXEL_SIZE = 2
MISSING_FRAMES = 0
PIXEL_SUBSAMPLING_FLAG = N
SIGNAL_CHAIN_ID = 3
/* RADIOMETRIC DATA ELEMENTS */
BANDWIDTH = 174.0
CENTER_FILTER_WAVELENGTH = 675.0
RADIANCE_OFFSET = 0.287529
RADIANCE_SCALING_FACTOR = 0.0151094
REFLECTANCE_SCALING_FACTOR = 0.000504638
MEX:REFLECTANCE_OFFSET = 0.00960319
/* IMAGE OBJECT DEFINITIONS */
OBJECT = IMAGE
  INTERCHANGE_FORMAT = BINARY
  LINES = 20157
  LINE_SAMPLES = 4162
  SAMPLE_TYPE = UNSIGNED_INTEGER
  SAMPLE_BITS = 8
  BANDS = 1
  BAND_STORAGE_TYPE = BAND_SEQUENTIAL
  MAXIMUM = 255
  MEAN = 109.624
  MINIMUM = 1
  STANDARD_DEVIATION = 31.9762
END_OBJECT = IMAGE
/* MAP OBJECT DEFINITIONS */
OBJECT = IMAGE_MAP_PROJECTION
  ^DATA_SET_MAP_PROJECTION_CATALOG= "DSMAP.CAT"
  A_AXIS_RADIUS = 3396.0
  B_AXIS_RADIUS = 3396.0
  C_AXIS_RADIUS = 3396.0
  CENTER_LATITUDE = 0.0
  CENTER_LONGITUDE = 40.0
  COORDINATE_SYSTEM_NAME = PLANETOGRAPHIC
  COORDINATE_SYSTEM_TYPE = "BODY-FIXED ROTATING"
  EASTERNMOST_LONGITUDE = 40.7328
  FIRST_STANDARD_PARALLEL = "N/A"
  LINE_FIRST_PIXEL = 1
  LINE_LAST_PIXEL = 20157
  LINE_PROJECTION_OFFSET = -83539.75
  MAP_PROJECTION_ROTATION = 0.0
  MAP_PROJECTION_TYPE = SINUSOIDAL
  MAP_RESOLUTION = 2370.85521546667
  MAP_SCALE = 0.025
  MAXIMUM_LATITUDE = -35.2103
  MINIMUM_LATITUDE = -43.6709
  POSITIVE_LONGITUDE_DIRECTION = EAST
  REFERENCE_LATITUDE = "N/A"
  REFERENCE_LONGITUDE = "N/A"
  SAMPLE_FIRST_PIXEL = 1
  SAMPLE_LAST_PIXEL = 4162
  SAMPLE_PROJECTION_OFFSET = 2836.25
  SECOND_STANDARD_PARALLEL = "N/A"
  WESTERNMOST_LONGITUDE = 38.3953
END_OBJECT = IMAGE_MAP_PROJECTION
/* The JPEG2000 image data file associated with this label. */
OBJECT = COMPRESSED_FILE
  FILE_NAME = "HC743_0000_P13.JP2"
  RECORD_TYPE = UNDEFINED
  FILE_RECORDS = UNK
  ENCODING_TYPE = "JP2"
  INTERCHANGE_FORMAT = BINARY
  UNCOMPRESSED_FILE_NAME = "HC743_0000_P13.IMG"
  REQUIRED_STORAGE_BYTES = "83918406"
  ^DESCRIPTION = "JP2INFO.TXT"
END_OBJECT = COMPRESSED_FILE
END
