PDS_VERSION_ID = PDS3
/* FILE DATA ELEMENTS */
RECORD_TYPE = STREAM
/* POINTERS TO DATA OBJECTS */
^COMPRESSED_FILE = "HC745_0000_IR3.JP2"
/* IDENTIFICATION DATA ELEMENTS */
DATA_SET_ID = "MEX-M-HRSC-5-REFDR-MAPPROJECTED-V3.0"
DATA_SET_NAME = "MARS EXPRESS HRSC MAP PROJECTED REFDR V3.0"
DETECTOR_ID = MEX_HRSC_IR
EVENT_TYPE = "MARS-REGIONAL-MAPPING-Im-Fl"
INSTRUMENT_HOST_ID = MEX
INSTRUMENT_HOST_NAME = "MARS EXPRESS"
INSTRUMENT_ID = HRSC
INSTRUMENT_NAME = "HIGH RESOLUTION STEREO CAMERA"
MISSION_NAME = "MARS EXPRESS"
MISSION_PHASE_NAME = ME_Phase_29
PROCESSING_LEVEL_ID = 3
PRODUCT_CREATION_TIME = 2016-10-29T02:00:08.000Z
PRODUCT_ID = "HC745_0000_IR3.JP2"
RELEASE_ID = 0121
REVISION_ID = 0000
/* QUALITY DATA ELEMENTS */
DATA_QUALITY_ID = 1
DATA_QUALITY_DESC = "Data calculated based on original SPICE kernels"
/* TIME DATA ELEMENTS */
SPACECRAFT_CLOCK_START_COUNT = "1/0337567854.09046"
SPACECRAFT_CLOCK_STOP_COUNT = "1/0337568101.41083"
START_TIME = 2014-01-12T00:52:03.298Z
STOP_TIME = 2014-01-12T00:54:55.449Z
/* ORBITAL DATA ELEMENTS */
ASCENDING_NODE_LONGITUDE = 334.49
MAXIMUM_RESOLUTION = 131.3
FOOTPRINT_POINT_LATITUDE = (-43.7542,-43.7496,-43.7436,-43.7381, -43.7317,-43.5768,-43.3886,-43.2002, -43.0123,-42.6371,-42.2632,-41.977, -41.7858,-41.5951,-41.3091,-41.0207, -40.8227,-40.6279,-40.3358,-40.1438, -39.8476,-39.6498,-39.353,-39.1553, -38.9537,-38.6541,-38.4511,-38.1489, -37.9393,-37.7337,-37.5282,-37.3243, -37.1179,-36.9114,-36.7038,-36.4925, -36.2847,-36.0748,-35.8634,-35.6518, -35.4376,-35.222,-35.0073,-34.7925, -34.5741,-34.3559,-34.1381,-33.9176, -33.6541,-33.6567,-33.6585,-33.6553, -33.654,-33.6552,-33.8787,-34.1003, -34.3191,-34.5388,-34.758,-34.9752, -35.1922,-35.4068,-35.6214,-35.834, -36.1538,-36.3664,-36.5754,-36.7856, -36.9945,-37.3075,-37.513,-37.8205, -38.027,-38.3316,-38.5333,-38.7355, -38.9382,-39.24,-39.4388,-39.6387, -39.8411,-40.1411,-40.4331,-40.6279, -40.823,-41.0179,-41.2116,-41.4022, -41.5932,-41.7843,-42.0709,-42.2614, -42.5411,-42.7291,-42.9192,-43.2014, -43.3909,-43.5797,-43.7685,-43.7542)
FOOTPRINT_POINT_LONGITUDE = (196.582,196.304,195.975,195.697, 195.403,195.153,195.16,195.167,195.173, 195.186,195.198,195.206,195.212,195.217 ,195.224,195.232,195.238,195.243,195.25 ,195.253,195.259,195.263,195.268, 195.272,195.276,195.279,195.283,195.287 ,195.292,195.294,195.297,195.299,195.3, 195.301,195.302,195.306,195.306,195.306 ,195.307,195.308,195.309,195.31,195.31, 195.31,195.31,195.31,195.31,195.309, 195.521,195.852,196.124,196.512,196.784 ,197.171,197.372,197.366,197.36,197.354 ,197.348,197.342,197.337,197.33,197.323 ,197.317,197.309,197.302,197.296,197.29 ,197.283,197.273,197.267,197.257, 197.251,197.24,197.234,197.227,197.22, 197.21,197.204,197.197,197.192,197.182, 197.172,197.165,197.157,197.15,197.142, 197.135,197.127,197.12,197.108,197.099, 197.087,197.08,197.073,197.061,197.053, 197.045,197.037,196.582)
ORBIT_NUMBER = 12745
ORBITAL_ECCENTRICITY = 0.577
ORBITAL_INCLINATION = 86.9
ORBITAL_SEMIMAJOR_AXIS = 8778.46
PERIAPSIS_ALTITUDE = 330.05
PERIAPSIS_ARGUMENT_ANGLE = 300.11
PERIAPSIS_TIME = 2014-01-12T00:47:27.000Z
SPACECRAFT_ORIENTATION = (0.0,1.0,0.0)
^MEX_ORIENTATION_DESC = "MEX_ORIENTATION_DESC.TXT"
SPACECRAFT_POINTING_MODE = NADIR
^MEX_POINTING_DESC = "MEX_POINTING_DESC.TXT"
RIGHT_ASCENSION = -1e+32
DECLINATION = -1e+32
OFFSET_ANGLE = -1e+32
SPACECRAFT_SOLAR_DISTANCE = 2.49179e+08
TARGET_NAME = MARS
/* CAMERA DATA ELEMENTS */
DETECTOR_TEMPERATURE = 17.5549
FOCAL_PLANE_TEMPERATURE = 7.7677
INST_CMPRS_NAME = "DISCRETE COSINE TRANSFORMATION (DCT)"
INST_CMPRS_RATIO = 4.70645
INST_CMPRS_QUALITY = 0
INST_CMPRS_QUANTZ_TBL_ID = 0
INSTRUMENT_TEMPERATURE = 11.6418
LENS_TEMPERATURE = 8.5833
MACROPIXEL_SIZE = 8
MISSING_FRAMES = 0
PIXEL_SUBSAMPLING_FLAG = N
SIGNAL_CHAIN_ID = 2
/* RADIOMETRIC DATA ELEMENTS */
BANDWIDTH = 81.0
CENTER_FILTER_WAVELENGTH = 955.5
RADIANCE_OFFSET = 0.0
RADIANCE_SCALING_FACTOR = 0.00436143
REFLECTANCE_SCALING_FACTOR = 0.000584224
MEX:REFLECTANCE_OFFSET = 0.0
/* IMAGE OBJECT DEFINITIONS */
OBJECT = IMAGE
  INTERCHANGE_FORMAT = BINARY
  LINES = 6010
  LINE_SAMPLES = 1030
  SAMPLE_TYPE = UNSIGNED_INTEGER
  SAMPLE_BITS = 8
  BANDS = 1
  BAND_STORAGE_TYPE = BAND_SEQUENTIAL
  MAXIMUM = 255
  MEAN = 91.113
  MINIMUM = 1
  STANDARD_DEVIATION = 24.7301
END_OBJECT = IMAGE
/* MAP OBJECT DEFINITIONS */
OBJECT = IMAGE_MAP_PROJECTION
  ^DATA_SET_MAP_PROJECTION_CATALOG= "DSMAP.CAT"
  A_AXIS_RADIUS = 3396.0
  B_AXIS_RADIUS = 3396.0
  C_AXIS_RADIUS = 3396.0
  CENTER_LATITUDE = 0.0
  CENTER_LONGITUDE = 196.0
  COORDINATE_SYSTEM_NAME = PLANETOGRAPHIC
  COORDINATE_SYSTEM_TYPE = "BODY-FIXED ROTATING"
  EASTERNMOST_LONGITUDE = 197.372
  FIRST_STANDARD_PARALLEL = "N/A"
  LINE_FIRST_PIXEL = 1
  LINE_LAST_PIXEL = 6010
  LINE_PROJECTION_OFFSET = -19979.6875
  MAP_PROJECTION_ROTATION = 0.0
  MAP_PROJECTION_TYPE = SINUSOIDAL
  MAP_RESOLUTION = 592.713803866667
  MAP_SCALE = 0.1
  MAXIMUM_LATITUDE = -33.654
  MINIMUM_LATITUDE = -43.7685
  POSITIVE_LONGITUDE_DIRECTION = EAST
  REFERENCE_LATITUDE = "N/A"
  REFERENCE_LONGITUDE = "N/A"
  SAMPLE_FIRST_PIXEL = 1
  SAMPLE_LAST_PIXEL = 1030
  SAMPLE_PROJECTION_OFFSET = 370.8125
  SECOND_STANDARD_PARALLEL = "N/A"
  WESTERNMOST_LONGITUDE = 195.153
END_OBJECT = IMAGE_MAP_PROJECTION
/* The JPEG2000 image data file associated with this label. */
OBJECT = COMPRESSED_FILE
  FILE_NAME = "HC745_0000_IR3.JP2"
  RECORD_TYPE = UNDEFINED
  FILE_RECORDS = UNK
  ENCODING_TYPE = "JP2"
  INTERCHANGE_FORMAT = BINARY
  UNCOMPRESSED_FILE_NAME = "HC745_0000_IR3.IMG"
  REQUIRED_STORAGE_BYTES = "6208840"
  ^DESCRIPTION = "JP2INFO.TXT"
END_OBJECT = COMPRESSED_FILE
END
