PDS_VERSION_ID = PDS3
/* FILE DATA ELEMENTS */
RECORD_TYPE = STREAM
/* POINTERS TO DATA OBJECTS */
^COMPRESSED_FILE = "HC745_0000_ND3.JP2"
/* IDENTIFICATION DATA ELEMENTS */
DATA_SET_ID = "MEX-M-HRSC-5-REFDR-MAPPROJECTED-V3.0"
DATA_SET_NAME = "MARS EXPRESS HRSC MAP PROJECTED REFDR V3.0"
DETECTOR_ID = MEX_HRSC_NADIR
EVENT_TYPE = "MARS-REGIONAL-MAPPING-Im-Fl"
INSTRUMENT_HOST_ID = MEX
INSTRUMENT_HOST_NAME = "MARS EXPRESS"
INSTRUMENT_ID = HRSC
INSTRUMENT_NAME = "HIGH RESOLUTION STEREO CAMERA"
MISSION_NAME = "MARS EXPRESS"
MISSION_PHASE_NAME = ME_Phase_29
PROCESSING_LEVEL_ID = 3
PRODUCT_CREATION_TIME = 2016-10-29T02:00:08.000Z
PRODUCT_ID = "HC745_0000_ND3.JP2"
RELEASE_ID = 0121
REVISION_ID = 0000
/* QUALITY DATA ELEMENTS */
DATA_QUALITY_ID = 1
DATA_QUALITY_DESC = "Data calculated based on original SPICE kernels"
/* TIME DATA ELEMENTS */
SPACECRAFT_CLOCK_START_COUNT = "1/0337567854.09046"
SPACECRAFT_CLOCK_STOP_COUNT = "1/0337568101.41083"
START_TIME = 2014-01-12T00:51:32.717Z
STOP_TIME = 2014-01-12T00:54:14.732Z
/* ORBITAL DATA ELEMENTS */
ASCENDING_NODE_LONGITUDE = 334.49
MAXIMUM_RESOLUTION = 15.1
FOOTPRINT_POINT_LATITUDE = (-43.8451,-43.8385,-43.832,-43.8215, -43.8136,-43.6161,-43.4216,-43.2273, -43.0331,-42.839,-42.6451,-42.4513, -42.2577,-42.0642,-41.8708,-41.4846, -41.0989,-40.7138,-40.3294,-40.1342, -39.9372,-39.7404,-39.5437,-39.3472, -39.1509,-38.8503,-38.6494,-38.4485, -38.2479,-38.0474,-37.843,-37.6379, -37.4329,-37.2282,-37.0237,-36.7109, -36.5018,-36.293,-36.0844,-35.7666, -35.5535,-35.3406,-35.128,-34.9123, -34.6951,-34.4783,-34.2616,-34.0426, -33.8215,-33.7118,-33.7153,-33.7191, -33.7208,-33.7223,-33.7232,-33.9446, -34.2751,-34.4923,-34.7098,-34.9275, -35.1437,-35.3568,-35.5701,-35.7837, -36.1024,-36.3115,-36.5208,-36.7304, -37.044,-37.249,-37.4542,-37.6596, -37.8652,-38.0701,-38.271,-38.472, -38.6733,-38.8747,-39.1761,-39.3729, -39.5698,-39.767,-39.9643,-40.1618, -40.3575,-40.7428,-41.1287,-41.5151, -41.7086,-41.9022,-42.096,-42.2898, -42.4837,-42.6781,-42.8725,-43.067, -43.2617,-43.4565,-43.6514,-43.8451)
FOOTPRINT_POINT_LONGITUDE = (196.791,196.386,196.051,195.593, 195.294,195.167,195.175,195.182,195.19, 195.197,195.204,195.21,195.217,195.223, 195.229,195.24,195.251,195.263,195.273, 195.276,195.281,195.285,195.29,195.294, 195.298,195.303,195.306,195.31,195.314, 195.319,195.322,195.325,195.328,195.33, 195.332,195.335,195.338,195.339,195.34, 195.342,195.344,195.345,195.346,195.347 ,195.348,195.349,195.349,195.349,195.35 ,195.601,195.889,196.293,196.543, 196.888,197.301,197.295,197.287,197.284 ,197.279,197.274,197.268,197.262, 197.256,197.25,197.243,197.237,197.231, 197.226,197.217,197.212,197.206,197.2, 197.194,197.188,197.182,197.176,197.17, 197.163,197.155,197.149,197.143,197.138 ,197.132,197.126,197.119,197.106, 197.092,197.078,197.071,197.064,197.056 ,197.047,197.038,197.032,197.025, 197.018,197.011,197.003,196.996, 196.791)
ORBIT_NUMBER = 12745
ORBITAL_ECCENTRICITY = 0.577
ORBITAL_INCLINATION = 86.9
ORBITAL_SEMIMAJOR_AXIS = 8778.46
PERIAPSIS_ALTITUDE = 330.05
PERIAPSIS_ARGUMENT_ANGLE = 300.11
PERIAPSIS_TIME = 2014-01-12T00:47:27.000Z
SPACECRAFT_ORIENTATION = (0.0,1.0,0.0)
^MEX_ORIENTATION_DESC = "MEX_ORIENTATION_DESC.TXT"
SPACECRAFT_POINTING_MODE = NADIR
^MEX_POINTING_DESC = "MEX_POINTING_DESC.TXT"
RIGHT_ASCENSION = -1e+32
DECLINATION = -1e+32
OFFSET_ANGLE = -1e+32
SPACECRAFT_SOLAR_DISTANCE = 2.49179e+08
TARGET_NAME = MARS
/* CAMERA DATA ELEMENTS */
DETECTOR_TEMPERATURE = 18.5744
FOCAL_PLANE_TEMPERATURE = 7.7677
INST_CMPRS_NAME = "DISCRETE COSINE TRANSFORMATION (DCT)"
INST_CMPRS_RATIO = 4.28069
INST_CMPRS_QUALITY = 0
INST_CMPRS_QUANTZ_TBL_ID = 0
INSTRUMENT_TEMPERATURE = 11.6418
LENS_TEMPERATURE = 8.5833
MACROPIXEL_SIZE = 1
MISSING_FRAMES = 0
PIXEL_SUBSAMPLING_FLAG = N
SIGNAL_CHAIN_ID = 0
/* RADIOMETRIC DATA ELEMENTS */
BANDWIDTH = 177.0
CENTER_FILTER_WAVELENGTH = 677.5
RADIANCE_OFFSET = 0.0233889
RADIANCE_SCALING_FACTOR = 0.0156843
REFLECTANCE_SCALING_FACTOR = 0.000517336
MEX:REFLECTANCE_OFFSET = 0.000771466
/* IMAGE OBJECT DEFINITIONS */
OBJECT = IMAGE
  INTERCHANGE_FORMAT = BINARY
  LINES = 48080
  LINE_SAMPLES = 8234
  SAMPLE_TYPE = UNSIGNED_INTEGER
  SAMPLE_BITS = 8
  BANDS = 1
  BAND_STORAGE_TYPE = BAND_SEQUENTIAL
  MAXIMUM = 255
  MEAN = 93.6686
  MINIMUM = 1
  STANDARD_DEVIATION = 25.8329
END_OBJECT = IMAGE
/* MAP OBJECT DEFINITIONS */
OBJECT = IMAGE_MAP_PROJECTION
  ^DATA_SET_MAP_PROJECTION_CATALOG= "DSMAP.CAT"
  A_AXIS_RADIUS = 3396.0
  B_AXIS_RADIUS = 3396.0
  C_AXIS_RADIUS = 3396.0
  CENTER_LATITUDE = 0.0
  CENTER_LONGITUDE = 196.0
  COORDINATE_SYSTEM_NAME = PLANETOGRAPHIC
  COORDINATE_SYSTEM_TYPE = "BODY-FIXED ROTATING"
  EASTERNMOST_LONGITUDE = 197.301
  FIRST_STANDARD_PARALLEL = "N/A"
  LINE_FIRST_PIXEL = 1
  LINE_LAST_PIXEL = 48080
  LINE_PROJECTION_OFFSET = -159834.0
  MAP_PROJECTION_ROTATION = 0.0
  MAP_PROJECTION_TYPE = SINUSOIDAL
  MAP_RESOLUTION = 4741.71043093333
  MAP_SCALE = 0.0125
  MAXIMUM_LATITUDE = -33.7118
  MINIMUM_LATITUDE = -43.8451
  POSITIVE_LONGITUDE_DIRECTION = EAST
  REFERENCE_LATITUDE = "N/A"
  REFERENCE_LONGITUDE = "N/A"
  SAMPLE_FIRST_PIXEL = 1
  SAMPLE_LAST_PIXEL = 8234
  SAMPLE_PROJECTION_OFFSET = 2970.0
  SECOND_STANDARD_PARALLEL = "N/A"
  WESTERNMOST_LONGITUDE = 195.167
END_OBJECT = IMAGE_MAP_PROJECTION
/* The JPEG2000 image data file associated with this label. */
OBJECT = COMPRESSED_FILE
  FILE_NAME = "HC745_0000_ND3.JP2"
  RECORD_TYPE = UNDEFINED
  FILE_RECORDS = UNK
  ENCODING_TYPE = "JP2"
  INTERCHANGE_FORMAT = BINARY
  UNCOMPRESSED_FILE_NAME = "HC745_0000_ND3.IMG"
  REQUIRED_STORAGE_BYTES = "395923656"
  ^DESCRIPTION = "JP2INFO.TXT"
END_OBJECT = COMPRESSED_FILE
END
