PDS_VERSION_ID = PDS3
/* FILE DATA ELEMENTS */
RECORD_TYPE = STREAM
/* POINTERS TO DATA OBJECTS */
^COMPRESSED_FILE = "HC745_0000_S23.JP2"
/* IDENTIFICATION DATA ELEMENTS */
DATA_SET_ID = "MEX-M-HRSC-5-REFDR-MAPPROJECTED-V3.0"
DATA_SET_NAME = "MARS EXPRESS HRSC MAP PROJECTED REFDR V3.0"
DETECTOR_ID = MEX_HRSC_S2
EVENT_TYPE = "MARS-REGIONAL-MAPPING-Im-Fl"
INSTRUMENT_HOST_ID = MEX
INSTRUMENT_HOST_NAME = "MARS EXPRESS"
INSTRUMENT_ID = HRSC
INSTRUMENT_NAME = "HIGH RESOLUTION STEREO CAMERA"
MISSION_NAME = "MARS EXPRESS"
MISSION_PHASE_NAME = ME_Phase_29
PROCESSING_LEVEL_ID = 3
PRODUCT_CREATION_TIME = 2016-10-29T02:00:08.000Z
PRODUCT_ID = "HC745_0000_S23.JP2"
RELEASE_ID = 0121
REVISION_ID = 0000
/* QUALITY DATA ELEMENTS */
DATA_QUALITY_ID = 1
DATA_QUALITY_DESC = "Data calculated based on original SPICE kernels"
/* TIME DATA ELEMENTS */
SPACECRAFT_CLOCK_START_COUNT = "1/0337567854.09046"
SPACECRAFT_CLOCK_STOP_COUNT = "1/0337568101.41083"
START_TIME = 2014-01-12T00:50:58.898Z
STOP_TIME = 2014-01-12T00:53:32.099Z
/* ORBITAL DATA ELEMENTS */
ASCENDING_NODE_LONGITUDE = 334.49
MAXIMUM_RESOLUTION = 30.8
FOOTPRINT_POINT_LATITUDE = (-43.9453,-43.9401,-43.9288,-43.8633, -43.6643,-43.4666,-43.1701,-42.874, -42.5773,-42.3798,-42.1821,-41.9842, -41.7864,-41.4897,-41.2922,-41.0952, -40.802,-40.6062,-40.3087,-40.1104, -39.9137,-39.6185,-39.4212,-39.2245, -38.9302,-38.7305,-38.5345,-38.3413, -38.1456,-37.9517,-37.7519,-37.5506, -37.3485,-37.1465,-36.9425,-36.741, -36.5374,-36.3292,-36.0169,-35.8113, -35.6054,-35.3959,-35.1849,-34.9738, -34.7629,-34.552,-34.3378,-34.122, -33.8005,-33.7826,-33.7899,-33.795, -33.8062,-33.9156,-34.1321,-34.3447, -34.559,-34.7681,-34.9792,-35.1929, -35.4052,-35.6172,-35.8232,-36.1308, -36.3374,-36.545,-36.7501,-37.0525, -37.2545,-37.4549,-37.7589,-37.961, -38.2562,-38.4532,-38.7483,-38.945, -39.2393,-39.4358,-39.6317,-39.8254, -40.0207,-40.2172,-40.4145,-40.6125, -40.9088,-41.2062,-41.5035,-41.7017, -41.9,-42.0989,-42.2999,-42.5028, -42.6968,-42.8939,-43.0896,-43.288, -43.485,-43.683,-43.8813,-43.9453)
FOOTPRINT_POINT_LONGITUDE = (196.55,196.282,195.815,195.19,195.198, 195.206,195.218,195.23,195.241,195.248, 195.255,195.262,195.268,195.277,195.284 ,195.29,195.299,195.305,195.313,195.318 ,195.323,195.33,195.334,195.339,195.346 ,195.349,195.353,195.358,195.362, 195.366,195.37,195.373,195.376,195.379, 195.381,195.384,195.387,195.389,195.391 ,195.393,195.395,195.397,195.399, 195.401,195.402,195.403,195.404,195.405 ,195.407,195.728,196.174,196.549, 196.903,197.245,197.241,197.237,197.233 ,197.229,197.224,197.219,197.213, 197.208,197.203,197.197,197.192,197.186 ,197.182,197.174,197.169,197.164, 197.156,197.15,197.142,197.136,197.128, 197.122,197.114,197.109,197.103,197.099 ,197.094,197.088,197.082,197.075, 197.066,197.056,197.045,197.038,197.031 ,197.024,197.016,197.006,197.001, 196.994,196.988,196.98,196.973,196.965, 196.957,196.55)
ORBIT_NUMBER = 12745
ORBITAL_ECCENTRICITY = 0.577
ORBITAL_INCLINATION = 86.9
ORBITAL_SEMIMAJOR_AXIS = 8778.46
PERIAPSIS_ALTITUDE = 330.05
PERIAPSIS_ARGUMENT_ANGLE = 300.11
PERIAPSIS_TIME = 2014-01-12T00:47:27.000Z
SPACECRAFT_ORIENTATION = (0.0,1.0,0.0)
^MEX_ORIENTATION_DESC = "MEX_ORIENTATION_DESC.TXT"
SPACECRAFT_POINTING_MODE = NADIR
^MEX_POINTING_DESC = "MEX_POINTING_DESC.TXT"
RIGHT_ASCENSION = -1e+32
DECLINATION = -1e+32
OFFSET_ANGLE = -1e+32
SPACECRAFT_SOLAR_DISTANCE = 2.49179e+08
TARGET_NAME = MARS
/* CAMERA DATA ELEMENTS */
DETECTOR_TEMPERATURE = 18.5744
FOCAL_PLANE_TEMPERATURE = 7.7677
INST_CMPRS_NAME = "DISCRETE COSINE TRANSFORMATION (DCT)"
INST_CMPRS_RATIO = 4.92255
INST_CMPRS_QUALITY = 0
INST_CMPRS_QUANTZ_TBL_ID = 0
INSTRUMENT_TEMPERATURE = 11.6418
LENS_TEMPERATURE = 8.5833
MACROPIXEL_SIZE = 2
MISSING_FRAMES = 0
PIXEL_SUBSAMPLING_FLAG = N
SIGNAL_CHAIN_ID = 1
/* RADIOMETRIC DATA ELEMENTS */
BANDWIDTH = 178.0
CENTER_FILTER_WAVELENGTH = 679.0
RADIANCE_OFFSET = 0.103312
RADIANCE_SCALING_FACTOR = 0.0167122
REFLECTANCE_SCALING_FACTOR = 0.000549521
MEX:REFLECTANCE_OFFSET = 0.00339704
/* IMAGE OBJECT DEFINITIONS */
OBJECT = IMAGE
  INTERCHANGE_FORMAT = BINARY
  LINES = 24040
  LINE_SAMPLES = 4117
  SAMPLE_TYPE = UNSIGNED_INTEGER
  SAMPLE_BITS = 8
  BANDS = 1
  BAND_STORAGE_TYPE = BAND_SEQUENTIAL
  MAXIMUM = 255
  MEAN = 92.7476
  MINIMUM = 1
  STANDARD_DEVIATION = 25.5478
END_OBJECT = IMAGE
/* MAP OBJECT DEFINITIONS */
OBJECT = IMAGE_MAP_PROJECTION
  ^DATA_SET_MAP_PROJECTION_CATALOG= "DSMAP.CAT"
  A_AXIS_RADIUS = 3396.0
  B_AXIS_RADIUS = 3396.0
  C_AXIS_RADIUS = 3396.0
  CENTER_LATITUDE = 0.0
  CENTER_LONGITUDE = 196.0
  COORDINATE_SYSTEM_NAME = PLANETOGRAPHIC
  COORDINATE_SYSTEM_TYPE = "BODY-FIXED ROTATING"
  EASTERNMOST_LONGITUDE = 197.245
  FIRST_STANDARD_PARALLEL = "N/A"
  LINE_FIRST_PIXEL = 1
  LINE_LAST_PIXEL = 24040
  LINE_PROJECTION_OFFSET = -79917.25
  MAP_PROJECTION_ROTATION = 0.0
  MAP_PROJECTION_TYPE = SINUSOIDAL
  MAP_RESOLUTION = 2370.85521546667
  MAP_SCALE = 0.025
  MAXIMUM_LATITUDE = -33.7826
  MINIMUM_LATITUDE = -43.9453
  POSITIVE_LONGITUDE_DIRECTION = EAST
  REFERENCE_LATITUDE = "N/A"
  REFERENCE_LONGITUDE = "N/A"
  SAMPLE_FIRST_PIXEL = 1
  SAMPLE_LAST_PIXEL = 4117
  SAMPLE_PROJECTION_OFFSET = 1484.75
  SECOND_STANDARD_PARALLEL = "N/A"
  WESTERNMOST_LONGITUDE = 195.19
END_OBJECT = IMAGE_MAP_PROJECTION
/* The JPEG2000 image data file associated with this label. */
OBJECT = COMPRESSED_FILE
  FILE_NAME = "HC745_0000_S23.JP2"
  RECORD_TYPE = UNDEFINED
  FILE_RECORDS = UNK
  ENCODING_TYPE = "JP2"
  INTERCHANGE_FORMAT = BINARY
  UNCOMPRESSED_FILE_NAME = "HC745_0000_S23.IMG"
  REQUIRED_STORAGE_BYTES = "98997382"
  ^DESCRIPTION = "JP2INFO.TXT"
END_OBJECT = COMPRESSED_FILE
END
