PDS_VERSION_ID = PDS3
/* FILE DATA ELEMENTS */
RECORD_TYPE = STREAM
/* POINTERS TO DATA OBJECTS */
^COMPRESSED_FILE = "HC750_0000_BL3.JP2"
/* IDENTIFICATION DATA ELEMENTS */
DATA_SET_ID = "MEX-M-HRSC-5-REFDR-MAPPROJECTED-V3.0"
DATA_SET_NAME = "MARS EXPRESS HRSC MAP PROJECTED REFDR V3.0"
DETECTOR_ID = MEX_HRSC_BLUE
EVENT_TYPE = "MARS-REGIONAL-MAPPING-Vo-Eb-Ts"
INSTRUMENT_HOST_ID = MEX
INSTRUMENT_HOST_NAME = "MARS EXPRESS"
INSTRUMENT_ID = HRSC
INSTRUMENT_NAME = "HIGH RESOLUTION STEREO CAMERA"
MISSION_NAME = "MARS EXPRESS"
MISSION_PHASE_NAME = ME_Phase_29
PROCESSING_LEVEL_ID = 3
PRODUCT_CREATION_TIME = 2016-10-29T02:00:08.000Z
PRODUCT_ID = "HC750_0000_BL3.JP2"
RELEASE_ID = 0121
REVISION_ID = 0000
/* QUALITY DATA ELEMENTS */
DATA_QUALITY_ID = 1
DATA_QUALITY_DESC = "Data calculated based on original SPICE kernels"
/* TIME DATA ELEMENTS */
SPACECRAFT_CLOCK_START_COUNT = "1/0337693637.07315"
SPACECRAFT_CLOCK_STOP_COUNT = "1/0337693875.05000"
START_TIME = 2014-01-13T11:47:49.232Z
STOP_TIME = 2014-01-13T11:50:23.652Z
/* ORBITAL DATA ELEMENTS */
ASCENDING_NODE_LONGITUDE = 334.39
MAXIMUM_RESOLUTION = 59.7
FOOTPRINT_POINT_LATITUDE = (-45.1876,-45.1788,-45.1714,-45.1577, -45.0399,-44.7512,-44.5577,-44.3649, -44.0758,-43.8833,-43.6908,-43.4985, -43.3063,-43.1143,-42.9223,-42.7306, -42.5389,-42.3477,-42.0604,-41.7738, -41.5822,-41.3915,-41.2005,-41.0098, -40.8195,-40.5341,-40.1548,-39.9643, -39.7734,-39.5792,-39.385,-39.1908, -38.9967,-38.8017,-38.6082,-38.4101, -38.2116,-38.0127,-37.8145,-37.5172, -37.2132,-37.0105,-36.8083,-36.6055, -36.4015,-36.1945,-35.988,-35.6781, -35.4723,-35.3706,-35.3728,-35.3778, -35.3807,-35.3825,-35.4903,-35.6979, -36.0091,-36.2164,-36.4242,-36.6282, -36.8308,-37.0315,-37.3356,-37.5387, -37.7373,-37.9363,-38.1349,-38.3337, -38.5328,-38.8276,-39.119,-39.3138, -39.6075,-39.8043,-40.1823,-40.3726, -40.5636,-40.944,-41.1354,-41.3269, -41.5187,-41.7108,-41.9022,-42.1892, -42.3809,-42.5726,-42.7647,-42.9572, -43.1504,-43.4398,-43.6329,-43.8264, -44.0179,-44.2103,-44.4038,-44.5973, -44.7925,-44.9848,-45.1785,-45.1876)
FOOTPRINT_POINT_LONGITUDE = (45.5973,45.1641,44.8478,44.3485, 44.0895,44.1047,44.112,44.1206,44.1327, 44.1406,44.1483,44.1558,44.1632,44.1704 ,44.1775,44.1846,44.1913,44.1984, 44.2076,44.2172,44.2219,44.228,44.2331, 44.2384,44.2441,44.2517,44.2629,44.2663 ,44.2683,44.2733,44.2783,44.2826, 44.2869,44.2887,44.2932,44.298,44.3017, 44.3043,44.3075,44.3117,44.3158,44.3184 ,44.3213,44.3227,44.324,44.326,44.3282, 44.3306,44.3328,44.6553,44.9051,45.3005 ,45.5885,45.9675,46.26,46.253,46.2436, 46.238,46.232,46.2265,46.2215,46.2205, 46.2135,46.2077,46.2021,46.1956,46.1905 ,46.1851,46.1795,46.1688,46.1608, 46.1546,46.1427,46.1325,46.1252,46.1192 ,46.1119,46.1013,46.0938,46.0864, 46.0784,46.0698,46.0632,46.0537,46.0469 ,46.04,46.0328,46.0246,46.015,46.0021, 45.9932,45.9836,45.9787,45.9721,45.963, 45.9539,45.9411,45.9352,45.9262, 45.5973)
ORBIT_NUMBER = 12750
ORBITAL_ECCENTRICITY = 0.577
ORBITAL_INCLINATION = 86.89
ORBITAL_SEMIMAJOR_AXIS = 8780.4
PERIAPSIS_ALTITUDE = 330.14
PERIAPSIS_ARGUMENT_ANGLE = 299.27
PERIAPSIS_TIME = 2014-01-13T11:43:58.000Z
SPACECRAFT_ORIENTATION = (0.0,1.0,0.0)
^MEX_ORIENTATION_DESC = "MEX_ORIENTATION_DESC.TXT"
SPACECRAFT_POINTING_MODE = NADIR
^MEX_POINTING_DESC = "MEX_POINTING_DESC.TXT"
RIGHT_ASCENSION = -1e+32
DECLINATION = -1e+32
OFFSET_ANGLE = -1e+32
SPACECRAFT_SOLAR_DISTANCE = 2.49158e+08
TARGET_NAME = MARS
/* CAMERA DATA ELEMENTS */
DETECTOR_TEMPERATURE = 18.1666
FOCAL_PLANE_TEMPERATURE = 8.1755
INST_CMPRS_NAME = "DISCRETE COSINE TRANSFORMATION (DCT)"
INST_CMPRS_RATIO = 4.3895
INST_CMPRS_QUALITY = 0
INST_CMPRS_QUANTZ_TBL_ID = 0
INSTRUMENT_TEMPERATURE = 11.234
LENS_TEMPERATURE = 8.9911
MACROPIXEL_SIZE = 4
MISSING_FRAMES = 0
PIXEL_SUBSAMPLING_FLAG = N
SIGNAL_CHAIN_ID = 2
/* RADIOMETRIC DATA ELEMENTS */
BANDWIDTH = 76.0
CENTER_FILTER_WAVELENGTH = 444.0
RADIANCE_OFFSET = 0.0549837
RADIANCE_SCALING_FACTOR = 0.00200221
REFLECTANCE_SCALING_FACTOR = 0.000127707
MEX:REFLECTANCE_OFFSET = 0.00350703
/* IMAGE OBJECT DEFINITIONS */
OBJECT = IMAGE
  INTERCHANGE_FORMAT = BINARY
  LINES = 11641
  LINE_SAMPLES = 2053
  SAMPLE_TYPE = UNSIGNED_INTEGER
  SAMPLE_BITS = 8
  BANDS = 1
  BAND_STORAGE_TYPE = BAND_SEQUENTIAL
  MAXIMUM = 255
  MEAN = 134.063
  MINIMUM = 1
  STANDARD_DEVIATION = 31.4356
END_OBJECT = IMAGE
/* MAP OBJECT DEFINITIONS */
OBJECT = IMAGE_MAP_PROJECTION
  ^DATA_SET_MAP_PROJECTION_CATALOG= "DSMAP.CAT"
  A_AXIS_RADIUS = 3396.0
  B_AXIS_RADIUS = 3396.0
  C_AXIS_RADIUS = 3396.0
  CENTER_LATITUDE = 0.0
  CENTER_LONGITUDE = 45.0
  COORDINATE_SYSTEM_NAME = PLANETOGRAPHIC
  COORDINATE_SYSTEM_TYPE = "BODY-FIXED ROTATING"
  EASTERNMOST_LONGITUDE = 46.26
  FIRST_STANDARD_PARALLEL = "N/A"
  LINE_FIRST_PIXEL = 1
  LINE_LAST_PIXEL = 11641
  LINE_PROJECTION_OFFSET = -41921.375
  MAP_PROJECTION_ROTATION = 0.0
  MAP_PROJECTION_TYPE = SINUSOIDAL
  MAP_RESOLUTION = 1185.42760773333
  MAP_SCALE = 0.05
  MAXIMUM_LATITUDE = -35.3706
  MINIMUM_LATITUDE = -45.1876
  POSITIVE_LONGITUDE_DIRECTION = EAST
  REFERENCE_LATITUDE = "N/A"
  REFERENCE_LONGITUDE = "N/A"
  SAMPLE_FIRST_PIXEL = 1
  SAMPLE_LAST_PIXEL = 2053
  SAMPLE_PROJECTION_OFFSET = 797.875
  SECOND_STANDARD_PARALLEL = "N/A"
  WESTERNMOST_LONGITUDE = 44.0895
END_OBJECT = IMAGE_MAP_PROJECTION
/* The JPEG2000 image data file associated with this label. */
OBJECT = COMPRESSED_FILE
  FILE_NAME = "HC750_0000_BL3.JP2"
  RECORD_TYPE = UNDEFINED
  FILE_RECORDS = UNK
  ENCODING_TYPE = "JP2"
  INTERCHANGE_FORMAT = BINARY
  UNCOMPRESSED_FILE_NAME = "HC750_0000_BL3.IMG"
  REQUIRED_STORAGE_BYTES = "23919503"
  ^DESCRIPTION = "JP2INFO.TXT"
END_OBJECT = COMPRESSED_FILE
END
