PDS_VERSION_ID = PDS3
/* FILE DATA ELEMENTS */
RECORD_TYPE = STREAM
/* POINTERS TO DATA OBJECTS */
^COMPRESSED_FILE = "HC750_0000_RE3.JP2"
/* IDENTIFICATION DATA ELEMENTS */
DATA_SET_ID = "MEX-M-HRSC-5-REFDR-MAPPROJECTED-V3.0"
DATA_SET_NAME = "MARS EXPRESS HRSC MAP PROJECTED REFDR V3.0"
DETECTOR_ID = MEX_HRSC_RED
EVENT_TYPE = "MARS-REGIONAL-MAPPING-Vo-Eb-Ts"
INSTRUMENT_HOST_ID = MEX
INSTRUMENT_HOST_NAME = "MARS EXPRESS"
INSTRUMENT_ID = HRSC
INSTRUMENT_NAME = "HIGH RESOLUTION STEREO CAMERA"
MISSION_NAME = "MARS EXPRESS"
MISSION_PHASE_NAME = ME_Phase_29
PROCESSING_LEVEL_ID = 3
PRODUCT_CREATION_TIME = 2016-10-29T02:00:08.000Z
PRODUCT_ID = "HC750_0000_RE3.JP2"
RELEASE_ID = 0121
REVISION_ID = 0000
/* QUALITY DATA ELEMENTS */
DATA_QUALITY_ID = 1
DATA_QUALITY_DESC = "Data calculated based on original SPICE kernels"
/* TIME DATA ELEMENTS */
SPACECRAFT_CLOCK_START_COUNT = "1/0337693637.07315"
SPACECRAFT_CLOCK_STOP_COUNT = "1/0337693875.05000"
START_TIME = 2014-01-13T11:47:27.509Z
STOP_TIME = 2014-01-13T11:49:56.967Z
/* ORBITAL DATA ELEMENTS */
ASCENDING_NODE_LONGITUDE = 334.39
MAXIMUM_RESOLUTION = 61
FOOTPRINT_POINT_LATITUDE = (-45.2311,-45.2262,-45.219,-45.2118, -45.1976,-45.0488,-44.5534,-44.2219, -43.8492,-43.5525,-43.3546,-43.1572, -42.9595,-42.7626,-42.5649,-42.3688, -42.1711,-41.9755,-41.7766,-41.5773, -41.3811,-41.1842,-40.987,-40.7903, -40.5954,-40.4053,-40.2084,-40.008, -39.8061,-39.6109,-39.3183,-39.1234, -38.9241,-38.7271,-38.5369,-38.3418, -38.1446,-37.843,-37.6415,-37.4419, -37.2406,-37.0402,-36.837,-36.6313, -36.4227,-36.2175,-36.0132,-35.8071, -35.5973,-35.3556,-35.3555,-35.3637, -35.3655,-35.3646,-35.4694,-35.6815, -35.8967,-36.1033,-36.3093,-36.5162, -36.7219,-36.9241,-37.1172,-37.3169, -37.5177,-37.8202,-38.0223,-38.2205, -38.4163,-38.6133,-38.8148,-39.0117, -39.2031,-39.3997,-39.6018,-39.8062, -40.0023,-40.1906,-40.4874,-40.7782, -40.9736,-41.1747,-41.3723,-41.5736, -41.7723,-41.9685,-42.1639,-42.3617, -42.558,-42.7553,-43.0557,-43.2574, -43.4566,-43.6573,-43.8562,-44.1445, -44.395,-44.7352,-44.9823,-45.2311)
FOOTPRINT_POINT_LONGITUDE = (45.6994,45.4369,45.1087,44.8299, 44.3546,44.1001,44.1244,44.1394,44.1552 ,44.1674,44.1753,44.1831,44.1906, 44.1983,44.2053,44.2129,44.2196,44.2269 ,44.2327,44.2381,44.2446,44.2506, 44.2563,44.262,44.2682,44.2763,44.2813, 44.2847,44.2873,44.2924,44.2999,44.3047 ,44.3075,44.3111,44.3172,44.3212, 44.3246,44.3297,44.3326,44.3362,44.3388 ,44.3417,44.3448,44.3473,44.3485, 44.3508,44.3534,44.3553,44.3574,44.5333 ,44.8978,45.3514,45.7186,45.9639, 46.2312,46.2255,46.218,46.2125,46.2073, 46.2016,46.1964,46.1928,46.192,46.1872, 46.182,46.1734,46.1675,46.163,46.1577, 46.1517,46.1436,46.1376,46.1342,46.1282 ,46.1197,46.1099,46.1041,46.1021, 46.0919,46.0846,46.079,46.0705,46.0636, 46.0549,46.0473,46.041,46.0351,46.0279, 46.0213,46.0142,46.0012,45.9917,45.9833 ,45.9741,45.9658,45.9576,45.9466, 45.9285,45.919,45.6994)
ORBIT_NUMBER = 12750
ORBITAL_ECCENTRICITY = 0.577
ORBITAL_INCLINATION = 86.89
ORBITAL_SEMIMAJOR_AXIS = 8780.4
PERIAPSIS_ALTITUDE = 330.14
PERIAPSIS_ARGUMENT_ANGLE = 299.27
PERIAPSIS_TIME = 2014-01-13T11:43:58.000Z
SPACECRAFT_ORIENTATION = (0.0,1.0,0.0)
^MEX_ORIENTATION_DESC = "MEX_ORIENTATION_DESC.TXT"
SPACECRAFT_POINTING_MODE = NADIR
^MEX_POINTING_DESC = "MEX_POINTING_DESC.TXT"
RIGHT_ASCENSION = -1e+32
DECLINATION = -1e+32
OFFSET_ANGLE = -1e+32
SPACECRAFT_SOLAR_DISTANCE = 2.49158e+08
TARGET_NAME = MARS
/* CAMERA DATA ELEMENTS */
DETECTOR_TEMPERATURE = 18.7783
FOCAL_PLANE_TEMPERATURE = 8.1755
INST_CMPRS_NAME = "DISCRETE COSINE TRANSFORMATION (DCT)"
INST_CMPRS_RATIO = 12.5793
INST_CMPRS_QUALITY = 0
INST_CMPRS_QUANTZ_TBL_ID = 0
INSTRUMENT_TEMPERATURE = 11.234
LENS_TEMPERATURE = 8.9911
MACROPIXEL_SIZE = 4
MISSING_FRAMES = 0
PIXEL_SUBSAMPLING_FLAG = N
SIGNAL_CHAIN_ID = 2
/* RADIOMETRIC DATA ELEMENTS */
BANDWIDTH = 48.0
CENTER_FILTER_WAVELENGTH = 748.0
RADIANCE_OFFSET = 0.0558958
RADIANCE_SCALING_FACTOR = 0.00350719
REFLECTANCE_SCALING_FACTOR = 0.000496863
MEX:REFLECTANCE_OFFSET = 0.00791875
/* IMAGE OBJECT DEFINITIONS */
OBJECT = IMAGE
  INTERCHANGE_FORMAT = BINARY
  LINES = 11641
  LINE_SAMPLES = 2053
  SAMPLE_TYPE = UNSIGNED_INTEGER
  SAMPLE_BITS = 8
  BANDS = 1
  BAND_STORAGE_TYPE = BAND_SEQUENTIAL
  MAXIMUM = 255
  MEAN = 97.8882
  MINIMUM = 1
  STANDARD_DEVIATION = 29.0587
END_OBJECT = IMAGE
/* MAP OBJECT DEFINITIONS */
OBJECT = IMAGE_MAP_PROJECTION
  ^DATA_SET_MAP_PROJECTION_CATALOG= "DSMAP.CAT"
  A_AXIS_RADIUS = 3396.0
  B_AXIS_RADIUS = 3396.0
  C_AXIS_RADIUS = 3396.0
  CENTER_LATITUDE = 0.0
  CENTER_LONGITUDE = 45.0
  COORDINATE_SYSTEM_NAME = PLANETOGRAPHIC
  COORDINATE_SYSTEM_TYPE = "BODY-FIXED ROTATING"
  EASTERNMOST_LONGITUDE = 46.2312
  FIRST_STANDARD_PARALLEL = "N/A"
  LINE_FIRST_PIXEL = 1
  LINE_LAST_PIXEL = 11641
  LINE_PROJECTION_OFFSET = -41921.375
  MAP_PROJECTION_ROTATION = 0.0
  MAP_PROJECTION_TYPE = SINUSOIDAL
  MAP_RESOLUTION = 1185.42760773333
  MAP_SCALE = 0.05
  MAXIMUM_LATITUDE = -35.3555
  MINIMUM_LATITUDE = -45.2311
  POSITIVE_LONGITUDE_DIRECTION = EAST
  REFERENCE_LATITUDE = "N/A"
  REFERENCE_LONGITUDE = "N/A"
  SAMPLE_FIRST_PIXEL = 1
  SAMPLE_LAST_PIXEL = 2053
  SAMPLE_PROJECTION_OFFSET = 797.875
  SECOND_STANDARD_PARALLEL = "N/A"
  WESTERNMOST_LONGITUDE = 44.1001
END_OBJECT = IMAGE_MAP_PROJECTION
/* The JPEG2000 image data file associated with this label. */
OBJECT = COMPRESSED_FILE
  FILE_NAME = "HC750_0000_RE3.JP2"
  RECORD_TYPE = UNDEFINED
  FILE_RECORDS = UNK
  ENCODING_TYPE = "JP2"
  INTERCHANGE_FORMAT = BINARY
  UNCOMPRESSED_FILE_NAME = "HC750_0000_RE3.IMG"
  REQUIRED_STORAGE_BYTES = "23919503"
  ^DESCRIPTION = "JP2INFO.TXT"
END_OBJECT = COMPRESSED_FILE
END
