PDS_VERSION_ID = PDS3
/* FILE DATA ELEMENTS */
RECORD_TYPE = STREAM
/* POINTERS TO DATA OBJECTS */
^COMPRESSED_FILE = "HC750_0000_S13.JP2"
/* IDENTIFICATION DATA ELEMENTS */
DATA_SET_ID = "MEX-M-HRSC-5-REFDR-MAPPROJECTED-V3.0"
DATA_SET_NAME = "MARS EXPRESS HRSC MAP PROJECTED REFDR V3.0"
DETECTOR_ID = MEX_HRSC_S1
EVENT_TYPE = "MARS-REGIONAL-MAPPING-Vo-Eb-Ts"
INSTRUMENT_HOST_ID = MEX
INSTRUMENT_HOST_NAME = "MARS EXPRESS"
INSTRUMENT_ID = HRSC
INSTRUMENT_NAME = "HIGH RESOLUTION STEREO CAMERA"
MISSION_NAME = "MARS EXPRESS"
MISSION_PHASE_NAME = ME_Phase_29
PROCESSING_LEVEL_ID = 3
PRODUCT_CREATION_TIME = 2016-10-29T02:00:08.000Z
PRODUCT_ID = "HC750_0000_S13.JP2"
RELEASE_ID = 0121
REVISION_ID = 0000
/* QUALITY DATA ELEMENTS */
DATA_QUALITY_ID = 1
DATA_QUALITY_DESC = "Data calculated based on original SPICE kernels"
/* TIME DATA ELEMENTS */
SPACECRAFT_CLOCK_START_COUNT = "1/0337693637.07315"
SPACECRAFT_CLOCK_STOP_COUNT = "1/0337693875.05000"
START_TIME = 2014-01-13T11:48:30.599Z
STOP_TIME = 2014-01-13T11:51:17.840Z
/* ORBITAL DATA ELEMENTS */
ASCENDING_NODE_LONGITUDE = 334.39
MAXIMUM_RESOLUTION = 33.2
FOOTPRINT_POINT_LATITUDE = (-45.1196,-45.1143,-45.1066,-45.1001, -45.0932,-45.149,-44.9612,-44.7687, -44.5857,-44.3989,-44.119,-43.9327, -43.7468,-43.561,-43.3756,-43.1902, -43.0051,-42.8193,-42.6349,-42.446, -42.1633,-41.9726,-41.7833,-41.5971, -41.3105,-41.12,-40.9269,-40.7328, -40.5363,-40.3416,-40.0516,-39.8633, -39.6672,-39.4705,-39.2706,-38.9723, -38.6744,-38.4719,-38.2694,-37.966, -37.6651,-37.3561,-37.1517,-36.9466, -36.7394,-36.5344,-36.3265,-36.1175, -35.9067,-35.6949,-35.4822,-35.3716, -35.3844,-35.3862,-35.389,-35.3952, -35.3993,-35.6113,-35.821,-36.1316, -36.3385,-36.5467,-36.7561,-37.0757, -37.2888,-37.4949,-37.7017,-37.9024, -38.1063,-38.4115,-38.7131,-38.9052, -39.1085,-39.4094,-39.6027,-39.7855, -39.9873,-40.1912,-40.3898,-40.5829, -40.7775,-40.9711,-41.2568,-41.4487, -41.6338,-41.8226,-42.0125,-42.2039, -42.4898,-42.7721,-43.1367,-43.4118, -43.5951,-43.7795,-43.9709,-44.2555, -44.4414,-44.8056,-44.9974,-45.1196)
FOOTPRINT_POINT_LONGITUDE = (45.5878,45.2946,44.9099,44.6172, 44.3241,44.0303,44.0386,44.0491,44.0549 ,44.0625,44.0736,44.0807,44.0875, 44.0943,44.1008,44.1073,44.1135,44.12, 44.1258,44.1321,44.1402,44.1466,44.1523 ,44.1565,44.1642,44.1681,44.1731, 44.1787,44.1852,44.1898,44.1942,44.1949 ,44.199,44.2033,44.207,44.2117,44.2163, 44.2203,44.2229,44.2268,44.2295,44.2327 ,44.2341,44.2359,44.2376,44.2374, 44.2384,44.2398,44.2408,44.2415,44.2426 ,44.5284,45.0174,45.2629,45.5701, 45.9808,46.2487,46.3523,46.3448,46.3324 ,46.3253,46.3184,46.3118,46.3056, 46.3018,46.2951,46.2885,46.2812,46.275, 46.2651,46.2546,46.245,46.2397,46.2296, 46.2207,46.2087,46.2039,46.1997,46.1932 ,46.1853,46.179,46.1721,46.1595,46.1515 ,46.1418,46.1342,46.1269,46.12,46.1089, 46.0976,46.0792,46.0656,46.0562,46.0471 ,46.0407,46.0296,46.0205,45.9984,45.991 ,45.5878)
ORBIT_NUMBER = 12750
ORBITAL_ECCENTRICITY = 0.577
ORBITAL_INCLINATION = 86.89
ORBITAL_SEMIMAJOR_AXIS = 8780.4
PERIAPSIS_ALTITUDE = 330.14
PERIAPSIS_ARGUMENT_ANGLE = 299.27
PERIAPSIS_TIME = 2014-01-13T11:43:58.000Z
SPACECRAFT_ORIENTATION = (0.0,1.0,0.0)
^MEX_ORIENTATION_DESC = "MEX_ORIENTATION_DESC.TXT"
SPACECRAFT_POINTING_MODE = NADIR
^MEX_POINTING_DESC = "MEX_POINTING_DESC.TXT"
RIGHT_ASCENSION = -1e+32
DECLINATION = -1e+32
OFFSET_ANGLE = -1e+32
SPACECRAFT_SOLAR_DISTANCE = 2.49158e+08
TARGET_NAME = MARS
/* CAMERA DATA ELEMENTS */
DETECTOR_TEMPERATURE = 17.351
FOCAL_PLANE_TEMPERATURE = 8.1755
INST_CMPRS_NAME = "DISCRETE COSINE TRANSFORMATION (DCT)"
INST_CMPRS_RATIO = 8.4879
INST_CMPRS_QUALITY = 0
INST_CMPRS_QUANTZ_TBL_ID = 0
INSTRUMENT_TEMPERATURE = 11.234
LENS_TEMPERATURE = 8.9911
MACROPIXEL_SIZE = 2
MISSING_FRAMES = 0
PIXEL_SUBSAMPLING_FLAG = N
SIGNAL_CHAIN_ID = 1
/* RADIOMETRIC DATA ELEMENTS */
BANDWIDTH = 180.0
CENTER_FILTER_WAVELENGTH = 677.0
RADIANCE_OFFSET = 0.305542
RADIANCE_SCALING_FACTOR = 0.0140516
REFLECTANCE_SCALING_FACTOR = 0.000455112
MEX:REFLECTANCE_OFFSET = 0.00989604
/* IMAGE OBJECT DEFINITIONS */
OBJECT = IMAGE
  INTERCHANGE_FORMAT = BINARY
  LINES = 23282
  LINE_SAMPLES = 4105
  SAMPLE_TYPE = UNSIGNED_INTEGER
  SAMPLE_BITS = 8
  BANDS = 1
  BAND_STORAGE_TYPE = BAND_SEQUENTIAL
  MAXIMUM = 255
  MEAN = 102.757
  MINIMUM = 1
  STANDARD_DEVIATION = 30.7855
END_OBJECT = IMAGE
/* MAP OBJECT DEFINITIONS */
OBJECT = IMAGE_MAP_PROJECTION
  ^DATA_SET_MAP_PROJECTION_CATALOG= "DSMAP.CAT"
  A_AXIS_RADIUS = 3396.0
  B_AXIS_RADIUS = 3396.0
  C_AXIS_RADIUS = 3396.0
  CENTER_LATITUDE = 0.0
  CENTER_LONGITUDE = 45.0
  COORDINATE_SYSTEM_NAME = PLANETOGRAPHIC
  COORDINATE_SYSTEM_TYPE = "BODY-FIXED ROTATING"
  EASTERNMOST_LONGITUDE = 46.3523
  FIRST_STANDARD_PARALLEL = "N/A"
  LINE_FIRST_PIXEL = 1
  LINE_LAST_PIXEL = 23282
  LINE_PROJECTION_OFFSET = -83842.25
  MAP_PROJECTION_ROTATION = 0.0
  MAP_PROJECTION_TYPE = SINUSOIDAL
  MAP_RESOLUTION = 2370.85521546667
  MAP_SCALE = 0.025
  MAXIMUM_LATITUDE = -35.3716
  MINIMUM_LATITUDE = -45.149
  POSITIVE_LONGITUDE_DIRECTION = EAST
  REFERENCE_LATITUDE = "N/A"
  REFERENCE_LONGITUDE = "N/A"
  SAMPLE_FIRST_PIXEL = 1
  SAMPLE_LAST_PIXEL = 4105
  SAMPLE_PROJECTION_OFFSET = 1596.25
  SECOND_STANDARD_PARALLEL = "N/A"
  WESTERNMOST_LONGITUDE = 44.0303
END_OBJECT = IMAGE_MAP_PROJECTION
/* The JPEG2000 image data file associated with this label. */
OBJECT = COMPRESSED_FILE
  FILE_NAME = "HC750_0000_S13.JP2"
  RECORD_TYPE = UNDEFINED
  FILE_RECORDS = UNK
  ENCODING_TYPE = "JP2"
  INTERCHANGE_FORMAT = BINARY
  UNCOMPRESSED_FILE_NAME = "HC750_0000_S13.IMG"
  REQUIRED_STORAGE_BYTES = "95597240"
  ^DESCRIPTION = "JP2INFO.TXT"
END_OBJECT = COMPRESSED_FILE
END
