PDS_VERSION_ID = PDS3
/* FILE DATA ELEMENTS */
RECORD_TYPE = STREAM
/* POINTERS TO DATA OBJECTS */
^COMPRESSED_FILE = "HC751_0000_P23.JP2"
/* IDENTIFICATION DATA ELEMENTS */
DATA_SET_ID = "MEX-M-HRSC-5-REFDR-MAPPROJECTED-V3.0"
DATA_SET_NAME = "MARS EXPRESS HRSC MAP PROJECTED REFDR V3.0"
DETECTOR_ID = MEX_HRSC_P2
EVENT_TYPE = "MARS-REGIONAL-MAPPING-Gl-Pf"
INSTRUMENT_HOST_ID = MEX
INSTRUMENT_HOST_NAME = "MARS EXPRESS"
INSTRUMENT_ID = HRSC
INSTRUMENT_NAME = "HIGH RESOLUTION STEREO CAMERA"
MISSION_NAME = "MARS EXPRESS"
MISSION_PHASE_NAME = ME_Phase_29
PROCESSING_LEVEL_ID = 3
PRODUCT_CREATION_TIME = 2016-10-29T02:00:08.000Z
PRODUCT_ID = "HC751_0000_P23.JP2"
RELEASE_ID = 0121
REVISION_ID = 0000
/* QUALITY DATA ELEMENTS */
DATA_QUALITY_ID = 1
DATA_QUALITY_DESC = "Data calculated based on original SPICE kernels"
/* TIME DATA ELEMENTS */
SPACECRAFT_CLOCK_START_COUNT = "1/0337718729.07321"
SPACECRAFT_CLOCK_STOP_COUNT = "1/0337718951.48874"
START_TIME = 2014-01-13T18:45:44.220Z
STOP_TIME = 2014-01-13T18:48:09.574Z
/* ORBITAL DATA ELEMENTS */
ASCENDING_NODE_LONGITUDE = 334.38
MAXIMUM_RESOLUTION = 28.5
FOOTPRINT_POINT_LATITUDE = (-49.9672,-49.9612,-49.9507,-49.9337, -49.9171,-49.6855,-49.5102,-49.2466, -49.0698,-48.8063,-48.6295,-48.4532, -48.2768,-48.1039,-47.9297,-47.7521, -47.5719,-47.3964,-47.2227,-47.0458, -46.8709,-46.6922,-46.5152,-46.3367, -46.0738,-45.8986,-45.7196,-45.5427, -45.366,-45.1897,-45.0135,-44.8381, -44.6558,-44.4481,-44.2385,-44.0333, -43.719,-43.5084,-43.2979,-43.0889, -42.8795,-42.5655,-42.3575,-42.1482, -41.9405,-41.6278,-41.419,-41.2098, -41.0012,-40.7919,-40.5818,-40.3733, -40.36,-40.3716,-40.3767,-40.3838, -40.4948,-40.8088,-41.0196,-41.3278, -41.5345,-41.7438,-42.0565,-42.2662, -42.4765,-42.7915,-43.0015,-43.3139, -43.5233,-43.8347,-44.1527,-44.3636, -44.5732,-44.7745,-45.0416,-45.2193, -45.3943,-45.572,-45.747,-45.9205, -46.0999,-46.278,-46.4552,-46.6337, -46.8983,-47.1626,-47.341,-47.5998, -47.7778,-47.9537,-48.13,-48.3118, -48.4883,-48.7533,-49.0151,-49.1978, -49.3692,-49.5463,-49.8117,-49.9672)
FOOTPRINT_POINT_LONGITUDE = (303.355,303.09,302.686,302.14,301.683, 301.59,301.605,301.625,301.638,301.658, 301.671,301.683,301.695,301.709,301.722 ,301.733,301.742,301.754,301.766, 301.776,301.788,301.797,301.806,301.815 ,301.83,301.84,301.848,301.856,301.865, 301.874,301.882,301.891,301.9,301.91, 301.92,301.931,301.945,301.953,301.961, 301.969,301.977,301.988,301.996,302.003 ,302.011,302.021,302.028,302.033, 302.039,302.045,302.05,302.055,302.338, 302.762,302.991,303.431,303.875,303.864 ,303.856,303.848,303.842,303.835, 303.825,303.817,303.809,303.797,303.788 ,303.778,303.77,303.76,303.745,303.736, 303.728,303.721,303.708,303.699,303.692 ,303.684,303.677,303.671,303.661, 303.651,303.643,303.633,303.621,303.608 ,303.598,303.589,303.58,303.571,303.562 ,303.55,303.541,303.527,303.515,303.501 ,303.495,303.485,303.469,303.355)
ORBIT_NUMBER = 12751
ORBITAL_ECCENTRICITY = 0.577
ORBITAL_INCLINATION = 86.89
ORBITAL_SEMIMAJOR_AXIS = 8777.03
PERIAPSIS_ALTITUDE = 330.24
PERIAPSIS_ARGUMENT_ANGLE = 299.11
PERIAPSIS_TIME = 2014-01-13T18:43:19.000Z
SPACECRAFT_ORIENTATION = (0.0,1.0,0.0)
^MEX_ORIENTATION_DESC = "MEX_ORIENTATION_DESC.TXT"
SPACECRAFT_POINTING_MODE = NADIR
^MEX_POINTING_DESC = "MEX_POINTING_DESC.TXT"
RIGHT_ASCENSION = -1e+32
DECLINATION = -1e+32
OFFSET_ANGLE = -1e+32
SPACECRAFT_SOLAR_DISTANCE = 2.49153e+08
TARGET_NAME = MARS
/* CAMERA DATA ELEMENTS */
DETECTOR_TEMPERATURE = 18.5744
FOCAL_PLANE_TEMPERATURE = 8.3794
INST_CMPRS_NAME = "DISCRETE COSINE TRANSFORMATION (DCT)"
INST_CMPRS_RATIO = 6.54761
INST_CMPRS_QUALITY = 0
INST_CMPRS_QUANTZ_TBL_ID = 0
INSTRUMENT_TEMPERATURE = 11.234
LENS_TEMPERATURE = 9.3989
MACROPIXEL_SIZE = 2
MISSING_FRAMES = 0
PIXEL_SUBSAMPLING_FLAG = N
SIGNAL_CHAIN_ID = 3
/* RADIOMETRIC DATA ELEMENTS */
BANDWIDTH = 177.0
CENTER_FILTER_WAVELENGTH = 676.5
RADIANCE_OFFSET = 0.347151
RADIANCE_SCALING_FACTOR = 0.00810343
REFLECTANCE_SCALING_FACTOR = 0.000266722
MEX:REFLECTANCE_OFFSET = 0.0114264
/* IMAGE OBJECT DEFINITIONS */
OBJECT = IMAGE
  INTERCHANGE_FORMAT = BINARY
  LINES = 22672
  LINE_SAMPLES = 3904
  SAMPLE_TYPE = UNSIGNED_INTEGER
  SAMPLE_BITS = 8
  BANDS = 1
  BAND_STORAGE_TYPE = BAND_SEQUENTIAL
  MAXIMUM = 255
  MEAN = 91.5627
  MINIMUM = 1
  STANDARD_DEVIATION = 28.5917
END_OBJECT = IMAGE
/* MAP OBJECT DEFINITIONS */
OBJECT = IMAGE_MAP_PROJECTION
  ^DATA_SET_MAP_PROJECTION_CATALOG= "DSMAP.CAT"
  A_AXIS_RADIUS = 3396.0
  B_AXIS_RADIUS = 3396.0
  C_AXIS_RADIUS = 3396.0
  CENTER_LATITUDE = 0.0
  CENTER_LONGITUDE = 303.0
  COORDINATE_SYSTEM_NAME = PLANETOGRAPHIC
  COORDINATE_SYSTEM_TYPE = "BODY-FIXED ROTATING"
  EASTERNMOST_LONGITUDE = 303.875
  FIRST_STANDARD_PARALLEL = "N/A"
  LINE_FIRST_PIXEL = 1
  LINE_LAST_PIXEL = 22672
  LINE_PROJECTION_OFFSET = -95658.25
  MAP_PROJECTION_ROTATION = 0.0
  MAP_PROJECTION_TYPE = SINUSOIDAL
  MAP_RESOLUTION = 2370.85521546667
  MAP_SCALE = 0.025
  MAXIMUM_LATITUDE = -40.36
  MINIMUM_LATITUDE = -49.9672
  POSITIVE_LONGITUDE_DIRECTION = EAST
  REFERENCE_LATITUDE = "N/A"
  REFERENCE_LONGITUDE = "N/A"
  SAMPLE_FIRST_PIXEL = 1
  SAMPLE_LAST_PIXEL = 3904
  SAMPLE_PROJECTION_OFFSET = 2212.25
  SECOND_STANDARD_PARALLEL = "N/A"
  WESTERNMOST_LONGITUDE = 301.59
END_OBJECT = IMAGE_MAP_PROJECTION
/* The JPEG2000 image data file associated with this label. */
OBJECT = COMPRESSED_FILE
  FILE_NAME = "HC751_0000_P23.JP2"
  RECORD_TYPE = UNDEFINED
  FILE_RECORDS = UNK
  ENCODING_TYPE = "JP2"
  INTERCHANGE_FORMAT = BINARY
  UNCOMPRESSED_FILE_NAME = "HC751_0000_P23.IMG"
  REQUIRED_STORAGE_BYTES = "88534912"
  ^DESCRIPTION = "JP2INFO.TXT"
END_OBJECT = COMPRESSED_FILE
END
