PDS_VERSION_ID = PDS3
/* FILE DATA ELEMENTS */
RECORD_TYPE = STREAM
/* POINTERS TO DATA OBJECTS */
^COMPRESSED_FILE = "HC754_0000_ND3.JP2"
/* IDENTIFICATION DATA ELEMENTS */
DATA_SET_ID = "MEX-M-HRSC-5-REFDR-MAPPROJECTED-V3.0"
DATA_SET_NAME = "MARS EXPRESS HRSC MAP PROJECTED REFDR V3.0"
DETECTOR_ID = MEX_HRSC_NADIR
EVENT_TYPE = "MARS-REGIONAL-MAPPING-Im-Gl-Pf"
INSTRUMENT_HOST_ID = MEX
INSTRUMENT_HOST_NAME = "MARS EXPRESS"
INSTRUMENT_ID = HRSC
INSTRUMENT_NAME = "HIGH RESOLUTION STEREO CAMERA"
MISSION_NAME = "MARS EXPRESS"
MISSION_PHASE_NAME = ME_Phase_29
PROCESSING_LEVEL_ID = 3
PRODUCT_CREATION_TIME = 2016-10-29T02:00:08.000Z
PRODUCT_ID = "HC754_0000_ND3.JP2"
RELEASE_ID = 0121
REVISION_ID = 0000
/* QUALITY DATA ELEMENTS */
DATA_QUALITY_ID = 1
DATA_QUALITY_DESC = "Data calculated based on original SPICE kernels"
/* TIME DATA ELEMENTS */
SPACECRAFT_CLOCK_START_COUNT = "1/0337794274.09100"
SPACECRAFT_CLOCK_STOP_COUNT = "1/0337794441.15746"
START_TIME = 2014-01-14T15:45:12.626Z
STOP_TIME = 2014-01-14T15:46:41.609Z
/* ORBITAL DATA ELEMENTS */
ASCENDING_NODE_LONGITUDE = 334.32
MAXIMUM_RESOLUTION = 15.1
FOOTPRINT_POINT_LATITUDE = (-45.3686,-45.3677,-45.3659,-45.3634, -45.3602,-45.3563,-45.3505,-45.2385, -45.1264,-45.0144,-44.9025,-44.7906, -44.6787,-44.5669,-44.4552,-44.3434, -44.2318,-44.1201,-44.0085,-43.897, -43.7855,-43.6741,-43.5627,-43.4513, -43.34,-43.2288,-43.0065,-42.7843, -42.5624,-42.3406,-42.1191,-41.8424, -41.5661,-41.3963,-41.2829,-41.1697, -41.0564,-40.9433,-40.8302,-40.7171, -40.6041,-40.4912,-40.3783,-40.2054, -40.0898,-39.9741,-39.8586,-39.7431, -39.7225,-39.7244,-39.7256,-39.7266, -39.7277,-39.7284,-39.7285,-39.7284, -39.7275,-39.7849,-39.9007,-40.0165, -40.1324,-40.2483,-40.3641,-40.4772, -40.5904,-40.7036,-40.8168,-40.9301, -41.0435,-41.1569,-41.2704,-41.384, -41.4976,-41.61,-41.8315,-42.0532, -42.2751,-42.4972,-42.7195,-42.942, -43.0533,-43.1647,-43.2761,-43.4434, -43.5549,-43.7224,-43.834,-43.9457, -44.1134,-44.2252,-44.337,-44.449, -44.5609,-44.729,-44.8411,-44.9532, -45.0654,-45.1776,-45.2899,-45.3686)
FOOTPRINT_POINT_LONGITUDE = (358.569,358.261,357.957,357.657, 357.361,357.069,356.786,356.788,356.79, 356.792,356.794,356.796,356.797,356.799 ,356.801,356.803,356.804,356.806, 356.808,356.809,356.811,356.812,356.813 ,356.815,356.816,356.817,356.819, 356.822,356.824,356.825,356.827,356.829 ,356.83,356.831,356.832,356.832,356.833 ,356.833,356.833,356.834,356.834, 356.834,356.834,356.835,356.835,356.835 ,356.835,356.835,357.003,357.21,357.362 ,357.514,357.744,358.035,358.192, 358.349,358.647,358.797,358.796,358.795 ,358.793,358.792,358.79,358.789,358.788 ,358.786,358.785,358.784,358.783, 358.781,358.78,358.778,358.777,358.775, 358.772,358.769,358.766,358.763,358.76, 358.758,358.757,358.755,358.754,358.751 ,358.751,358.747,358.745,358.744, 358.742,358.744,358.743,358.741,358.74, 358.735,358.733,358.731,358.73,358.728, 358.726,358.569)
ORBIT_NUMBER = 12754
ORBITAL_ECCENTRICITY = 0.577
ORBITAL_INCLINATION = 86.89
ORBITAL_SEMIMAJOR_AXIS = 8777.12
PERIAPSIS_ALTITUDE = 330.13
PERIAPSIS_ARGUMENT_ANGLE = 298.57
PERIAPSIS_TIME = 2014-01-14T15:41:08.000Z
SPACECRAFT_ORIENTATION = (0.0,1.0,0.0)
^MEX_ORIENTATION_DESC = "MEX_ORIENTATION_DESC.TXT"
SPACECRAFT_POINTING_MODE = ACROSSTRACK
^MEX_POINTING_DESC = "MEX_POINTING_DESC.TXT"
RIGHT_ASCENSION = -1e+32
DECLINATION = -1e+32
OFFSET_ANGLE = -1.05
SPACECRAFT_SOLAR_DISTANCE = 2.49139e+08
TARGET_NAME = MARS
/* CAMERA DATA ELEMENTS */
DETECTOR_TEMPERATURE = 18.5744
FOCAL_PLANE_TEMPERATURE = 7.9716
INST_CMPRS_NAME = "DISCRETE COSINE TRANSFORMATION (DCT)"
INST_CMPRS_RATIO = 4.32639
INST_CMPRS_QUALITY = 0
INST_CMPRS_QUANTZ_TBL_ID = 0
INSTRUMENT_TEMPERATURE = 10.6223
LENS_TEMPERATURE = 8.5833
MACROPIXEL_SIZE = 1
MISSING_FRAMES = 0
PIXEL_SUBSAMPLING_FLAG = N
SIGNAL_CHAIN_ID = 0
/* RADIOMETRIC DATA ELEMENTS */
BANDWIDTH = 177.0
CENTER_FILTER_WAVELENGTH = 677.5
RADIANCE_OFFSET = 0.0791616
RADIANCE_SCALING_FACTOR = 0.0137627
REFLECTANCE_SCALING_FACTOR = 0.000453807
MEX:REFLECTANCE_OFFSET = 0.00261024
/* IMAGE OBJECT DEFINITIONS */
OBJECT = IMAGE
  INTERCHANGE_FORMAT = BINARY
  LINES = 26778
  LINE_SAMPLES = 7498
  SAMPLE_TYPE = UNSIGNED_INTEGER
  SAMPLE_BITS = 8
  BANDS = 1
  BAND_STORAGE_TYPE = BAND_SEQUENTIAL
  MAXIMUM = 255
  MEAN = 93.9743
  MINIMUM = 1
  STANDARD_DEVIATION = 19.4678
END_OBJECT = IMAGE
/* MAP OBJECT DEFINITIONS */
OBJECT = IMAGE_MAP_PROJECTION
  ^DATA_SET_MAP_PROJECTION_CATALOG= "DSMAP.CAT"
  A_AXIS_RADIUS = 3396.0
  B_AXIS_RADIUS = 3396.0
  C_AXIS_RADIUS = 3396.0
  CENTER_LATITUDE = 0.0
  CENTER_LONGITUDE = 358.0
  COORDINATE_SYSTEM_NAME = PLANETOGRAPHIC
  COORDINATE_SYSTEM_TYPE = "BODY-FIXED ROTATING"
  EASTERNMOST_LONGITUDE = 358.797
  FIRST_STANDARD_PARALLEL = "N/A"
  LINE_FIRST_PIXEL = 1
  LINE_LAST_PIXEL = 26778
  LINE_PROJECTION_OFFSET = -188349.0
  MAP_PROJECTION_ROTATION = 0.0
  MAP_PROJECTION_TYPE = SINUSOIDAL
  MAP_RESOLUTION = 4741.71043093333
  MAP_SCALE = 0.0125
  MAXIMUM_LATITUDE = -39.7225
  MINIMUM_LATITUDE = -45.3686
  POSITIVE_LONGITUDE_DIRECTION = EAST
  REFERENCE_LATITUDE = "N/A"
  REFERENCE_LONGITUDE = "N/A"
  SAMPLE_FIRST_PIXEL = 1
  SAMPLE_LAST_PIXEL = 7498
  SAMPLE_PROJECTION_OFFSET = 4277.0
  SECOND_STANDARD_PARALLEL = "N/A"
  WESTERNMOST_LONGITUDE = 356.786
END_OBJECT = IMAGE_MAP_PROJECTION
/* The JPEG2000 image data file associated with this label. */
OBJECT = COMPRESSED_FILE
  FILE_NAME = "HC754_0000_ND3.JP2"
  RECORD_TYPE = UNDEFINED
  FILE_RECORDS = UNK
  ENCODING_TYPE = "JP2"
  INTERCHANGE_FORMAT = BINARY
  UNCOMPRESSED_FILE_NAME = "HC754_0000_ND3.IMG"
  REQUIRED_STORAGE_BYTES = "200811436"
  ^DESCRIPTION = "JP2INFO.TXT"
END_OBJECT = COMPRESSED_FILE
END
