PDS_VERSION_ID = PDS3
/* FILE DATA ELEMENTS */
RECORD_TYPE = STREAM
/* POINTERS TO DATA OBJECTS */
^COMPRESSED_FILE = "HC755_0000_RE3.JP2"
/* IDENTIFICATION DATA ELEMENTS */
DATA_SET_ID = "MEX-M-HRSC-5-REFDR-MAPPROJECTED-V3.0"
DATA_SET_NAME = "MARS EXPRESS HRSC MAP PROJECTED REFDR V3.0"
DETECTOR_ID = MEX_HRSC_RED
EVENT_TYPE = "MARS-REGIONAL-MAPPING-Im-Fl-Pf"
INSTRUMENT_HOST_ID = MEX
INSTRUMENT_HOST_NAME = "MARS EXPRESS"
INSTRUMENT_ID = HRSC
INSTRUMENT_NAME = "HIGH RESOLUTION STEREO CAMERA"
MISSION_NAME = "MARS EXPRESS"
MISSION_PHASE_NAME = ME_Phase_29
PROCESSING_LEVEL_ID = 3
PRODUCT_CREATION_TIME = 2016-10-29T02:00:08.000Z
PRODUCT_ID = "HC755_0000_RE3.JP2"
RELEASE_ID = 0121
REVISION_ID = 0000
/* QUALITY DATA ELEMENTS */
DATA_QUALITY_ID = 1
DATA_QUALITY_DESC = "Data calculated based on original SPICE kernels"
/* TIME DATA ELEMENTS */
SPACECRAFT_CLOCK_START_COUNT = "1/0337819422.09042"
SPACECRAFT_CLOCK_STOP_COUNT = "1/0337819648.14792"
START_TIME = 2014-01-14T22:43:52.288Z
STOP_TIME = 2014-01-14T22:46:12.368Z
/* ORBITAL DATA ELEMENTS */
ASCENDING_NODE_LONGITUDE = 334.3
MAXIMUM_RESOLUTION = 120.2
FOOTPRINT_POINT_LATITUDE = (-46.3936,-46.3851,-46.3786,-46.3697, -46.3563,-46.3064,-46.1491,-45.9918, -45.6777,-45.4423,-45.1282,-44.9711, -44.798,-44.6107,-44.4233,-44.2361, -43.9554,-43.7681,-43.4877,-43.3006, -43.1138,-42.9269,-42.6467,-42.4597, -42.2731,-41.993,-41.8066,-41.6199, -41.3405,-41.154,-40.8747,-40.6884, -40.5023,-40.3161,-40.1301,-39.9441, -39.7581,-39.5725,-39.3867,-39.2009, -38.9201,-38.732,-38.5442,-38.3554, -38.1641,-37.9699,-37.7796,-37.493, -37.2948,-37.1238,-37.1323,-37.1489, -37.1542,-37.158,-37.1642,-37.2651, -37.4596,-37.6548,-37.8472,-38.0352, -38.2227,-38.4081,-38.5979,-38.7881, -39.073,-39.2585,-39.5376,-39.8172, -40.0938,-40.2822,-40.4683,-40.7481, -40.9347,-41.1214,-41.3082,-41.495, -41.7761,-42.0559,-42.2429,-42.5236, -42.7108,-42.8981,-43.0854,-43.3665, -43.554,-43.7414,-43.929,-44.1166, -44.3041,-44.4918,-44.6795,-44.958, -45.1153,-45.2727,-45.4302,-45.6662, -45.8236,-45.981,-46.1385,-46.3936)
FOOTPRINT_POINT_LONGITUDE = (254.827,254.378,254.095,253.762, 253.331,253.04,253.048,253.056,253.073, 253.085,253.1,253.107,253.116,253.124, 253.132,253.141,253.153,253.16,253.172, 253.179,253.186,253.193,253.203,253.21, 253.216,253.226,253.232,253.237,253.246 ,253.251,253.259,253.264,253.269, 253.274,253.279,253.283,253.287,253.292 ,253.296,253.3,253.305,253.31,253.314, 253.318,253.321,253.323,253.326,253.333 ,253.334,253.336,253.663,254.096, 254.372,254.596,255.008,255.172,255.167 ,255.162,255.158,255.153,255.149, 255.146,255.141,255.136,255.127,255.122 ,255.113,255.104,255.097,255.089, 255.083,255.074,255.068,255.061,255.055 ,255.048,255.038,255.028,255.021, 255.011,255.004,254.997,254.989,254.978 ,254.971,254.963,254.956,254.948,254.94 ,254.932,254.924,254.912,254.905, 254.898,254.891,254.88,254.873,254.866, 254.859,254.827)
ORBIT_NUMBER = 12755
ORBITAL_ECCENTRICITY = 0.577
ORBITAL_INCLINATION = 86.89
ORBITAL_SEMIMAJOR_AXIS = 8777.19
PERIAPSIS_ALTITUDE = 329.46
PERIAPSIS_ARGUMENT_ANGLE = 298.4
PERIAPSIS_TIME = 2014-01-14T22:40:28.000Z
SPACECRAFT_ORIENTATION = (0.0,1.0,0.0)
^MEX_ORIENTATION_DESC = "MEX_ORIENTATION_DESC.TXT"
SPACECRAFT_POINTING_MODE = NADIR
^MEX_POINTING_DESC = "MEX_POINTING_DESC.TXT"
RIGHT_ASCENSION = -1e+32
DECLINATION = -1e+32
OFFSET_ANGLE = -1e+32
SPACECRAFT_SOLAR_DISTANCE = 2.49133e+08
TARGET_NAME = MARS
/* CAMERA DATA ELEMENTS */
DETECTOR_TEMPERATURE = 18.9822
FOCAL_PLANE_TEMPERATURE = 8.1755
INST_CMPRS_NAME = "DISCRETE COSINE TRANSFORMATION (DCT)"
INST_CMPRS_RATIO = 13.2966
INST_CMPRS_QUALITY = 0
INST_CMPRS_QUANTZ_TBL_ID = 0
INSTRUMENT_TEMPERATURE = 11.4379
LENS_TEMPERATURE = 8.7872
MACROPIXEL_SIZE = 8
MISSING_FRAMES = 0
PIXEL_SUBSAMPLING_FLAG = N
SIGNAL_CHAIN_ID = 2
/* RADIOMETRIC DATA ELEMENTS */
BANDWIDTH = 48.0
CENTER_FILTER_WAVELENGTH = 748.0
RADIANCE_OFFSET = 0.113484
RADIANCE_SCALING_FACTOR = 0.00397353
REFLECTANCE_SCALING_FACTOR = 0.000562819
MEX:REFLECTANCE_OFFSET = 0.0160741
/* IMAGE OBJECT DEFINITIONS */
OBJECT = IMAGE
  INTERCHANGE_FORMAT = BINARY
  LINES = 5467
  LINE_SAMPLES = 1010
  SAMPLE_TYPE = UNSIGNED_INTEGER
  SAMPLE_BITS = 8
  BANDS = 1
  BAND_STORAGE_TYPE = BAND_SEQUENTIAL
  MAXIMUM = 255
  MEAN = 63.6399
  MINIMUM = 1
  STANDARD_DEVIATION = 21.535
END_OBJECT = IMAGE
/* MAP OBJECT DEFINITIONS */
OBJECT = IMAGE_MAP_PROJECTION
  ^DATA_SET_MAP_PROJECTION_CATALOG= "DSMAP.CAT"
  A_AXIS_RADIUS = 3396.0
  B_AXIS_RADIUS = 3396.0
  C_AXIS_RADIUS = 3396.0
  CENTER_LATITUDE = 0.0
  CENTER_LONGITUDE = 254.0
  COORDINATE_SYSTEM_NAME = PLANETOGRAPHIC
  COORDINATE_SYSTEM_TYPE = "BODY-FIXED ROTATING"
  EASTERNMOST_LONGITUDE = 255.172
  FIRST_STANDARD_PARALLEL = "N/A"
  LINE_FIRST_PIXEL = 1
  LINE_LAST_PIXEL = 5467
  LINE_PROJECTION_OFFSET = -21997.5625
  MAP_PROJECTION_ROTATION = 0.0
  MAP_PROJECTION_TYPE = SINUSOIDAL
  MAP_RESOLUTION = 592.713803866667
  MAP_SCALE = 0.1
  MAXIMUM_LATITUDE = -37.1238
  MINIMUM_LATITUDE = -46.3936
  POSITIVE_LONGITUDE_DIRECTION = EAST
  REFERENCE_LATITUDE = "N/A"
  REFERENCE_LONGITUDE = "N/A"
  SAMPLE_FIRST_PIXEL = 1
  SAMPLE_LAST_PIXEL = 1010
  SAMPLE_PROJECTION_OFFSET = 420.6875
  SECOND_STANDARD_PARALLEL = "N/A"
  WESTERNMOST_LONGITUDE = 253.04
END_OBJECT = IMAGE_MAP_PROJECTION
/* The JPEG2000 image data file associated with this label. */
OBJECT = COMPRESSED_FILE
  FILE_NAME = "HC755_0000_RE3.JP2"
  RECORD_TYPE = UNDEFINED
  FILE_RECORDS = UNK
  ENCODING_TYPE = "JP2"
  INTERCHANGE_FORMAT = BINARY
  UNCOMPRESSED_FILE_NAME = "HC755_0000_RE3.IMG"
  REQUIRED_STORAGE_BYTES = "5540860"
  ^DESCRIPTION = "JP2INFO.TXT"
END_OBJECT = COMPRESSED_FILE
END
