PDS_VERSION_ID = PDS3
/* FILE DATA ELEMENTS */
RECORD_TYPE = STREAM
/* POINTERS TO DATA OBJECTS */
^COMPRESSED_FILE = "HC758_0000_P13.JP2"
/* IDENTIFICATION DATA ELEMENTS */
DATA_SET_ID = "MEX-M-HRSC-5-REFDR-MAPPROJECTED-V3.0"
DATA_SET_NAME = "MARS EXPRESS HRSC MAP PROJECTED REFDR V3.0"
DETECTOR_ID = MEX_HRSC_P1
EVENT_TYPE = "MARS-REGIONAL-STEREO-Im-Gl-Pf"
INSTRUMENT_HOST_ID = MEX
INSTRUMENT_HOST_NAME = "MARS EXPRESS"
INSTRUMENT_ID = HRSC
INSTRUMENT_NAME = "HIGH RESOLUTION STEREO CAMERA"
MISSION_NAME = "MARS EXPRESS"
MISSION_PHASE_NAME = ME_Phase_29
PROCESSING_LEVEL_ID = 3
PRODUCT_CREATION_TIME = 2016-10-29T02:00:08.000Z
PRODUCT_ID = "HC758_0000_P13.JP2"
RELEASE_ID = 0121
REVISION_ID = 0000
/* QUALITY DATA ELEMENTS */
DATA_QUALITY_ID = 1
DATA_QUALITY_DESC = "Data calculated based on original SPICE kernels"
/* TIME DATA ELEMENTS */
SPACECRAFT_CLOCK_START_COUNT = "1/0337894898.09037"
SPACECRAFT_CLOCK_STOP_COUNT = "1/0337895108.50406"
START_TIME = 2014-01-15T19:42:38.887Z
STOP_TIME = 2014-01-15T19:44:55.370Z
/* ORBITAL DATA ELEMENTS */
ASCENDING_NODE_LONGITUDE = 334.25
MAXIMUM_RESOLUTION = 31.3
FOOTPRINT_POINT_LATITUDE = (-46.6983,-46.6909,-46.6803,-46.673, -46.6641,-46.6976,-46.5291,-46.3679, -46.1311,-45.8914,-45.7295,-45.568, -45.3192,-45.1528,-44.9904,-44.6735, -44.5114,-44.2722,-44.1101,-43.9499, -43.7914,-43.6312,-43.4701,-43.1539, -42.9905,-42.8248,-42.6613,-42.3403, -42.1758,-42.0133,-41.8472,-41.6819, -41.5185,-41.3519,-41.1853,-41.0189, -40.8505,-40.6804,-40.5099,-40.3406, -40.1721,-40.0038,-39.8311,-39.5722, -39.4001,-39.2276,-39.0564,-38.8813, -38.7063,-38.534,-38.4491,-38.4558, -38.4593,-38.4607,-38.4644,-38.4655, -38.6402,-38.8163,-38.9951,-39.1741, -39.3477,-39.606,-39.7786,-39.9525, -40.1236,-40.2927,-40.458,-40.6275, -40.882,-41.0486,-41.2134,-41.377, -41.5375,-41.7098,-41.8802,-42.1273, -42.2945,-42.4585,-42.7006,-42.8625, -43.0227,-43.1903,-43.438,-43.5975, -43.758,-43.9178,-44.1541,-44.47, -44.631,-44.7973,-44.9625,-45.1247, -45.286,-45.4458,-45.6042,-45.8389, -46.1591,-46.3264,-46.5776,-46.6983)
FOOTPRINT_POINT_LONGITUDE = (308.08,307.693,307.215,306.921,306.589 ,306.332,306.345,306.352,306.36,306.369 ,306.377,306.385,306.401,306.412,306.42 ,306.43,306.438,306.446,306.454,306.46, 306.465,306.471,306.478,306.488,306.493 ,306.5,306.506,306.512,306.519,306.523, 306.527,306.531,306.534,306.539,306.543 ,306.548,306.552,306.556,306.561, 306.565,306.568,306.571,306.575,306.58, 306.583,306.586,306.589,306.591,306.594 ,306.594,306.891,307.344,307.64,307.975 ,308.35,308.632,308.626,308.62,308.616, 308.613,308.608,308.599,308.593,308.587 ,308.582,308.576,308.567,308.561, 308.551,308.543,308.536,308.528,308.518 ,308.515,308.511,308.5,308.496,308.49, 308.478,308.471,308.461,308.457,308.452 ,308.445,308.438,308.431,308.417, 308.399,308.392,308.388,308.383,308.376 ,308.368,308.359,308.349,308.332, 308.313,308.307,308.3,308.08)
ORBIT_NUMBER = 12758
ORBITAL_ECCENTRICITY = 0.577
ORBITAL_INCLINATION = 86.89
ORBITAL_SEMIMAJOR_AXIS = 8774.98
PERIAPSIS_ALTITUDE = 330.05
PERIAPSIS_ARGUMENT_ANGLE = 297.93
PERIAPSIS_TIME = 2014-01-15T19:38:23.000Z
SPACECRAFT_ORIENTATION = (0.0,1.0,0.0)
^MEX_ORIENTATION_DESC = "MEX_ORIENTATION_DESC.TXT"
SPACECRAFT_POINTING_MODE = NADIR
^MEX_POINTING_DESC = "MEX_POINTING_DESC.TXT"
RIGHT_ASCENSION = -1e+32
DECLINATION = -1e+32
OFFSET_ANGLE = -1e+32
SPACECRAFT_SOLAR_DISTANCE = 2.49117e+08
TARGET_NAME = MARS
/* CAMERA DATA ELEMENTS */
DETECTOR_TEMPERATURE = 17.7588
FOCAL_PLANE_TEMPERATURE = 8.1755
INST_CMPRS_NAME = "DISCRETE COSINE TRANSFORMATION (DCT)"
INST_CMPRS_RATIO = 8.87363
INST_CMPRS_QUALITY = 0
INST_CMPRS_QUANTZ_TBL_ID = 0
INSTRUMENT_TEMPERATURE = 11.6418
LENS_TEMPERATURE = 8.5833
MACROPIXEL_SIZE = 2
MISSING_FRAMES = 0
PIXEL_SUBSAMPLING_FLAG = N
SIGNAL_CHAIN_ID = 3
/* RADIOMETRIC DATA ELEMENTS */
BANDWIDTH = 174.0
CENTER_FILTER_WAVELENGTH = 675.0
RADIANCE_OFFSET = 0.192216
RADIANCE_SCALING_FACTOR = 0.0107415
REFLECTANCE_SCALING_FACTOR = 0.000358556
MEX:REFLECTANCE_OFFSET = 0.00641626
/* IMAGE OBJECT DEFINITIONS */
OBJECT = IMAGE
  INTERCHANGE_FORMAT = BINARY
  LINES = 19664
  LINE_SAMPLES = 4095
  SAMPLE_TYPE = UNSIGNED_INTEGER
  SAMPLE_BITS = 8
  BANDS = 1
  BAND_STORAGE_TYPE = BAND_SEQUENTIAL
  MAXIMUM = 255
  MEAN = 100.55
  MINIMUM = 1
  STANDARD_DEVIATION = 32.6671
END_OBJECT = IMAGE
/* MAP OBJECT DEFINITIONS */
OBJECT = IMAGE_MAP_PROJECTION
  ^DATA_SET_MAP_PROJECTION_CATALOG= "DSMAP.CAT"
  A_AXIS_RADIUS = 3396.0
  B_AXIS_RADIUS = 3396.0
  C_AXIS_RADIUS = 3396.0
  CENTER_LATITUDE = 0.0
  CENTER_LONGITUDE = 307.0
  COORDINATE_SYSTEM_NAME = PLANETOGRAPHIC
  COORDINATE_SYSTEM_TYPE = "BODY-FIXED ROTATING"
  EASTERNMOST_LONGITUDE = 308.632
  FIRST_STANDARD_PARALLEL = "N/A"
  LINE_FIRST_PIXEL = 1
  LINE_LAST_PIXEL = 19664
  LINE_PROJECTION_OFFSET = -91165.25
  MAP_PROJECTION_ROTATION = 0.0
  MAP_PROJECTION_TYPE = SINUSOIDAL
  MAP_RESOLUTION = 2370.85521546667
  MAP_SCALE = 0.025
  MAXIMUM_LATITUDE = -38.4491
  MINIMUM_LATITUDE = -46.6983
  POSITIVE_LONGITUDE_DIRECTION = EAST
  REFERENCE_LATITUDE = "N/A"
  REFERENCE_LONGITUDE = "N/A"
  SAMPLE_FIRST_PIXEL = 1
  SAMPLE_LAST_PIXEL = 4095
  SAMPLE_PROJECTION_OFFSET = 1083.25
  SECOND_STANDARD_PARALLEL = "N/A"
  WESTERNMOST_LONGITUDE = 306.332
END_OBJECT = IMAGE_MAP_PROJECTION
/* The JPEG2000 image data file associated with this label. */
OBJECT = COMPRESSED_FILE
  FILE_NAME = "HC758_0000_P13.JP2"
  RECORD_TYPE = UNDEFINED
  FILE_RECORDS = UNK
  ENCODING_TYPE = "JP2"
  INTERCHANGE_FORMAT = BINARY
  UNCOMPRESSED_FILE_NAME = "HC758_0000_P13.IMG"
  REQUIRED_STORAGE_BYTES = "80548650"
  ^DESCRIPTION = "JP2INFO.TXT"
END_OBJECT = COMPRESSED_FILE
END
