PDS_VERSION_ID = PDS3
/* FILE DATA ELEMENTS */
RECORD_TYPE = STREAM
/* POINTERS TO DATA OBJECTS */
^COMPRESSED_FILE = "HC761_0000_GR3.JP2"
/* IDENTIFICATION DATA ELEMENTS */
DATA_SET_ID = "MEX-M-HRSC-5-REFDR-MAPPROJECTED-V3.0"
DATA_SET_NAME = "MARS EXPRESS HRSC MAP PROJECTED REFDR V3.0"
DETECTOR_ID = MEX_HRSC_GREEN
EVENT_TYPE = "MARS-CLOUD-VARIABLE-At"
INSTRUMENT_HOST_ID = MEX
INSTRUMENT_HOST_NAME = "MARS EXPRESS"
INSTRUMENT_ID = HRSC
INSTRUMENT_NAME = "HIGH RESOLUTION STEREO CAMERA"
MISSION_NAME = "MARS EXPRESS"
MISSION_PHASE_NAME = ME_Phase_29
PROCESSING_LEVEL_ID = 3
PRODUCT_CREATION_TIME = 2016-10-29T02:00:08.000Z
PRODUCT_ID = "HC761_0000_GR3.JP2"
RELEASE_ID = 0121
REVISION_ID = 0000
/* QUALITY DATA ELEMENTS */
DATA_QUALITY_ID = 1
DATA_QUALITY_DESC = "Data calculated based on original SPICE kernels"
/* TIME DATA ELEMENTS */
SPACECRAFT_CLOCK_START_COUNT = "1/0337970794.09043"
SPACECRAFT_CLOCK_STOP_COUNT = "1/0337971923.54057"
START_TIME = 2014-01-16T16:47:49.872Z
STOP_TIME = 2014-01-16T17:05:26.699Z
/* ORBITAL DATA ELEMENTS */
ASCENDING_NODE_LONGITUDE = 334.19
MAXIMUM_RESOLUTION = 112.2
FOOTPRINT_POINT_LATITUDE = (-20.2714,-20.2855,-20.2921,-19.1917, -18.1037,-17.0287,-15.9668,-14.9179, -13.8816,-12.8588,-11.8484,-10.8511, -9.86658,-8.89467,-7.93512,-6.98859, -6.0542,-5.13253,-4.2229,-3.32532, -2.4396,-1.54988,-0.688188,0.161759, 1.00036,1.82742,2.64347,3.44822,4.24204 ,5.02534,5.80483,6.56691,7.31863, 8.05977,8.791,9.51255,10.2244,10.9259, 11.6195,12.301,12.9748,13.6425,14.9464, 16.2171,17.4532,18.6587,19.8322,20.4761 ,20.5425,20.6398,20.7206,20.8025, 20.8752,20.9228,20.9523,19.7685,18.5546 ,17.3094,16.0318,14.7211,13.3758, 12.6898,11.9947,11.2905,10.5768,9.85355 ,9.12125,8.37887,7.62647,6.86424, 6.09151,5.30148,4.50811,3.70393,2.88919 ,2.06359,1.2269,0.378996,-0.480195, -1.35076,-2.24916,-3.14295,-4.04879, -4.96661,-5.89655,-6.83851,-7.79244, -8.75908,-9.73771,-10.7304,-11.7337, -12.7504,-13.7796,-14.8216,-15.8763, -16.9432,-18.024,-19.1171,-20.2225, -20.2714)
FOOTPRINT_POINT_LONGITUDE = (361.699,360.531,359.749,359.7,359.649, 359.596,359.54,359.481,359.422,359.358, 359.294,359.227,359.159,359.088,359.017 ,358.942,358.867,358.789,358.71,358.63, 358.548,358.463,358.378,358.291,358.204 ,358.114,358.024,357.932,357.839, 357.744,357.648,357.551,357.453,357.354 ,357.253,357.151,357.049,356.944, 356.841,356.731,356.624,356.52,356.3, 356.078,355.85,355.621,355.386,355.795, 356.562,357.786,358.931,359.995,361.61, 362.688,363.487,363.417,363.349,363.285 ,363.224,363.165,363.11,363.083,363.057 ,363.032,363.008,362.985,362.961, 362.939,362.918,362.896,362.876,362.856 ,362.837,362.818,362.8,362.782,362.764, 362.747,362.731,362.714,362.698,362.682 ,362.666,362.651,362.637,362.622, 362.607,362.593,362.577,362.566,362.55, 362.535,362.52,362.505,362.49,362.473, 362.459,362.442,362.425,361.699)
ORBIT_NUMBER = 12761
ORBITAL_ECCENTRICITY = 0.577
ORBITAL_INCLINATION = 86.89
ORBITAL_SEMIMAJOR_AXIS = 8775.64
PERIAPSIS_ALTITUDE = 330.02
PERIAPSIS_ARGUMENT_ANGLE = 297.39
PERIAPSIS_TIME = 2014-01-16T16:36:11.000Z
SPACECRAFT_ORIENTATION = (0.0,1.0,0.0)
^MEX_ORIENTATION_DESC = "MEX_ORIENTATION_DESC.TXT"
SPACECRAFT_POINTING_MODE = NADIR
^MEX_POINTING_DESC = "MEX_POINTING_DESC.TXT"
RIGHT_ASCENSION = -1e+32
DECLINATION = -1e+32
OFFSET_ANGLE = -1e+32
SPACECRAFT_SOLAR_DISTANCE = 2.491e+08
TARGET_NAME = MARS
/* CAMERA DATA ELEMENTS */
DETECTOR_TEMPERATURE = 18.7783
FOCAL_PLANE_TEMPERATURE = 9.195
INST_CMPRS_NAME = "DISCRETE COSINE TRANSFORMATION (DCT)"
INST_CMPRS_RATIO = 19.8819
INST_CMPRS_QUALITY = 0
INST_CMPRS_QUANTZ_TBL_ID = 0
INSTRUMENT_TEMPERATURE = 11.8457
LENS_TEMPERATURE = 9.6028
MACROPIXEL_SIZE = 4
MISSING_FRAMES = 3
PIXEL_SUBSAMPLING_FLAG = N
SIGNAL_CHAIN_ID = 2
/* RADIOMETRIC DATA ELEMENTS */
BANDWIDTH = 88.0
CENTER_FILTER_WAVELENGTH = 538.0
RADIANCE_OFFSET = 0.708248
RADIANCE_SCALING_FACTOR = 0.00833233
REFLECTANCE_SCALING_FACTOR = 0.000445148
MEX:REFLECTANCE_OFFSET = 0.0378376
/* IMAGE OBJECT DEFINITIONS */
OBJECT = IMAGE
  INTERCHANGE_FORMAT = BINARY
  LINES = 24457
  LINE_SAMPLES = 4166
  SAMPLE_TYPE = UNSIGNED_INTEGER
  SAMPLE_BITS = 8
  BANDS = 1
  BAND_STORAGE_TYPE = BAND_SEQUENTIAL
  MAXIMUM = 255
  MEAN = 141.67
  MINIMUM = 1
  STANDARD_DEVIATION = 41.8671
END_OBJECT = IMAGE
/* MAP OBJECT DEFINITIONS */
OBJECT = IMAGE_MAP_PROJECTION
  ^DATA_SET_MAP_PROJECTION_CATALOG= "DSMAP.CAT"
  A_AXIS_RADIUS = 3396.0
  B_AXIS_RADIUS = 3396.0
  C_AXIS_RADIUS = 3396.0
  CENTER_LATITUDE = 0.0
  CENTER_LONGITUDE = 0.0
  COORDINATE_SYSTEM_NAME = PLANETOGRAPHIC
  COORDINATE_SYSTEM_TYPE = "BODY-FIXED ROTATING"
  EASTERNMOST_LONGITUDE = 3.487
  FIRST_STANDARD_PARALLEL = "N/A"
  LINE_FIRST_PIXEL = 1
  LINE_LAST_PIXEL = 24457
  LINE_PROJECTION_OFFSET = 12427.0
  MAP_PROJECTION_ROTATION = 0.0
  MAP_PROJECTION_TYPE = SINUSOIDAL
  MAP_RESOLUTION = 592.713803866667
  MAP_SCALE = 0.1
  MAXIMUM_LATITUDE = 20.9523
  MINIMUM_LATITUDE = -20.2921
  POSITIVE_LONGITUDE_DIRECTION = EAST
  REFERENCE_LATITUDE = "N/A"
  REFERENCE_LONGITUDE = "N/A"
  SAMPLE_FIRST_PIXEL = 1
  SAMPLE_LAST_PIXEL = 4166
  SAMPLE_PROJECTION_OFFSET = 2435.0
  SECOND_STANDARD_PARALLEL = "N/A"
  WESTERNMOST_LONGITUDE = -4.614
END_OBJECT = IMAGE_MAP_PROJECTION
/* The JPEG2000 image data file associated with this label. */
OBJECT = COMPRESSED_FILE
  FILE_NAME = "HC761_0000_GR3.JP2"
  RECORD_TYPE = UNDEFINED
  FILE_RECORDS = UNK
  ENCODING_TYPE = "JP2"
  INTERCHANGE_FORMAT = BINARY
  UNCOMPRESSED_FILE_NAME = "HC761_0000_GR3.IMG"
  REQUIRED_STORAGE_BYTES = "101912858"
  ^DESCRIPTION = "JP2INFO.TXT"
END_OBJECT = COMPRESSED_FILE
END
