PDS_VERSION_ID = PDS3
/* FILE DATA ELEMENTS */
RECORD_TYPE = STREAM
/* POINTERS TO DATA OBJECTS */
^COMPRESSED_FILE = "HC762_0000_ND3.JP2"
/* IDENTIFICATION DATA ELEMENTS */
DATA_SET_ID = "MEX-M-HRSC-5-REFDR-MAPPROJECTED-V3.0"
DATA_SET_NAME = "MARS EXPRESS HRSC MAP PROJECTED REFDR V3.0"
DETECTOR_ID = MEX_HRSC_NADIR
EVENT_TYPE = "MARS-REGIONAL-MAPPING-Im-Fl-Pf"
INSTRUMENT_HOST_ID = MEX
INSTRUMENT_HOST_NAME = "MARS EXPRESS"
INSTRUMENT_ID = HRSC
INSTRUMENT_NAME = "HIGH RESOLUTION STEREO CAMERA"
MISSION_NAME = "MARS EXPRESS"
MISSION_PHASE_NAME = ME_Phase_29
PROCESSING_LEVEL_ID = 3
PRODUCT_CREATION_TIME = 2016-10-29T02:00:08.000Z
PRODUCT_ID = "HC762_0000_ND3.JP2"
RELEASE_ID = 0121
REVISION_ID = 0000
/* QUALITY DATA ELEMENTS */
DATA_QUALITY_ID = 1
DATA_QUALITY_DESC = "Data calculated based on original SPICE kernels"
/* TIME DATA ELEMENTS */
SPACECRAFT_CLOCK_START_COUNT = "1/0337995550.09085"
SPACECRAFT_CLOCK_STOP_COUNT = "1/0337995764.41059"
START_TIME = 2014-01-16T23:39:48.767Z
STOP_TIME = 2014-01-16T23:42:00.759Z
/* ORBITAL DATA ELEMENTS */
ASCENDING_NODE_LONGITUDE = 334.17
MAXIMUM_RESOLUTION = 15.2
FOOTPRINT_POINT_LATITUDE = (-45.8267,-45.8187,-45.8077,-45.7953, -45.7838,-45.6226,-45.4615,-45.3004, -45.1395,-44.9786,-44.8179,-44.6573, -44.4967,-44.3363,-44.1759,-44.0157, -43.8556,-43.5356,-43.2161,-42.8969, -42.5783,-42.26,-42.0981,-41.9349, -41.7719,-41.6091,-41.4464,-41.2838, -41.1213,-40.8735,-40.7072,-40.5408, -40.3747,-40.2086,-40.0427,-39.7896, -39.6197,-39.4499,-39.2804,-39.111, -38.9418,-38.7687,-38.5089,-38.336, -38.1633,-37.9907,-37.7267,-37.5503, -37.5351,-37.5415,-37.5453,-37.5489, -37.5512,-37.5542,-37.6443,-37.8212, -37.9978,-38.1708,-38.3439,-38.5172, -38.6907,-38.8643,-39.0363,-39.206, -39.3759,-39.5459,-39.716,-39.8863, -40.0553,-40.2216,-40.3881,-40.5547, -40.7215,-40.8884,-41.1373,-41.3001, -41.4631,-41.6262,-41.7894,-41.9527, -42.1162,-42.2789,-42.5979,-42.9172, -43.237,-43.5573,-43.7176,-43.878, -44.0385,-44.1991,-44.3598,-44.5206, -44.6815,-44.8425,-45.0036,-45.1648, -45.3261,-45.4875,-45.649,-45.8267)
FOOTPRINT_POINT_LONGITUDE = (259.306,258.882,258.403,257.943, 257.602,257.609,257.617,257.624,257.632 ,257.639,257.646,257.653,257.659, 257.666,257.672,257.679,257.685,257.697 ,257.708,257.719,257.729,257.739, 257.744,257.749,257.754,257.759,257.765 ,257.77,257.774,257.782,257.787,257.791 ,257.795,257.799,257.802,257.807,257.81 ,257.812,257.815,257.818,257.821, 257.824,257.828,257.83,257.833,257.835, 257.839,257.841,258.095,258.465,258.72, 258.994,259.209,259.583,259.823,259.817 ,259.812,259.807,259.801,259.796,259.79 ,259.785,259.78,259.774,259.768,259.762 ,259.756,259.75,259.744,259.738,259.731 ,259.725,259.717,259.71,259.702,259.697 ,259.692,259.686,259.681,259.675,259.67 ,259.665,259.652,259.64,259.627,259.614 ,259.607,259.6,259.593,259.586,259.579, 259.571,259.564,259.557,259.549,259.542 ,259.534,259.526,259.518,259.306)
ORBIT_NUMBER = 12762
ORBITAL_ECCENTRICITY = 0.577
ORBITAL_INCLINATION = 86.89
ORBITAL_SEMIMAJOR_AXIS = 8775.4
PERIAPSIS_ALTITUDE = 329.36
PERIAPSIS_ARGUMENT_ANGLE = 297.22
PERIAPSIS_TIME = 2014-01-16T23:35:30.000Z
SPACECRAFT_ORIENTATION = (0.0,1.0,0.0)
^MEX_ORIENTATION_DESC = "MEX_ORIENTATION_DESC.TXT"
SPACECRAFT_POINTING_MODE = NADIR
^MEX_POINTING_DESC = "MEX_POINTING_DESC.TXT"
RIGHT_ASCENSION = -1e+32
DECLINATION = -1e+32
OFFSET_ANGLE = -1e+32
SPACECRAFT_SOLAR_DISTANCE = 2.49094e+08
TARGET_NAME = MARS
/* CAMERA DATA ELEMENTS */
DETECTOR_TEMPERATURE = 18.7783
FOCAL_PLANE_TEMPERATURE = 8.7872
INST_CMPRS_NAME = "DISCRETE COSINE TRANSFORMATION (DCT)"
INST_CMPRS_RATIO = 6.26601
INST_CMPRS_QUALITY = 0
INST_CMPRS_QUANTZ_TBL_ID = 0
INSTRUMENT_TEMPERATURE = 11.4379
LENS_TEMPERATURE = 9.3989
MACROPIXEL_SIZE = 1
MISSING_FRAMES = 0
PIXEL_SUBSAMPLING_FLAG = N
SIGNAL_CHAIN_ID = 0
/* RADIOMETRIC DATA ELEMENTS */
BANDWIDTH = 177.0
CENTER_FILTER_WAVELENGTH = 677.5
RADIANCE_OFFSET = 0.500641
RADIANCE_SCALING_FACTOR = 0.00959835
REFLECTANCE_SCALING_FACTOR = 0.000316379
MEX:REFLECTANCE_OFFSET = 0.016502
/* IMAGE OBJECT DEFINITIONS */
OBJECT = IMAGE
  INTERCHANGE_FORMAT = BINARY
  LINES = 39363
  LINE_SAMPLES = 7927
  SAMPLE_TYPE = UNSIGNED_INTEGER
  SAMPLE_BITS = 8
  BANDS = 1
  BAND_STORAGE_TYPE = BAND_SEQUENTIAL
  MAXIMUM = 255
  MEAN = 99.9637
  MINIMUM = 1
  STANDARD_DEVIATION = 29.6741
END_OBJECT = IMAGE
/* MAP OBJECT DEFINITIONS */
OBJECT = IMAGE_MAP_PROJECTION
  ^DATA_SET_MAP_PROJECTION_CATALOG= "DSMAP.CAT"
  A_AXIS_RADIUS = 3396.0
  B_AXIS_RADIUS = 3396.0
  C_AXIS_RADIUS = 3396.0
  CENTER_LATITUDE = 0.0
  CENTER_LONGITUDE = 259.0
  COORDINATE_SYSTEM_NAME = PLANETOGRAPHIC
  COORDINATE_SYSTEM_TYPE = "BODY-FIXED ROTATING"
  EASTERNMOST_LONGITUDE = 259.823
  FIRST_STANDARD_PARALLEL = "N/A"
  LINE_FIRST_PIXEL = 1
  LINE_LAST_PIXEL = 39363
  LINE_PROJECTION_OFFSET = -177950.0
  MAP_PROJECTION_ROTATION = 0.0
  MAP_PROJECTION_TYPE = SINUSOIDAL
  MAP_RESOLUTION = 4741.71043093333
  MAP_SCALE = 0.0125
  MAXIMUM_LATITUDE = -37.5351
  MINIMUM_LATITUDE = -45.8267
  POSITIVE_LONGITUDE_DIRECTION = EAST
  REFERENCE_LATITUDE = "N/A"
  REFERENCE_LONGITUDE = "N/A"
  SAMPLE_FIRST_PIXEL = 1
  SAMPLE_LAST_PIXEL = 7927
  SAMPLE_PROJECTION_OFFSET = 4725.0
  SECOND_STANDARD_PARALLEL = "N/A"
  WESTERNMOST_LONGITUDE = 257.602
END_OBJECT = IMAGE_MAP_PROJECTION
/* The JPEG2000 image data file associated with this label. */
OBJECT = COMPRESSED_FILE
  FILE_NAME = "HC762_0000_ND3.JP2"
  RECORD_TYPE = UNDEFINED
  FILE_RECORDS = UNK
  ENCODING_TYPE = "JP2"
  INTERCHANGE_FORMAT = BINARY
  UNCOMPRESSED_FILE_NAME = "HC762_0000_ND3.IMG"
  REQUIRED_STORAGE_BYTES = "312062209"
  ^DESCRIPTION = "JP2INFO.TXT"
END_OBJECT = COMPRESSED_FILE
END
