PDS_VERSION_ID = PDS3
/* FILE DATA ELEMENTS */
RECORD_TYPE = STREAM
/* POINTERS TO DATA OBJECTS */
^COMPRESSED_FILE = "HC763_0000_GR3.JP2"
/* IDENTIFICATION DATA ELEMENTS */
DATA_SET_ID = "MEX-M-HRSC-5-REFDR-MAPPROJECTED-V3.0"
DATA_SET_NAME = "MARS EXPRESS HRSC MAP PROJECTED REFDR V3.0"
DETECTOR_ID = MEX_HRSC_GREEN
EVENT_TYPE = "MARS-REGIONAL-MAPPING-Im-Fl-Pf"
INSTRUMENT_HOST_ID = MEX
INSTRUMENT_HOST_NAME = "MARS EXPRESS"
INSTRUMENT_ID = HRSC
INSTRUMENT_NAME = "HIGH RESOLUTION STEREO CAMERA"
MISSION_NAME = "MARS EXPRESS"
MISSION_PHASE_NAME = ME_Phase_29
PROCESSING_LEVEL_ID = 3
PRODUCT_CREATION_TIME = 2016-10-29T02:00:08.000Z
PRODUCT_ID = "HC763_0000_GR3.JP2"
RELEASE_ID = 0121
REVISION_ID = 0000
/* QUALITY DATA ELEMENTS */
DATA_QUALITY_ID = 1
DATA_QUALITY_DESC = "Data calculated based on original SPICE kernels"
/* TIME DATA ELEMENTS */
SPACECRAFT_CLOCK_START_COUNT = "1/0338020772.08312"
SPACECRAFT_CLOCK_STOP_COUNT = "1/0338021029.15056"
START_TIME = 2014-01-17T06:40:20.659Z
STOP_TIME = 2014-01-17T06:43:03.913Z
/* ORBITAL DATA ELEMENTS */
ASCENDING_NODE_LONGITUDE = 334.15
MAXIMUM_RESOLUTION = 67
FOOTPRINT_POINT_LATITUDE = (-41.7132,-41.7096,-41.7038,-41.6988, -41.6916,-41.6848,-41.4168,-40.9704, -40.703,-40.5224,-40.34,-40.1578, -39.9757,-39.7938,-39.519,-39.333, -39.1472,-38.9617,-38.7765,-38.4952, -38.3059,-38.1168,-37.9279,-37.7392, -37.4504,-37.2578,-37.0654,-36.8732, -36.5797,-36.3837,-36.188,-35.8927, -35.6938,-35.3949,-35.1954,-34.9931, -34.7903,-34.588,-34.2828,-34.0767, -33.871,-33.6655,-33.3523,-33.1432, -32.9346,-32.6164,-32.4041,-32.1922, -31.9763,-31.8881,-31.8908,-31.8939, -31.8953,-31.896,-31.8956,-32.2208, -32.4335,-32.6465,-32.9652,-33.1746, -33.3842,-33.6977,-33.9036,-34.2131, -34.4194,-34.6224,-34.8256,-35.0292, -35.2321,-35.4315,-35.6313,-35.8312, -36.0307,-36.2268,-36.423,-36.6195, -36.9134,-37.1059,-37.2986,-37.4917, -37.7809,-37.97,-38.1595,-38.349, -38.539,-38.7274,-38.9133,-39.1918, -39.378,-39.6573,-39.8393,-40.0218, -40.2045,-40.3869,-40.5697,-40.7508, -41.1082,-41.4666,-41.646,-41.7132)
FOOTPRINT_POINT_LONGITUDE = (157.266,156.998,156.64,156.372,156.032 ,155.745,155.551,155.562,155.568, 155.572,155.575,155.579,155.583,155.587 ,155.592,155.595,155.598,155.601, 155.604,155.608,155.611,155.613,155.615 ,155.617,155.62,155.622,155.624,155.626 ,155.628,155.629,155.63,155.631,155.63, 155.631,155.633,155.634,155.634,155.633 ,155.633,155.633,155.632,155.631, 155.629,155.628,155.627,155.624,155.623 ,155.621,155.619,155.922,156.206, 156.632,156.937,157.363,157.688,157.788 ,157.784,157.778,157.77,157.765,157.76, 157.751,157.745,157.737,157.731,157.726 ,157.721,157.717,157.712,157.707, 157.701,157.695,157.689,157.684,157.678 ,157.672,157.663,157.657,157.651, 157.645,157.636,157.63,157.624,157.618, 157.612,157.605,157.6,157.59,157.583, 157.574,157.567,157.561,157.555,157.547 ,157.541,157.534,157.521,157.508, 157.501,157.266)
ORBIT_NUMBER = 12763
ORBITAL_ECCENTRICITY = 0.577
ORBITAL_INCLINATION = 86.89
ORBITAL_SEMIMAJOR_AXIS = 8776.36
PERIAPSIS_ALTITUDE = 330.56
PERIAPSIS_ARGUMENT_ANGLE = 297.07
PERIAPSIS_TIME = 2014-01-17T06:34:48.000Z
SPACECRAFT_ORIENTATION = (0.0,1.0,0.0)
^MEX_ORIENTATION_DESC = "MEX_ORIENTATION_DESC.TXT"
SPACECRAFT_POINTING_MODE = NADIR
^MEX_POINTING_DESC = "MEX_POINTING_DESC.TXT"
RIGHT_ASCENSION = -1e+32
DECLINATION = -1e+32
OFFSET_ANGLE = -1e+32
SPACECRAFT_SOLAR_DISTANCE = 2.49088e+08
TARGET_NAME = MARS
/* CAMERA DATA ELEMENTS */
DETECTOR_TEMPERATURE = 18.5744
FOCAL_PLANE_TEMPERATURE = 9.3989
INST_CMPRS_NAME = "DISCRETE COSINE TRANSFORMATION (DCT)"
INST_CMPRS_RATIO = 4.39685
INST_CMPRS_QUALITY = 0
INST_CMPRS_QUANTZ_TBL_ID = 0
INSTRUMENT_TEMPERATURE = 11.8457
LENS_TEMPERATURE = 8.5833
MACROPIXEL_SIZE = 4
MISSING_FRAMES = 0
PIXEL_SUBSAMPLING_FLAG = N
SIGNAL_CHAIN_ID = 2
/* RADIOMETRIC DATA ELEMENTS */
BANDWIDTH = 88.0
CENTER_FILTER_WAVELENGTH = 538.0
RADIANCE_OFFSET = 0.0938831
RADIANCE_SCALING_FACTOR = 0.00481452
REFLECTANCE_SCALING_FACTOR = 0.000257186
MEX:REFLECTANCE_OFFSET = 0.00501513
/* IMAGE OBJECT DEFINITIONS */
OBJECT = IMAGE
  INTERCHANGE_FORMAT = BINARY
  LINES = 11664
  LINE_SAMPLES = 2244
  SAMPLE_TYPE = UNSIGNED_INTEGER
  SAMPLE_BITS = 8
  BANDS = 1
  BAND_STORAGE_TYPE = BAND_SEQUENTIAL
  MAXIMUM = 255
  MEAN = 119.246
  MINIMUM = 1
  STANDARD_DEVIATION = 20.5777
END_OBJECT = IMAGE
/* MAP OBJECT DEFINITIONS */
OBJECT = IMAGE_MAP_PROJECTION
  ^DATA_SET_MAP_PROJECTION_CATALOG= "DSMAP.CAT"
  A_AXIS_RADIUS = 3396.0
  B_AXIS_RADIUS = 3396.0
  C_AXIS_RADIUS = 3396.0
  CENTER_LATITUDE = 0.0
  CENTER_LONGITUDE = 157.0
  COORDINATE_SYSTEM_NAME = PLANETOGRAPHIC
  COORDINATE_SYSTEM_TYPE = "BODY-FIXED ROTATING"
  EASTERNMOST_LONGITUDE = 157.788
  FIRST_STANDARD_PARALLEL = "N/A"
  LINE_FIRST_PIXEL = 1
  LINE_LAST_PIXEL = 11664
  LINE_PROJECTION_OFFSET = -37808.875
  MAP_PROJECTION_ROTATION = 0.0
  MAP_PROJECTION_TYPE = SINUSOIDAL
  MAP_RESOLUTION = 1185.42760773333
  MAP_SCALE = 0.05
  MAXIMUM_LATITUDE = -31.8881
  MINIMUM_LATITUDE = -41.7132
  POSITIVE_LONGITUDE_DIRECTION = EAST
  REFERENCE_LATITUDE = "N/A"
  REFERENCE_LONGITUDE = "N/A"
  SAMPLE_FIRST_PIXEL = 1
  SAMPLE_LAST_PIXEL = 2244
  SAMPLE_PROJECTION_OFFSET = 1423.375
  SECOND_STANDARD_PARALLEL = "N/A"
  WESTERNMOST_LONGITUDE = 155.551
END_OBJECT = IMAGE_MAP_PROJECTION
/* The JPEG2000 image data file associated with this label. */
OBJECT = COMPRESSED_FILE
  FILE_NAME = "HC763_0000_GR3.JP2"
  RECORD_TYPE = UNDEFINED
  FILE_RECORDS = UNK
  ENCODING_TYPE = "JP2"
  INTERCHANGE_FORMAT = BINARY
  UNCOMPRESSED_FILE_NAME = "HC763_0000_GR3.IMG"
  REQUIRED_STORAGE_BYTES = "26196456"
  ^DESCRIPTION = "JP2INFO.TXT"
END_OBJECT = COMPRESSED_FILE
END
