PDS_VERSION_ID = PDS3
/* FILE DATA ELEMENTS */
RECORD_TYPE = STREAM
/* POINTERS TO DATA OBJECTS */
^COMPRESSED_FILE = "HC766_0000_P13.JP2"
/* IDENTIFICATION DATA ELEMENTS */
DATA_SET_ID = "MEX-M-HRSC-5-REFDR-MAPPROJECTED-V3.0"
DATA_SET_NAME = "MARS EXPRESS HRSC MAP PROJECTED REFDR V3.0"
DETECTOR_ID = MEX_HRSC_P1
EVENT_TYPE = "MARS-REGIONAL-MAPPING-Im-Fl"
INSTRUMENT_HOST_ID = MEX
INSTRUMENT_HOST_NAME = "MARS EXPRESS"
INSTRUMENT_ID = HRSC
INSTRUMENT_NAME = "HIGH RESOLUTION STEREO CAMERA"
MISSION_NAME = "MARS EXPRESS"
MISSION_PHASE_NAME = ME_Phase_29
PROCESSING_LEVEL_ID = 3
PRODUCT_CREATION_TIME = 2016-10-29T02:00:08.000Z
PRODUCT_ID = "HC766_0000_P13.JP2"
RELEASE_ID = 0121
REVISION_ID = 0000
/* QUALITY DATA ELEMENTS */
DATA_QUALITY_ID = 1
DATA_QUALITY_DESC = "Data calculated based on original SPICE kernels"
/* TIME DATA ELEMENTS */
SPACECRAFT_CLOCK_START_COUNT = "1/0338096141.07305"
SPACECRAFT_CLOCK_STOP_COUNT = "1/0338096445.39814"
START_TIME = 2014-01-18T03:36:40.998Z
STOP_TIME = 2014-01-18T03:40:29.365Z
/* ORBITAL DATA ELEMENTS */
ASCENDING_NODE_LONGITUDE = 334.09
MAXIMUM_RESOLUTION = 30.9
FOOTPRINT_POINT_LATITUDE = (-48.6682,-48.6599,-48.6399,-48.6545, -48.2663,-48.0074,-47.7481,-47.489, -47.2319,-46.9742,-46.7237,-46.4672, -46.2053,-45.9537,-45.6961,-45.3151, -45.0609,-44.8072,-44.5539,-44.2965, -43.9073,-43.6476,-43.3902,-43.1278, -42.8634,-42.6,-42.3373,-42.0693, -41.6683,-41.2635,-40.8532,-40.4441, -40.0276,-39.7499,-39.3311,-39.0483, -38.7666,-38.4818,-38.1956,-37.9086, -37.6178,-37.3258,-36.8862,-36.5894, -36.2934,-35.8423,-35.3885,-35.0769, -35.0807,-35.0839,-35.0859,-35.0889, -35.2433,-35.5502,-36.0024,-36.3041, -36.6009,-36.8984,-37.3395,-37.6324, -37.9239,-38.3544,-38.6432,-38.9234, -39.2083,-39.4924,-39.7716,-40.0489, -40.3279,-40.6027,-40.8743,-41.1502, -41.4264,-41.6954,-41.9646,-42.2335, -42.4954,-42.7603,-43.1576,-43.4224, -43.6851,-43.9442,-44.3292,-44.5877, -44.8415,-45.0954,-45.3505,-45.6053, -45.8611,-46.117,-46.373,-46.6298, -46.8867,-47.144,-47.4019,-47.6601, -47.9186,-48.1787,-48.4384,-48.6682)
FOOTPRINT_POINT_LONGITUDE = (210.424,210.028,209.238,208.641, 208.665,208.681,208.697,208.712,208.726 ,208.74,208.749,208.762,208.779,208.788 ,208.802,208.818,208.829,208.839, 208.849,208.859,208.873,208.883,208.891 ,208.899,208.907,208.915,208.922, 208.929,208.938,208.948,208.957,208.965 ,208.973,208.977,208.983,208.987,208.99 ,208.993,208.995,208.998,209.0,209.002, 209.004,209.006,209.006,209.007,209.007 ,209.198,209.603,210.05,210.327,210.732 ,211.205,211.195,211.182,211.172, 211.163,211.153,211.139,211.13,211.12, 211.104,211.094,211.083,211.074,211.063 ,211.054,211.043,211.032,211.022,211.01 ,211.0,210.991,210.981,210.97,210.958, 210.944,210.934,210.917,210.906,210.897 ,210.885,210.864,210.852,210.84,210.828 ,210.815,210.803,210.79,210.777,210.763 ,210.75,210.736,210.722,210.708,210.694 ,210.679,210.665,210.65,210.424)
ORBIT_NUMBER = 12766
ORBITAL_ECCENTRICITY = 0.577
ORBITAL_INCLINATION = 86.9
ORBITAL_SEMIMAJOR_AXIS = 8772.96
PERIAPSIS_ALTITUDE = 329.24
PERIAPSIS_ARGUMENT_ANGLE = 296.55
PERIAPSIS_TIME = 2014-01-18T03:32:35.000Z
SPACECRAFT_ORIENTATION = (0.0,1.0,0.0)
^MEX_ORIENTATION_DESC = "MEX_ORIENTATION_DESC.TXT"
SPACECRAFT_POINTING_MODE = NADIR
^MEX_POINTING_DESC = "MEX_POINTING_DESC.TXT"
RIGHT_ASCENSION = -1e+32
DECLINATION = -1e+32
OFFSET_ANGLE = -1e+32
SPACECRAFT_SOLAR_DISTANCE = 2.49069e+08
TARGET_NAME = MARS
/* CAMERA DATA ELEMENTS */
DETECTOR_TEMPERATURE = 17.1471
FOCAL_PLANE_TEMPERATURE = 7.9716
INST_CMPRS_NAME = "DISCRETE COSINE TRANSFORMATION (DCT)"
INST_CMPRS_RATIO = 5.63235
INST_CMPRS_QUALITY = 0
INST_CMPRS_QUANTZ_TBL_ID = 0
INSTRUMENT_TEMPERATURE = 11.0301
LENS_TEMPERATURE = 8.9911
MACROPIXEL_SIZE = 2
MISSING_FRAMES = 0
PIXEL_SUBSAMPLING_FLAG = N
SIGNAL_CHAIN_ID = 3
/* RADIOMETRIC DATA ELEMENTS */
BANDWIDTH = 174.0
CENTER_FILTER_WAVELENGTH = 675.0
RADIANCE_OFFSET = 0.072081
RADIANCE_SCALING_FACTOR = 0.0173371
REFLECTANCE_SCALING_FACTOR = 0.000578497
MEX:REFLECTANCE_OFFSET = 0.00240516
/* IMAGE OBJECT DEFINITIONS */
OBJECT = IMAGE
  INTERCHANGE_FORMAT = BINARY
  LINES = 32334
  LINE_SAMPLES = 4410
  SAMPLE_TYPE = UNSIGNED_INTEGER
  SAMPLE_BITS = 8
  BANDS = 1
  BAND_STORAGE_TYPE = BAND_SEQUENTIAL
  MAXIMUM = 255
  MEAN = 93.1734
  MINIMUM = 1
  STANDARD_DEVIATION = 24.3536
END_OBJECT = IMAGE
/* MAP OBJECT DEFINITIONS */
OBJECT = IMAGE_MAP_PROJECTION
  ^DATA_SET_MAP_PROJECTION_CATALOG= "DSMAP.CAT"
  A_AXIS_RADIUS = 3396.0
  B_AXIS_RADIUS = 3396.0
  C_AXIS_RADIUS = 3396.0
  CENTER_LATITUDE = 0.0
  CENTER_LONGITUDE = 210.0
  COORDINATE_SYSTEM_NAME = PLANETOGRAPHIC
  COORDINATE_SYSTEM_TYPE = "BODY-FIXED ROTATING"
  EASTERNMOST_LONGITUDE = 211.205
  FIRST_STANDARD_PARALLEL = "N/A"
  LINE_FIRST_PIXEL = 1
  LINE_LAST_PIXEL = 32334
  LINE_PROJECTION_OFFSET = -83168.75
  MAP_PROJECTION_ROTATION = 0.0
  MAP_PROJECTION_TYPE = SINUSOIDAL
  MAP_RESOLUTION = 2370.85521546667
  MAP_SCALE = 0.025
  MAXIMUM_LATITUDE = -35.0769
  MINIMUM_LATITUDE = -48.6682
  POSITIVE_LONGITUDE_DIRECTION = EAST
  REFERENCE_LATITUDE = "N/A"
  REFERENCE_LONGITUDE = "N/A"
  SAMPLE_FIRST_PIXEL = 1
  SAMPLE_LAST_PIXEL = 4410
  SAMPLE_PROJECTION_OFFSET = 2142.25
  SECOND_STANDARD_PARALLEL = "N/A"
  WESTERNMOST_LONGITUDE = 208.641
END_OBJECT = IMAGE_MAP_PROJECTION
/* The JPEG2000 image data file associated with this label. */
OBJECT = COMPRESSED_FILE
  FILE_NAME = "HC766_0000_P13.JP2"
  RECORD_TYPE = UNDEFINED
  FILE_RECORDS = UNK
  ENCODING_TYPE = "JP2"
  INTERCHANGE_FORMAT = BINARY
  UNCOMPRESSED_FILE_NAME = "HC766_0000_P13.IMG"
  REQUIRED_STORAGE_BYTES = "142619400"
  ^DESCRIPTION = "JP2INFO.TXT"
END_OBJECT = COMPRESSED_FILE
END
