PDS_VERSION_ID = PDS3
/* FILE DATA ELEMENTS */
RECORD_TYPE = STREAM
/* POINTERS TO DATA OBJECTS */
^COMPRESSED_FILE = "HC767_0000_IR3.JP2"
/* IDENTIFICATION DATA ELEMENTS */
DATA_SET_ID = "MEX-M-HRSC-5-REFDR-MAPPROJECTED-V3.0"
DATA_SET_NAME = "MARS EXPRESS HRSC MAP PROJECTED REFDR V3.0"
DETECTOR_ID = MEX_HRSC_IR
EVENT_TYPE = "MARS-REGIONAL-MAPPING-Vo-Fl-Gl"
INSTRUMENT_HOST_ID = MEX
INSTRUMENT_HOST_NAME = "MARS EXPRESS"
INSTRUMENT_ID = HRSC
INSTRUMENT_NAME = "HIGH RESOLUTION STEREO CAMERA"
MISSION_NAME = "MARS EXPRESS"
MISSION_PHASE_NAME = ME_Phase_29
PROCESSING_LEVEL_ID = 3
PRODUCT_CREATION_TIME = 2016-10-29T02:00:08.000Z
PRODUCT_ID = "HC767_0000_IR3.JP2"
RELEASE_ID = 0121
REVISION_ID = 0000
/* QUALITY DATA ELEMENTS */
DATA_QUALITY_ID = 1
DATA_QUALITY_DESC = "Data calculated based on original SPICE kernels"
/* TIME DATA ELEMENTS */
SPACECRAFT_CLOCK_START_COUNT = "1/0338121412.08278"
SPACECRAFT_CLOCK_STOP_COUNT = "1/0338121584.46520"
START_TIME = 2014-01-18T10:38:09.369Z
STOP_TIME = 2014-01-18T10:39:38.370Z
/* ORBITAL DATA ELEMENTS */
ASCENDING_NODE_LONGITUDE = 334.08
MAXIMUM_RESOLUTION = 74.3
FOOTPRINT_POINT_LATITUDE = (-41.4278,-41.4262,-41.4244,-41.4225, -41.4205,-41.4169,-41.4145,-41.4121, -41.4094,-41.4067,-41.4023,-41.398, -41.1969,-41.0526,-40.8594,-40.6138, -40.4665,-40.27,-40.074,-39.8738, -39.5757,-39.4277,-39.2778,-39.1771, -39.0735,-38.9189,-38.8181,-38.7177, -38.6176,-38.5162,-38.3642,-38.2115, -38.1092,-38.0063,-37.903,-37.8011, -37.6986,-37.5967,-37.492,-37.3863, -37.2838,-37.1803,-37.0761,-36.9723, -36.868,-36.7618,-36.656,-36.5502, -36.4448,-36.3369,-36.3378,-36.3409, -36.3429,-36.3449,-36.3469,-36.3483, -36.3497,-36.3507,-36.3514,-36.352, -36.353,-36.4599,-36.566,-36.6721, -36.7779,-36.9363,-37.0395,-37.1429, -37.248,-37.3532,-37.4561,-37.5621, -37.671,-37.8283,-37.9311,-38.0853, -38.2386,-38.3417,-38.4418,-38.5423, -38.6458,-38.7463,-38.8957,-38.9969, -39.1482,-39.2985,-39.3995,-39.5974, -39.7484,-39.8488,-39.9487,-40.0982, -40.2976,-40.4454,-40.5915,-40.7874, -40.9831,-41.1724,-41.3563,-41.4278)
FOOTPRINT_POINT_LONGITUDE = (108.642,108.49,108.338,108.186,108.034 ,107.787,107.635,107.483,107.331, 107.179,106.951,106.742,106.721,106.724 ,106.728,106.733,106.736,106.74,106.744 ,106.748,106.752,106.754,106.756, 106.758,106.76,106.764,106.765,106.765, 106.766,106.767,106.769,106.77,106.77, 106.771,106.773,106.773,106.774,106.774 ,106.775,106.776,106.776,106.776, 106.777,106.777,106.778,106.778,106.778 ,106.779,106.779,106.78,106.962,107.188 ,107.455,107.618,107.844,107.987, 108.192,108.377,108.521,108.766,108.978 ,108.975,108.972,108.968,108.965, 108.959,108.955,108.951,108.948,108.945 ,108.941,108.938,108.936,108.933, 108.929,108.924,108.918,108.914,108.909 ,108.905,108.903,108.899,108.892, 108.888,108.882,108.876,108.873,108.865 ,108.86,108.857,108.853,108.847,108.841 ,108.836,108.83,108.822,108.813,108.804 ,108.792,108.642)
ORBIT_NUMBER = 12767
ORBITAL_ECCENTRICITY = 0.577
ORBITAL_INCLINATION = 86.89
ORBITAL_SEMIMAJOR_AXIS = 8776.52
PERIAPSIS_ALTITUDE = 329.06
PERIAPSIS_ARGUMENT_ANGLE = 296.37
PERIAPSIS_TIME = 2014-01-18T10:31:54.000Z
SPACECRAFT_ORIENTATION = (0.0,1.0,0.0)
^MEX_ORIENTATION_DESC = "MEX_ORIENTATION_DESC.TXT"
SPACECRAFT_POINTING_MODE = NADIR
^MEX_POINTING_DESC = "MEX_POINTING_DESC.TXT"
RIGHT_ASCENSION = -1e+32
DECLINATION = -1e+32
OFFSET_ANGLE = -1e+32
SPACECRAFT_SOLAR_DISTANCE = 2.49062e+08
TARGET_NAME = MARS
/* CAMERA DATA ELEMENTS */
DETECTOR_TEMPERATURE = 18.1666
FOCAL_PLANE_TEMPERATURE = 8.5833
INST_CMPRS_NAME = "DISCRETE COSINE TRANSFORMATION (DCT)"
INST_CMPRS_RATIO = 4.90767
INST_CMPRS_QUALITY = 0
INST_CMPRS_QUANTZ_TBL_ID = 0
INSTRUMENT_TEMPERATURE = 12.0496
LENS_TEMPERATURE = 9.3989
MACROPIXEL_SIZE = 4
MISSING_FRAMES = 0
PIXEL_SUBSAMPLING_FLAG = N
SIGNAL_CHAIN_ID = 2
/* RADIOMETRIC DATA ELEMENTS */
BANDWIDTH = 81.0
CENTER_FILTER_WAVELENGTH = 955.5
RADIANCE_OFFSET = 0.0615063
RADIANCE_SCALING_FACTOR = 0.00603003
REFLECTANCE_SCALING_FACTOR = 0.000806983
MEX:REFLECTANCE_OFFSET = 0.00823123
/* IMAGE OBJECT DEFINITIONS */
OBJECT = IMAGE
  INTERCHANGE_FORMAT = BINARY
  LINES = 6088
  LINE_SAMPLES = 2034
  SAMPLE_TYPE = UNSIGNED_INTEGER
  SAMPLE_BITS = 8
  BANDS = 1
  BAND_STORAGE_TYPE = BAND_SEQUENTIAL
  MAXIMUM = 255
  MEAN = 109.811
  MINIMUM = 1
  STANDARD_DEVIATION = 25.8625
END_OBJECT = IMAGE
/* MAP OBJECT DEFINITIONS */
OBJECT = IMAGE_MAP_PROJECTION
  ^DATA_SET_MAP_PROJECTION_CATALOG= "DSMAP.CAT"
  A_AXIS_RADIUS = 3396.0
  B_AXIS_RADIUS = 3396.0
  C_AXIS_RADIUS = 3396.0
  CENTER_LATITUDE = 0.0
  CENTER_LONGITUDE = 108.0
  COORDINATE_SYSTEM_NAME = PLANETOGRAPHIC
  COORDINATE_SYSTEM_TYPE = "BODY-FIXED ROTATING"
  EASTERNMOST_LONGITUDE = 108.978
  FIRST_STANDARD_PARALLEL = "N/A"
  LINE_FIRST_PIXEL = 1
  LINE_LAST_PIXEL = 6088
  LINE_PROJECTION_OFFSET = -43085.125
  MAP_PROJECTION_ROTATION = 0.0
  MAP_PROJECTION_TYPE = SINUSOIDAL
  MAP_RESOLUTION = 1185.42760773333
  MAP_SCALE = 0.05
  MAXIMUM_LATITUDE = -36.3369
  MINIMUM_LATITUDE = -41.4278
  POSITIVE_LONGITUDE_DIRECTION = EAST
  REFERENCE_LATITUDE = "N/A"
  REFERENCE_LONGITUDE = "N/A"
  SAMPLE_FIRST_PIXEL = 1
  SAMPLE_LAST_PIXEL = 2034
  SAMPLE_PROJECTION_OFFSET = 1143.125
  SECOND_STANDARD_PARALLEL = "N/A"
  WESTERNMOST_LONGITUDE = 106.721
END_OBJECT = IMAGE_MAP_PROJECTION
/* The JPEG2000 image data file associated with this label. */
OBJECT = COMPRESSED_FILE
  FILE_NAME = "HC767_0000_IR3.JP2"
  RECORD_TYPE = UNDEFINED
  FILE_RECORDS = UNK
  ENCODING_TYPE = "JP2"
  INTERCHANGE_FORMAT = BINARY
  UNCOMPRESSED_FILE_NAME = "HC767_0000_IR3.IMG"
  REQUIRED_STORAGE_BYTES = "12403332"
  ^DESCRIPTION = "JP2INFO.TXT"
END_OBJECT = COMPRESSED_FILE
END
