PDS_VERSION_ID = PDS3
/* FILE DATA ELEMENTS */
RECORD_TYPE = STREAM
/* POINTERS TO DATA OBJECTS */
^COMPRESSED_FILE = "HC770_0000_GR3.JP2"
/* IDENTIFICATION DATA ELEMENTS */
DATA_SET_ID = "MEX-M-HRSC-5-REFDR-MAPPROJECTED-V3.0"
DATA_SET_NAME = "MARS EXPRESS HRSC MAP PROJECTED REFDR V3.0"
DETECTOR_ID = MEX_HRSC_GREEN
EVENT_TYPE = "MARS-REGIONAL-MAPPING-Im-Fl-Pf"
INSTRUMENT_HOST_ID = MEX
INSTRUMENT_HOST_NAME = "MARS EXPRESS"
INSTRUMENT_ID = HRSC
INSTRUMENT_NAME = "HIGH RESOLUTION STEREO CAMERA"
MISSION_NAME = "MARS EXPRESS"
MISSION_PHASE_NAME = ME_Phase_29
PROCESSING_LEVEL_ID = 3
PRODUCT_CREATION_TIME = 2016-10-29T02:00:08.000Z
PRODUCT_ID = "HC770_0000_GR3.JP2"
RELEASE_ID = 0121
REVISION_ID = 0000
/* QUALITY DATA ELEMENTS */
DATA_QUALITY_ID = 1
DATA_QUALITY_DESC = "Data calculated based on original SPICE kernels"
/* TIME DATA ELEMENTS */
SPACECRAFT_CLOCK_START_COUNT = "1/0338196846.09057"
SPACECRAFT_CLOCK_STOP_COUNT = "1/0338197078.00524"
START_TIME = 2014-01-19T07:34:53.099Z
STOP_TIME = 2014-01-19T07:37:16.681Z
/* ORBITAL DATA ELEMENTS */
ASCENDING_NODE_LONGITUDE = 334.02
MAXIMUM_RESOLUTION = 65.1
FOOTPRINT_POINT_LATITUDE = (-44.4393,-44.4348,-44.4278,-44.4218, -44.4134,-44.247,-43.9252,-43.5983, -43.3544,-43.1102,-42.7814,-42.6147, -42.4483,-42.2819,-41.9506,-41.7836, -41.613,-41.358,-41.1884,-41.0192, -40.85,-40.5911,-40.4181,-40.2453, -40.0726,-39.9001,-39.725,-39.5486, -39.3732,-39.1972,-39.0216,-38.7544, -38.5749,-38.3956,-38.2165,-38.0376, -37.8549,-37.5812,-37.3989,-37.2169, -36.9388,-36.7532,-36.5678,-36.3825, -36.1938,-36.005,-35.8161,-35.6785, -35.6824,-35.6861,-35.689,-35.6912, -35.6932,-35.6944,-35.6964,-35.8851, -36.0742,-36.2636,-36.4517,-36.6374, -36.8233,-37.0094,-37.2874,-37.4699, -37.6526,-37.8355,-38.1093,-38.2887, -38.4683,-38.6479,-38.8278,-39.0067, -39.1825,-39.3587,-39.5352,-39.7118, -39.8883,-40.0611,-40.2341,-40.4074, -40.5808,-40.7544,-40.9261,-41.0958, -41.2656,-41.4357,-41.6058,-41.7761, -41.9447,-42.1111,-42.2775,-42.4441, -42.6109,-42.7775,-43.0265,-43.3527, -43.6799,-44.0073,-44.3294,-44.4393)
FOOTPRINT_POINT_LONGITUDE = (161.79,161.519,161.158,160.887,160.544 ,160.055,160.065,160.079,160.086, 160.094,160.105,160.111,160.116,160.121 ,160.128,160.132,160.138,160.146,160.15 ,160.154,160.157,160.163,160.166,160.17 ,160.173,160.176,160.18,160.183,160.184 ,160.186,160.189,160.193,160.195, 160.197,160.2,160.202,160.204,160.206, 160.207,160.209,160.21,160.212,160.212, 160.214,160.215,160.216,160.217,160.533 ,160.771,161.049,161.306,161.545, 161.843,162.062,162.347,162.341,162.335 ,162.33,162.325,162.319,162.313,162.308 ,162.299,162.293,162.287,162.281, 162.273,162.267,162.261,162.255,162.249 ,162.243,162.236,162.23,162.224,162.217 ,162.211,162.205,162.198,162.192, 162.186,162.179,162.173,162.167,162.16, 162.154,162.147,162.141,162.134,162.128 ,162.121,162.114,162.107,162.099, 162.089,162.076,162.063,162.049,162.035 ,161.79)
ORBIT_NUMBER = 12770
ORBITAL_ECCENTRICITY = 0.577
ORBITAL_INCLINATION = 86.89
ORBITAL_SEMIMAJOR_AXIS = 8774.34
PERIAPSIS_ALTITUDE = 330.36
PERIAPSIS_ARGUMENT_ANGLE = 295.89
PERIAPSIS_TIME = 2014-01-19T07:29:46.000Z
SPACECRAFT_ORIENTATION = (0.0,1.0,0.0)
^MEX_ORIENTATION_DESC = "MEX_ORIENTATION_DESC.TXT"
SPACECRAFT_POINTING_MODE = NADIR
^MEX_POINTING_DESC = "MEX_POINTING_DESC.TXT"
RIGHT_ASCENSION = -1e+32
DECLINATION = -1e+32
OFFSET_ANGLE = -1e+32
SPACECRAFT_SOLAR_DISTANCE = 2.49042e+08
TARGET_NAME = MARS
/* CAMERA DATA ELEMENTS */
DETECTOR_TEMPERATURE = 18.5744
FOCAL_PLANE_TEMPERATURE = 10.0106
INST_CMPRS_NAME = "DISCRETE COSINE TRANSFORMATION (DCT)"
INST_CMPRS_RATIO = 6.86577
INST_CMPRS_QUALITY = 0
INST_CMPRS_QUANTZ_TBL_ID = 0
INSTRUMENT_TEMPERATURE = 12.8652
LENS_TEMPERATURE = 9.6028
MACROPIXEL_SIZE = 4
MISSING_FRAMES = 0
PIXEL_SUBSAMPLING_FLAG = N
SIGNAL_CHAIN_ID = 2
/* RADIOMETRIC DATA ELEMENTS */
BANDWIDTH = 88.0
CENTER_FILTER_WAVELENGTH = 538.0
RADIANCE_OFFSET = 0.0719936
RADIANCE_SCALING_FACTOR = 0.00479957
REFLECTANCE_SCALING_FACTOR = 0.000256293
MEX:REFLECTANCE_OFFSET = 0.00384439
/* IMAGE OBJECT DEFINITIONS */
OBJECT = IMAGE
  INTERCHANGE_FORMAT = BINARY
  LINES = 10419
  LINE_SAMPLES = 2133
  SAMPLE_TYPE = UNSIGNED_INTEGER
  SAMPLE_BITS = 8
  BANDS = 1
  BAND_STORAGE_TYPE = BAND_SEQUENTIAL
  MAXIMUM = 255
  MEAN = 106.152
  MINIMUM = 1
  STANDARD_DEVIATION = 22.2446
END_OBJECT = IMAGE
/* MAP OBJECT DEFINITIONS */
OBJECT = IMAGE_MAP_PROJECTION
  ^DATA_SET_MAP_PROJECTION_CATALOG= "DSMAP.CAT"
  A_AXIS_RADIUS = 3396.0
  B_AXIS_RADIUS = 3396.0
  C_AXIS_RADIUS = 3396.0
  CENTER_LATITUDE = 0.0
  CENTER_LONGITUDE = 161.0
  COORDINATE_SYSTEM_NAME = PLANETOGRAPHIC
  COORDINATE_SYSTEM_TYPE = "BODY-FIXED ROTATING"
  EASTERNMOST_LONGITUDE = 162.347
  FIRST_STANDARD_PARALLEL = "N/A"
  LINE_FIRST_PIXEL = 1
  LINE_LAST_PIXEL = 10419
  LINE_PROJECTION_OFFSET = -42291.625
  MAP_PROJECTION_ROTATION = 0.0
  MAP_PROJECTION_TYPE = SINUSOIDAL
  MAP_RESOLUTION = 1185.42760773333
  MAP_SCALE = 0.05
  MAXIMUM_LATITUDE = -35.6785
  MINIMUM_LATITUDE = -44.4393
  POSITIVE_LONGITUDE_DIRECTION = EAST
  REFERENCE_LATITUDE = "N/A"
  REFERENCE_LONGITUDE = "N/A"
  SAMPLE_FIRST_PIXEL = 1
  SAMPLE_LAST_PIXEL = 2133
  SAMPLE_PROJECTION_OFFSET = 828.125
  SECOND_STANDARD_PARALLEL = "N/A"
  WESTERNMOST_LONGITUDE = 160.055
END_OBJECT = IMAGE_MAP_PROJECTION
/* The JPEG2000 image data file associated with this label. */
OBJECT = COMPRESSED_FILE
  FILE_NAME = "HC770_0000_GR3.JP2"
  RECORD_TYPE = UNDEFINED
  FILE_RECORDS = UNK
  ENCODING_TYPE = "JP2"
  INTERCHANGE_FORMAT = BINARY
  UNCOMPRESSED_FILE_NAME = "HC770_0000_GR3.IMG"
  REQUIRED_STORAGE_BYTES = "22245057"
  ^DESCRIPTION = "JP2INFO.TXT"
END_OBJECT = COMPRESSED_FILE
END
