PDS_VERSION_ID = PDS3
/* FILE DATA ELEMENTS */
RECORD_TYPE = STREAM
/* POINTERS TO DATA OBJECTS */
^COMPRESSED_FILE = "HC771_0000_BL3.JP2"
/* IDENTIFICATION DATA ELEMENTS */
DATA_SET_ID = "MEX-M-HRSC-5-REFDR-MAPPROJECTED-V3.0"
DATA_SET_NAME = "MARS EXPRESS HRSC MAP PROJECTED REFDR V3.0"
DETECTOR_ID = MEX_HRSC_BLUE
EVENT_TYPE = "MARS-REGIONAL-MAPPING-Im-Gl-At"
INSTRUMENT_HOST_ID = MEX
INSTRUMENT_HOST_NAME = "MARS EXPRESS"
INSTRUMENT_ID = HRSC
INSTRUMENT_NAME = "HIGH RESOLUTION STEREO CAMERA"
MISSION_NAME = "MARS EXPRESS"
MISSION_PHASE_NAME = ME_Phase_29
PROCESSING_LEVEL_ID = 3
PRODUCT_CREATION_TIME = 2016-10-29T02:00:08.000Z
PRODUCT_ID = "HC771_0000_BL3.JP2"
RELEASE_ID = 0121
REVISION_ID = 0000
/* QUALITY DATA ELEMENTS */
DATA_QUALITY_ID = 1
DATA_QUALITY_DESC = "Data calculated based on original SPICE kernels"
/* TIME DATA ELEMENTS */
SPACECRAFT_CLOCK_START_COUNT = "1/0338222004.08234"
SPACECRAFT_CLOCK_STOP_COUNT = "1/0338222310.52655"
START_TIME = 2014-01-19T14:33:58.617Z
STOP_TIME = 2014-01-19T14:37:23.825Z
/* ORBITAL DATA ELEMENTS */
ASCENDING_NODE_LONGITUDE = 334.0
MAXIMUM_RESOLUTION = 65.3
FOOTPRINT_POINT_LATITUDE = (-44.4236,-44.4061,-44.3853,-44.3714, -43.9005,-43.4531,-43.2248,-42.9956, -42.7662,-42.5373,-42.3088,-42.0762, -41.8419,-41.608,-41.3743,-41.1408, -40.9017,-40.6631,-40.3055,-40.0671, -39.8233,-39.4576,-39.2142,-38.9679, -38.7194,-38.471,-38.2231,-37.9711, -37.718,-37.4642,-37.2107,-36.9526, -36.6949,-36.4379,-36.1766,-35.914, -35.6518,-35.3866,-35.1194,-34.8529, -34.5834,-34.3119,-34.0407,-33.7661, -33.49,-33.2147,-32.934,-32.6538, -32.2297,-31.9454,-31.7187,-31.7256, -31.7303,-31.7355,-31.7387,-31.7428, -31.889,-32.1743,-32.6015,-32.8826, -33.3035,-33.7185,-33.9953,-34.2672, -34.5396,-34.8116,-35.0788,-35.3467, -35.6141,-36.0091,-36.2723,-36.5336, -36.7918,-37.0502,-37.4355,-37.6887, -37.9424,-38.1966,-38.5698,-38.8189, -39.0687,-39.3142,-39.5578,-39.802, -40.168,-40.4071,-40.6464,-40.8859, -41.2442,-41.4781,-41.8299,-42.0644, -42.2994,-42.5285,-42.758,-42.9875, -43.2173,-43.5601,-44.1211,-44.4236)
FOOTPRINT_POINT_LONGITUDE = (58.6267,58.0569,57.481,57.1355,57.0817 ,57.1045,57.1162,57.1273,57.1367, 57.1469,57.1572,57.167,57.1762,57.1859, 57.1951,57.2038,57.2126,57.222,57.2354, 57.2435,57.252,57.2621,57.2686,57.2751, 57.2819,57.288,57.2942,57.2993,57.3051, 57.3079,57.312,57.3167,57.3215,57.3268, 57.3315,57.3349,57.338,57.3401,57.3428, 57.3464,57.3485,57.351,57.353,57.3549, 57.3561,57.358,57.3589,57.3599,57.3605, 57.3617,57.5518,57.9288,58.2006,58.5752 ,58.8453,59.2796,59.5912,59.5828, 59.5697,59.5611,59.548,59.5345,59.5257, 59.5166,59.5073,59.4979,59.4886,59.4791 ,59.4694,59.4545,59.4448,59.4347, 59.4249,59.415,59.3996,59.3896,59.3794, 59.3688,59.353,59.3423,59.3312,59.3206, 59.3099,59.299,59.2822,59.2709,59.2596, 59.2481,59.2307,59.2192,59.2014,59.1894 ,59.1772,59.1651,59.1528,59.1405, 59.1279,59.1088,59.0768,58.6267)
ORBIT_NUMBER = 12771
ORBITAL_ECCENTRICITY = 0.577
ORBITAL_INCLINATION = 86.9
ORBITAL_SEMIMAJOR_AXIS = 8774.83
PERIAPSIS_ALTITUDE = 329.27
PERIAPSIS_ARGUMENT_ANGLE = 295.71
PERIAPSIS_TIME = 2014-01-19T14:29:01.000Z
SPACECRAFT_ORIENTATION = (0.0,1.0,0.0)
^MEX_ORIENTATION_DESC = "MEX_ORIENTATION_DESC.TXT"
SPACECRAFT_POINTING_MODE = ACROSSTRACK
^MEX_POINTING_DESC = "MEX_POINTING_DESC.TXT"
RIGHT_ASCENSION = -1e+32
DECLINATION = -1e+32
OFFSET_ANGLE = 0.539
SPACECRAFT_SOLAR_DISTANCE = 2.49035e+08
TARGET_NAME = MARS
/* CAMERA DATA ELEMENTS */
DETECTOR_TEMPERATURE = 18.3705
FOCAL_PLANE_TEMPERATURE = 8.1755
INST_CMPRS_NAME = "DISCRETE COSINE TRANSFORMATION (DCT)"
INST_CMPRS_RATIO = 5.70574
INST_CMPRS_QUALITY = 0
INST_CMPRS_QUANTZ_TBL_ID = 0
INSTRUMENT_TEMPERATURE = 11.6418
LENS_TEMPERATURE = 8.5833
MACROPIXEL_SIZE = 4
MISSING_FRAMES = 0
PIXEL_SUBSAMPLING_FLAG = N
SIGNAL_CHAIN_ID = 2
/* RADIOMETRIC DATA ELEMENTS */
BANDWIDTH = 76.0
CENTER_FILTER_WAVELENGTH = 444.0
RADIANCE_OFFSET = 0.383413
RADIANCE_SCALING_FACTOR = 0.00159526
REFLECTANCE_SCALING_FACTOR = 0.00010165
MEX:REFLECTANCE_OFFSET = 0.0244311
/* IMAGE OBJECT DEFINITIONS */
OBJECT = IMAGE
  INTERCHANGE_FORMAT = BINARY
  LINES = 15050
  LINE_SAMPLES = 2444
  SAMPLE_TYPE = UNSIGNED_INTEGER
  SAMPLE_BITS = 8
  BANDS = 1
  BAND_STORAGE_TYPE = BAND_SEQUENTIAL
  MAXIMUM = 255
  MEAN = 137.416
  MINIMUM = 1
  STANDARD_DEVIATION = 31.3556
END_OBJECT = IMAGE
/* MAP OBJECT DEFINITIONS */
OBJECT = IMAGE_MAP_PROJECTION
  ^DATA_SET_MAP_PROJECTION_CATALOG= "DSMAP.CAT"
  A_AXIS_RADIUS = 3396.0
  B_AXIS_RADIUS = 3396.0
  C_AXIS_RADIUS = 3396.0
  CENTER_LATITUDE = 0.0
  CENTER_LONGITUDE = 58.0
  COORDINATE_SYSTEM_NAME = PLANETOGRAPHIC
  COORDINATE_SYSTEM_TYPE = "BODY-FIXED ROTATING"
  EASTERNMOST_LONGITUDE = 59.5912
  FIRST_STANDARD_PARALLEL = "N/A"
  LINE_FIRST_PIXEL = 1
  LINE_LAST_PIXEL = 15050
  LINE_PROJECTION_OFFSET = -37603.625
  MAP_PROJECTION_ROTATION = 0.0
  MAP_PROJECTION_TYPE = SINUSOIDAL
  MAP_RESOLUTION = 1185.42760773333
  MAP_SCALE = 0.05
  MAXIMUM_LATITUDE = -31.7187
  MINIMUM_LATITUDE = -44.4236
  POSITIVE_LONGITUDE_DIRECTION = EAST
  REFERENCE_LATITUDE = "N/A"
  REFERENCE_LONGITUDE = "N/A"
  SAMPLE_FIRST_PIXEL = 1
  SAMPLE_LAST_PIXEL = 2444
  SAMPLE_PROJECTION_OFFSET = 821.875
  SECOND_STANDARD_PARALLEL = "N/A"
  WESTERNMOST_LONGITUDE = 57.0817
END_OBJECT = IMAGE_MAP_PROJECTION
/* The JPEG2000 image data file associated with this label. */
OBJECT = COMPRESSED_FILE
  FILE_NAME = "HC771_0000_BL3.JP2"
  RECORD_TYPE = UNDEFINED
  FILE_RECORDS = UNK
  ENCODING_TYPE = "JP2"
  INTERCHANGE_FORMAT = BINARY
  UNCOMPRESSED_FILE_NAME = "HC771_0000_BL3.IMG"
  REQUIRED_STORAGE_BYTES = "36801752"
  ^DESCRIPTION = "JP2INFO.TXT"
END_OBJECT = COMPRESSED_FILE
END
