PDS_VERSION_ID = PDS3
/* FILE DATA ELEMENTS */
RECORD_TYPE = STREAM
/* POINTERS TO DATA OBJECTS */
^COMPRESSED_FILE = "HC774_0000_P13.JP2"
/* IDENTIFICATION DATA ELEMENTS */
DATA_SET_ID = "MEX-M-HRSC-5-REFDR-MAPPROJECTED-V3.0"
DATA_SET_NAME = "MARS EXPRESS HRSC MAP PROJECTED REFDR V3.0"
DETECTOR_ID = MEX_HRSC_P1
EVENT_TYPE = "MARS-REGIONAL-MAPPING-Vo-Fl"
INSTRUMENT_HOST_ID = MEX
INSTRUMENT_HOST_NAME = "MARS EXPRESS"
INSTRUMENT_ID = HRSC
INSTRUMENT_NAME = "HIGH RESOLUTION STEREO CAMERA"
MISSION_NAME = "MARS EXPRESS"
MISSION_PHASE_NAME = ME_Phase_30
PROCESSING_LEVEL_ID = 3
PRODUCT_CREATION_TIME = 2016-10-29T02:00:08.000Z
PRODUCT_ID = "HC774_0000_P13.JP2"
RELEASE_ID = 0121
REVISION_ID = 0000
/* QUALITY DATA ELEMENTS */
DATA_QUALITY_ID = 1
DATA_QUALITY_DESC = "Data calculated based on original SPICE kernels"
/* TIME DATA ELEMENTS */
SPACECRAFT_CLOCK_START_COUNT = "1/0338297547.08451"
SPACECRAFT_CLOCK_STOP_COUNT = "1/0338297879.12498"
START_TIME = 2014-01-20T11:33:42.926Z
STOP_TIME = 2014-01-20T11:37:34.180Z
/* ORBITAL DATA ELEMENTS */
ASCENDING_NODE_LONGITUDE = 333.95
MAXIMUM_RESOLUTION = 38.8
FOOTPRINT_POINT_LATITUDE = (-39.7735,-39.7651,-39.756,-39.7464, -39.7362,-39.7254,-39.4083,-39.0787, -38.6251,-38.394,-38.1576,-37.6964, -37.3475,-37.1127,-36.8763,-36.6403, -36.4018,-36.1614,-35.9222,-35.6792, -35.3152,-35.0706,-34.8242,-34.5781, -34.204,-33.9547,-33.7023,-33.4498, -33.1961,-32.9398,-32.6845,-32.425, -32.1659,-31.7736,-31.5118,-31.2461, -30.9811,-30.7126,-30.4448,-30.1735, -29.7652,-29.491,-29.2148,-28.9376, -28.6577,-28.2362,-27.9532,-27.6678, -27.3817,-27.0932,-27.0793,-27.0841, -27.088,-27.0914,-27.0945,-27.0964, -27.2427,-27.532,-27.8189,-28.2463, -28.6698,-28.9508,-29.2286,-29.5062, -29.7809,-30.1909,-30.4635,-30.732, -31.0016,-31.2672,-31.6655,-31.9282, -32.1907,-32.4505,-32.8394,-33.096, -33.3528,-33.7326,-33.9859,-34.2361, -34.6114,-34.8582,-35.1053,-35.4721, -35.7159,-35.9594,-36.1991,-36.4398, -36.6791,-36.9161,-37.153,-37.3889, -37.622,-37.8555,-38.089,-38.5483, -38.8929,-39.3452,-39.796,-39.7735)
FOOTPRINT_POINT_LONGITUDE = (114.616,114.273,113.935,113.6,113.27, 112.942,112.816,112.815,112.81,112.807, 112.803,112.798,112.793,112.789,112.786 ,112.782,112.778,112.773,112.769, 112.764,112.757,112.752,112.747,112.741 ,112.733,112.727,112.721,112.714, 112.708,112.701,112.694,112.687,112.679 ,112.668,112.66,112.652,112.644,112.635 ,112.626,112.617,112.603,112.594, 112.584,112.574,112.563,112.547,112.536 ,112.525,112.513,112.501,112.878, 113.285,113.695,114.108,114.552,114.894 ,115.166,115.163,115.16,115.155,115.151 ,115.147,115.144,115.142,115.138, 115.134,115.131,115.128,115.125,115.122 ,115.118,115.115,115.112,115.109, 115.106,115.103,115.101,115.097,115.094 ,115.092,115.088,115.085,115.083, 115.078,115.076,115.073,115.07,115.068, 115.065,115.063,115.06,115.057,115.054, 115.052,115.049,115.043,115.038,115.032 ,115.026,114.616)
ORBIT_NUMBER = 12774
ORBITAL_ECCENTRICITY = 0.577
ORBITAL_INCLINATION = 86.89
ORBITAL_SEMIMAJOR_AXIS = 8774.09
PERIAPSIS_ALTITUDE = 329.04
PERIAPSIS_ARGUMENT_ANGLE = 295.18
PERIAPSIS_TIME = 2014-01-20T11:26:46.000Z
SPACECRAFT_ORIENTATION = (0.0,1.0,0.0)
^MEX_ORIENTATION_DESC = "MEX_ORIENTATION_DESC.TXT"
SPACECRAFT_POINTING_MODE = ACROSSTRACK
^MEX_POINTING_DESC = "MEX_POINTING_DESC.TXT"
RIGHT_ASCENSION = -1e+32
DECLINATION = -1e+32
OFFSET_ANGLE = -1.1
SPACECRAFT_SOLAR_DISTANCE = 2.49012e+08
TARGET_NAME = MARS
/* CAMERA DATA ELEMENTS */
DETECTOR_TEMPERATURE = 17.7588
FOCAL_PLANE_TEMPERATURE = 7.9716
INST_CMPRS_NAME = "DISCRETE COSINE TRANSFORMATION (DCT)"
INST_CMPRS_RATIO = 6.45472
INST_CMPRS_QUALITY = 0
INST_CMPRS_QUANTZ_TBL_ID = 0
INSTRUMENT_TEMPERATURE = 11.0301
LENS_TEMPERATURE = 8.3794
MACROPIXEL_SIZE = 2
MISSING_FRAMES = 0
PIXEL_SUBSAMPLING_FLAG = N
SIGNAL_CHAIN_ID = 3
/* RADIOMETRIC DATA ELEMENTS */
BANDWIDTH = 174.0
CENTER_FILTER_WAVELENGTH = 675.0
RADIANCE_OFFSET = 0.41126
RADIANCE_SCALING_FACTOR = 0.0230188
REFLECTANCE_SCALING_FACTOR = 0.000767736
MEX:REFLECTANCE_OFFSET = 0.0137166
/* IMAGE OBJECT DEFINITIONS */
OBJECT = IMAGE
  INTERCHANGE_FORMAT = BINARY
  LINES = 30162
  LINE_SAMPLES = 5401
  SAMPLE_TYPE = UNSIGNED_INTEGER
  SAMPLE_BITS = 8
  BANDS = 1
  BAND_STORAGE_TYPE = BAND_SEQUENTIAL
  MAXIMUM = 255
  MEAN = 124.819
  MINIMUM = 1
  STANDARD_DEVIATION = 15.5134
END_OBJECT = IMAGE
/* MAP OBJECT DEFINITIONS */
OBJECT = IMAGE_MAP_PROJECTION
  ^DATA_SET_MAP_PROJECTION_CATALOG= "DSMAP.CAT"
  A_AXIS_RADIUS = 3396.0
  B_AXIS_RADIUS = 3396.0
  C_AXIS_RADIUS = 3396.0
  CENTER_LATITUDE = 0.0
  CENTER_LONGITUDE = 114.0
  COORDINATE_SYSTEM_NAME = PLANETOGRAPHIC
  COORDINATE_SYSTEM_TYPE = "BODY-FIXED ROTATING"
  EASTERNMOST_LONGITUDE = 115.166
  FIRST_STANDARD_PARALLEL = "N/A"
  LINE_FIRST_PIXEL = 1
  LINE_LAST_PIXEL = 30162
  LINE_PROJECTION_OFFSET = -64204.75
  MAP_PROJECTION_ROTATION = 0.0
  MAP_PROJECTION_TYPE = SINUSOIDAL
  MAP_RESOLUTION = 2370.85521546667
  MAP_SCALE = 0.025
  MAXIMUM_LATITUDE = -27.0793
  MINIMUM_LATITUDE = -39.796
  POSITIVE_LONGITUDE_DIRECTION = EAST
  REFERENCE_LATITUDE = "N/A"
  REFERENCE_LONGITUDE = "N/A"
  SAMPLE_FIRST_PIXEL = 1
  SAMPLE_LAST_PIXEL = 5401
  SAMPLE_PROJECTION_OFFSET = 2996.25
  SECOND_STANDARD_PARALLEL = "N/A"
  WESTERNMOST_LONGITUDE = 112.501
END_OBJECT = IMAGE_MAP_PROJECTION
/* The JPEG2000 image data file associated with this label. */
OBJECT = COMPRESSED_FILE
  FILE_NAME = "HC774_0000_P13.JP2"
  RECORD_TYPE = UNDEFINED
  FILE_RECORDS = UNK
  ENCODING_TYPE = "JP2"
  INTERCHANGE_FORMAT = BINARY
  UNCOMPRESSED_FILE_NAME = "HC774_0000_P13.IMG"
  REQUIRED_STORAGE_BYTES = "162931967"
  ^DESCRIPTION = "JP2INFO.TXT"
END_OBJECT = COMPRESSED_FILE
END
