PDS_VERSION_ID = PDS3
/* FILE DATA ELEMENTS */
RECORD_TYPE = STREAM
/* POINTERS TO DATA OBJECTS */
^COMPRESSED_FILE = "HC775_0000_P23.JP2"
/* IDENTIFICATION DATA ELEMENTS */
DATA_SET_ID = "MEX-M-HRSC-5-REFDR-MAPPROJECTED-V3.0"
DATA_SET_NAME = "MARS EXPRESS HRSC MAP PROJECTED REFDR V3.0"
DETECTOR_ID = MEX_HRSC_P2
EVENT_TYPE = "MARS-REGIONAL-MAPPING-Im-Gl-Pf"
INSTRUMENT_HOST_ID = MEX
INSTRUMENT_HOST_NAME = "MARS EXPRESS"
INSTRUMENT_ID = HRSC
INSTRUMENT_NAME = "HIGH RESOLUTION STEREO CAMERA"
MISSION_NAME = "MARS EXPRESS"
MISSION_PHASE_NAME = ME_Phase_30
PROCESSING_LEVEL_ID = 3
PRODUCT_CREATION_TIME = 2016-10-29T02:00:08.000Z
PRODUCT_ID = "HC775_0000_P23.JP2"
RELEASE_ID = 0121
REVISION_ID = 0000
/* QUALITY DATA ELEMENTS */
DATA_QUALITY_ID = 1
DATA_QUALITY_DESC = "Data calculated based on original SPICE kernels"
/* TIME DATA ELEMENTS */
SPACECRAFT_CLOCK_START_COUNT = "1/0338322572.08227"
SPACECRAFT_CLOCK_STOP_COUNT = "1/0338322920.55077"
START_TIME = 2014-01-20T18:29:48.247Z
STOP_TIME = 2014-01-20T18:33:50.299Z
/* ORBITAL DATA ELEMENTS */
ASCENDING_NODE_LONGITUDE = 333.93
MAXIMUM_RESOLUTION = 30.4
FOOTPRINT_POINT_LATITUDE = (-48.4041,-48.4038,-48.3997,-47.9256, -47.6347,-47.199,-46.7634,-46.4722, -46.1821,-45.7476,-45.4583,-45.1699, -44.8811,-44.5912,-44.3018,-44.0129, -43.7249,-43.4329,-43.1471,-42.8526, -42.5568,-42.261,-41.816,-41.513, -41.2121,-40.9104,-40.4489,-40.1405, -39.833,-39.3606,-39.0452,-38.7336, -38.4123,-38.0877,-37.7674,-37.4402, -37.1135,-36.6164,-36.2815,-35.9475, -35.4371,-35.0963,-34.7512,-34.4048, -34.0552,-33.7005,-33.1674,-32.8079, -32.8033,-32.8001,-32.7961,-32.7834, -32.9564,-33.3172,-33.6709,-34.0253, -34.3777,-34.7252,-35.0722,-35.5819, -35.9223,-36.2577,-36.5933,-37.0917, -37.421,-37.7493,-38.0708,-38.3932, -38.7145,-39.0306,-39.347,-39.663, -39.9654,-40.2737,-40.5882,-41.0519, -41.3491,-41.803,-42.1061,-42.4011, -42.6967,-42.994,-43.4275,-43.7164, -44.0092,-44.2959,-44.5863,-44.8751, -45.1653,-45.5992,-46.0349,-46.3255, -46.6185,-46.9089,-47.1998,-47.4916, -47.7829,-48.0743,-48.3662,-48.4041)
FOOTPRINT_POINT_LONGITUDE = (11.3049,10.7042,10.1126,9.90725, 9.91898,9.93573,9.95149,9.9615,9.97106, 9.98463,9.99318,10.0013,10.0091,10.0165 ,10.0236,10.0302,10.0365,10.0424, 10.0481,10.0535,10.0586,10.0633,10.0698 ,10.0737,10.0774,10.0806,10.085,10.0875 ,10.0897,10.0923,10.0937,10.095,10.0957 ,10.0959,10.096,10.0958,10.0954,10.0936 ,10.0922,10.0904,10.087,10.0843,10.0813 ,10.078,10.0742,10.0699,10.063,10.058, 10.3858,10.7368,11.214,11.8849,12.2079, 12.2035,12.1994,12.1948,12.1878,12.1836 ,12.1783,12.1734,12.1683,12.1629, 12.1574,12.1475,12.1415,12.1358,12.1308 ,12.1251,12.12,12.1136,12.1069,12.1009, 12.1029,12.0975,12.0856,12.0701,12.0692 ,12.0593,12.048,12.0417,12.0349,12.0261 ,12.0199,12.0124,12.0002,11.9955, 11.9865,11.9794,11.9707,11.9596,11.9462 ,11.9372,11.9252,11.9164,11.9072, 11.8968,11.8868,11.8768,11.8662, 11.3049)
ORBIT_NUMBER = 12775
ORBITAL_ECCENTRICITY = 0.577
ORBITAL_INCLINATION = 86.89
ORBITAL_SEMIMAJOR_AXIS = 8772.07
PERIAPSIS_ALTITUDE = 329.76
PERIAPSIS_ARGUMENT_ANGLE = 295.01
PERIAPSIS_TIME = 2014-01-20T18:25:57.000Z
SPACECRAFT_ORIENTATION = (0.0,1.0,0.0)
^MEX_ORIENTATION_DESC = "MEX_ORIENTATION_DESC.TXT"
SPACECRAFT_POINTING_MODE = ACROSSTRACK
^MEX_POINTING_DESC = "MEX_POINTING_DESC.TXT"
RIGHT_ASCENSION = -1e+32
DECLINATION = -1e+32
OFFSET_ANGLE = -0.62
SPACECRAFT_SOLAR_DISTANCE = 2.49005e+08
TARGET_NAME = MARS
/* CAMERA DATA ELEMENTS */
DETECTOR_TEMPERATURE = 18.3705
FOCAL_PLANE_TEMPERATURE = 7.7677
INST_CMPRS_NAME = "DISCRETE COSINE TRANSFORMATION (DCT)"
INST_CMPRS_RATIO = 4.82527
INST_CMPRS_QUALITY = 0
INST_CMPRS_QUANTZ_TBL_ID = 0
INSTRUMENT_TEMPERATURE = 11.0301
LENS_TEMPERATURE = 7.3599
MACROPIXEL_SIZE = 2
MISSING_FRAMES = 0
PIXEL_SUBSAMPLING_FLAG = N
SIGNAL_CHAIN_ID = 3
/* RADIOMETRIC DATA ELEMENTS */
BANDWIDTH = 177.0
CENTER_FILTER_WAVELENGTH = 676.5
RADIANCE_OFFSET = 0.0846246
RADIANCE_SCALING_FACTOR = 0.0171462
REFLECTANCE_SCALING_FACTOR = 0.000563688
MEX:REFLECTANCE_OFFSET = 0.00278207
/* IMAGE OBJECT DEFINITIONS */
OBJECT = IMAGE
  INTERCHANGE_FORMAT = BINARY
  LINES = 36948
  LINE_SAMPLES = 4631
  SAMPLE_TYPE = UNSIGNED_INTEGER
  SAMPLE_BITS = 8
  BANDS = 1
  BAND_STORAGE_TYPE = BAND_SEQUENTIAL
  MAXIMUM = 255
  MEAN = 96.7938
  MINIMUM = 1
  STANDARD_DEVIATION = 26.1452
END_OBJECT = IMAGE
/* MAP OBJECT DEFINITIONS */
OBJECT = IMAGE_MAP_PROJECTION
  ^DATA_SET_MAP_PROJECTION_CATALOG= "DSMAP.CAT"
  A_AXIS_RADIUS = 3396.0
  B_AXIS_RADIUS = 3396.0
  C_AXIS_RADIUS = 3396.0
  CENTER_LATITUDE = 0.0
  CENTER_LONGITUDE = 11.0
  COORDINATE_SYSTEM_NAME = PLANETOGRAPHIC
  COORDINATE_SYSTEM_TYPE = "BODY-FIXED ROTATING"
  EASTERNMOST_LONGITUDE = 12.2079
  FIRST_STANDARD_PARALLEL = "N/A"
  LINE_FIRST_PIXEL = 1
  LINE_LAST_PIXEL = 36948
  LINE_PROJECTION_OFFSET = -77726.25
  MAP_PROJECTION_ROTATION = 0.0
  MAP_PROJECTION_TYPE = SINUSOIDAL
  MAP_RESOLUTION = 2370.85521546667
  MAP_SCALE = 0.025
  MAXIMUM_LATITUDE = -32.7834
  MINIMUM_LATITUDE = -48.4041
  POSITIVE_LONGITUDE_DIRECTION = EAST
  REFERENCE_LATITUDE = "N/A"
  REFERENCE_LONGITUDE = "N/A"
  SAMPLE_FIRST_PIXEL = 1
  SAMPLE_LAST_PIXEL = 4631
  SAMPLE_PROJECTION_OFFSET = 2006.25
  SECOND_STANDARD_PARALLEL = "N/A"
  WESTERNMOST_LONGITUDE = 9.907249999999999
END_OBJECT = IMAGE_MAP_PROJECTION
/* The JPEG2000 image data file associated with this label. */
OBJECT = COMPRESSED_FILE
  FILE_NAME = "HC775_0000_P23.JP2"
  RECORD_TYPE = UNDEFINED
  FILE_RECORDS = UNK
  ENCODING_TYPE = "JP2"
  INTERCHANGE_FORMAT = BINARY
  UNCOMPRESSED_FILE_NAME = "HC775_0000_P23.IMG"
  REQUIRED_STORAGE_BYTES = "171133974"
  ^DESCRIPTION = "JP2INFO.TXT"
END_OBJECT = COMPRESSED_FILE
END
