PDS_VERSION_ID = PDS3
/* FILE DATA ELEMENTS */
RECORD_TYPE = STREAM
/* POINTERS TO DATA OBJECTS */
^COMPRESSED_FILE = "HC775_0000_RE3.JP2"
/* IDENTIFICATION DATA ELEMENTS */
DATA_SET_ID = "MEX-M-HRSC-5-REFDR-MAPPROJECTED-V3.0"
DATA_SET_NAME = "MARS EXPRESS HRSC MAP PROJECTED REFDR V3.0"
DETECTOR_ID = MEX_HRSC_RED
EVENT_TYPE = "MARS-REGIONAL-MAPPING-Im-Gl-Pf"
INSTRUMENT_HOST_ID = MEX
INSTRUMENT_HOST_NAME = "MARS EXPRESS"
INSTRUMENT_ID = HRSC
INSTRUMENT_NAME = "HIGH RESOLUTION STEREO CAMERA"
MISSION_NAME = "MARS EXPRESS"
MISSION_PHASE_NAME = ME_Phase_30
PROCESSING_LEVEL_ID = 3
PRODUCT_CREATION_TIME = 2016-10-29T02:00:08.000Z
PRODUCT_ID = "HC775_0000_RE3.JP2"
RELEASE_ID = 0121
REVISION_ID = 0000
/* QUALITY DATA ELEMENTS */
DATA_QUALITY_ID = 1
DATA_QUALITY_DESC = "Data calculated based on original SPICE kernels"
/* TIME DATA ELEMENTS */
SPACECRAFT_CLOCK_START_COUNT = "1/0338322572.08227"
SPACECRAFT_CLOCK_STOP_COUNT = "1/0338322920.55077"
START_TIME = 2014-01-20T18:29:42.742Z
STOP_TIME = 2014-01-20T18:33:42.061Z
/* ORBITAL DATA ELEMENTS */
ASCENDING_NODE_LONGITUDE = 333.93
MAXIMUM_RESOLUTION = 122.9
FOOTPRINT_POINT_LATITUDE = (-48.3984,-48.4041,-48.4056,-48.4035, -47.9189,-47.627,-47.1911,-46.8992, -46.6065,-46.1688,-45.7329,-45.4424, -45.153,-44.7172,-44.4263,-44.1355, -43.8453,-43.5562,-43.2611,-42.9773, -42.5365,-42.2388,-41.9437,-41.6465, -41.3457,-41.0423,-40.7386,-40.4348, -39.9707,-39.6613,-39.3491,-39.0326, -38.5606,-38.244,-37.9185,-37.5914, -37.2706,-36.7748,-36.4437,-36.1094, -35.7718,-35.435,-35.0919,-34.5791, -34.2287,-33.8785,-33.5257,-33.1686, -32.817,-32.8121,-32.8079,-32.8007, -32.7873,-32.9609,-33.3182,-33.6739, -34.1999,-34.5528,-34.8976,-35.4094, -35.7467,-36.0847,-36.4206,-36.9181, -37.2507,-37.5759,-37.8997,-38.383, -38.6995,-39.0182,-39.3355,-39.6451, -39.9466,-40.2575,-40.5701,-41.033, -41.3307,-41.6322,-41.9306,-42.2313, -42.528,-42.8234,-43.1159,-43.4019, -43.6928,-43.9858,-44.2734,-44.5653, -44.8554,-45.1469,-45.5819,-46.02, -46.3117,-46.6064,-46.8978,-47.1895, -47.4824,-47.7748,-48.067,-48.3984)
FOOTPRINT_POINT_LONGITUDE = (11.816,11.1975,10.6245,10.0599,9.93266 ,9.94452,9.96137,9.97214,9.98251, 9.99723,10.011,10.0196,10.0279,10.0396, 10.047,10.054,10.0606,10.0668,10.0728, 10.0783,10.0862,10.091,10.0956,10.0997, 10.1037,10.1073,10.1105,10.1135,10.1174 ,10.1196,10.1214,10.1229,10.1248, 10.1256,10.126,10.1259,10.1259,10.1249, 10.1238,10.1224,10.1207,10.1186,10.1162 ,10.1121,10.1087,10.105,10.1009,10.0965 ,10.0918,10.4208,10.8132,11.3267, 11.9052,12.1982,12.1938,12.1902,12.1835 ,12.1768,12.1716,12.1674,12.1627, 12.1577,12.1521,12.1436,12.1372,12.131, 12.1261,12.1181,12.1133,12.1069,12.1004 ,12.0954,12.0974,12.0916,12.08,12.0644, 12.0637,12.0575,12.0496,12.0396,12.0332 ,12.0266,12.0172,12.0139,12.006,11.996, 11.9912,11.9823,11.9753,11.9666,11.9561 ,11.9424,11.9334,11.9215,11.9128, 11.9037,11.8933,11.8834,11.8735,11.816)
ORBIT_NUMBER = 12775
ORBITAL_ECCENTRICITY = 0.577
ORBITAL_INCLINATION = 86.89
ORBITAL_SEMIMAJOR_AXIS = 8772.07
PERIAPSIS_ALTITUDE = 329.76
PERIAPSIS_ARGUMENT_ANGLE = 295.01
PERIAPSIS_TIME = 2014-01-20T18:25:57.000Z
SPACECRAFT_ORIENTATION = (0.0,1.0,0.0)
^MEX_ORIENTATION_DESC = "MEX_ORIENTATION_DESC.TXT"
SPACECRAFT_POINTING_MODE = ACROSSTRACK
^MEX_POINTING_DESC = "MEX_POINTING_DESC.TXT"
RIGHT_ASCENSION = -1e+32
DECLINATION = -1e+32
OFFSET_ANGLE = -0.62
SPACECRAFT_SOLAR_DISTANCE = 2.49005e+08
TARGET_NAME = MARS
/* CAMERA DATA ELEMENTS */
DETECTOR_TEMPERATURE = 18.3705
FOCAL_PLANE_TEMPERATURE = 7.7677
INST_CMPRS_NAME = "DISCRETE COSINE TRANSFORMATION (DCT)"
INST_CMPRS_RATIO = 7.18162
INST_CMPRS_QUALITY = 0
INST_CMPRS_QUANTZ_TBL_ID = 0
INSTRUMENT_TEMPERATURE = 11.0301
LENS_TEMPERATURE = 7.3599
MACROPIXEL_SIZE = 8
MISSING_FRAMES = 0
PIXEL_SUBSAMPLING_FLAG = N
SIGNAL_CHAIN_ID = 2
/* RADIOMETRIC DATA ELEMENTS */
BANDWIDTH = 48.0
CENTER_FILTER_WAVELENGTH = 748.0
RADIANCE_OFFSET = 0.0
RADIANCE_SCALING_FACTOR = 0.00497943
REFLECTANCE_SCALING_FACTOR = 0.000704564
MEX:REFLECTANCE_OFFSET = 0.0
/* IMAGE OBJECT DEFINITIONS */
OBJECT = IMAGE
  INTERCHANGE_FORMAT = BINARY
  LINES = 9237
  LINE_SAMPLES = 1158
  SAMPLE_TYPE = UNSIGNED_INTEGER
  SAMPLE_BITS = 8
  BANDS = 1
  BAND_STORAGE_TYPE = BAND_SEQUENTIAL
  MAXIMUM = 255
  MEAN = 95.3998
  MINIMUM = 1
  STANDARD_DEVIATION = 25.4128
END_OBJECT = IMAGE
/* MAP OBJECT DEFINITIONS */
OBJECT = IMAGE_MAP_PROJECTION
  ^DATA_SET_MAP_PROJECTION_CATALOG= "DSMAP.CAT"
  A_AXIS_RADIUS = 3396.0
  B_AXIS_RADIUS = 3396.0
  C_AXIS_RADIUS = 3396.0
  CENTER_LATITUDE = 0.0
  CENTER_LONGITUDE = 11.0
  COORDINATE_SYSTEM_NAME = PLANETOGRAPHIC
  COORDINATE_SYSTEM_TYPE = "BODY-FIXED ROTATING"
  EASTERNMOST_LONGITUDE = 12.1982
  FIRST_STANDARD_PARALLEL = "N/A"
  LINE_FIRST_PIXEL = 1
  LINE_LAST_PIXEL = 9237
  LINE_PROJECTION_OFFSET = -19431.9375
  MAP_PROJECTION_ROTATION = 0.0
  MAP_PROJECTION_TYPE = SINUSOIDAL
  MAP_RESOLUTION = 592.713803866667
  MAP_SCALE = 0.1
  MAXIMUM_LATITUDE = -32.7873
  MINIMUM_LATITUDE = -48.4056
  POSITIVE_LONGITUDE_DIRECTION = EAST
  REFERENCE_LATITUDE = "N/A"
  REFERENCE_LONGITUDE = "N/A"
  SAMPLE_FIRST_PIXEL = 1
  SAMPLE_LAST_PIXEL = 1158
  SAMPLE_PROJECTION_OFFSET = 501.1875
  SECOND_STANDARD_PARALLEL = "N/A"
  WESTERNMOST_LONGITUDE = 9.93266
END_OBJECT = IMAGE_MAP_PROJECTION
/* The JPEG2000 image data file associated with this label. */
OBJECT = COMPRESSED_FILE
  FILE_NAME = "HC775_0000_RE3.JP2"
  RECORD_TYPE = UNDEFINED
  FILE_RECORDS = UNK
  ENCODING_TYPE = "JP2"
  INTERCHANGE_FORMAT = BINARY
  UNCOMPRESSED_FILE_NAME = "HC775_0000_RE3.IMG"
  REQUIRED_STORAGE_BYTES = "10716132"
  ^DESCRIPTION = "JP2INFO.TXT"
END_OBJECT = COMPRESSED_FILE
END
