PDS_VERSION_ID = PDS3
/* FILE DATA ELEMENTS */
RECORD_TYPE = STREAM
/* POINTERS TO DATA OBJECTS */
^COMPRESSED_FILE = "HC781_0000_RE3.JP2"
/* IDENTIFICATION DATA ELEMENTS */
DATA_SET_ID = "MEX-M-HRSC-5-REFDR-MAPPROJECTED-V3.0"
DATA_SET_NAME = "MARS EXPRESS HRSC MAP PROJECTED REFDR V3.0"
DETECTOR_ID = MEX_HRSC_RED
EVENT_TYPE = "MARS-REGIONAL-MAPPING-Vo-Fl"
INSTRUMENT_HOST_ID = MEX
INSTRUMENT_HOST_NAME = "MARS EXPRESS"
INSTRUMENT_ID = HRSC
INSTRUMENT_NAME = "HIGH RESOLUTION STEREO CAMERA"
MISSION_NAME = "MARS EXPRESS"
MISSION_PHASE_NAME = ME_Phase_30
PROCESSING_LEVEL_ID = 3
PRODUCT_CREATION_TIME = 2016-10-29T02:00:08.000Z
PRODUCT_ID = "HC781_0000_RE3.JP2"
RELEASE_ID = 0121
REVISION_ID = 0000
/* QUALITY DATA ELEMENTS */
DATA_QUALITY_ID = 1
DATA_QUALITY_DESC = "Data calculated based on original SPICE kernels"
/* TIME DATA ELEMENTS */
SPACECRAFT_CLOCK_START_COUNT = "1/0338473633.07337"
SPACECRAFT_CLOCK_STOP_COUNT = "1/0338473925.17513"
START_TIME = 2014-01-22T12:27:24.602Z
STOP_TIME = 2014-01-22T12:30:09.882Z
/* ORBITAL DATA ELEMENTS */
ASCENDING_NODE_LONGITUDE = 333.81
MAXIMUM_RESOLUTION = 73.4
FOOTPRINT_POINT_LATITUDE = (-40.0525,-40.0494,-40.044,-40.0381, -40.0254,-39.9798,-39.6034,-39.3217, -38.9468,-38.7526,-38.5608,-38.3717, -38.0813,-37.8842,-37.6876,-37.4915, -37.2962,-36.9986,-36.7989,-36.5997, -36.4,-36.1991,-35.9955,-35.6901, -35.4869,-35.2814,-35.0734,-34.866, -34.5556,-34.3472,-34.1337,-33.9233, -33.6035,-33.3886,-33.1744,-32.8495, -32.631,-32.3038,-32.0825,-31.8609, -31.6386,-31.4152,-31.1891,-30.8499, -30.5062,-30.2763,-29.9298,-29.6964, -29.4871,-29.4932,-29.4968,-29.4987, -29.5007,-29.5005,-29.4997,-29.6163, -29.8496,-30.083,-30.3132,-30.5437, -30.7743,-31.1144,-31.3412,-31.6781, -31.9009,-32.1241,-32.3452,-32.564, -32.7826,-33.1096,-33.3239,-33.5391, -33.7546,-33.9664,-34.1775,-34.3889, -34.7053,-34.9129,-35.1208,-35.4328, -35.6365,-35.9428,-36.1469,-36.3503, -36.5498,-36.7499,-36.9501,-37.2498, -37.5439,-37.74,-37.9365,-38.133, -38.3258,-38.5176,-38.8067,-39.0, -39.194,-39.5618,-39.9463,-40.0525)
FOOTPRINT_POINT_LONGITUDE = (117.939,117.645,117.276,116.963, 116.429,116.151,116.158,116.162,116.17, 116.172,116.175,116.178,116.181,116.183 ,116.184,116.186,116.188,116.191, 116.192,116.194,116.195,116.196,116.197 ,116.198,116.198,116.199,116.199, 116.199,116.2,116.201,116.199,116.199, 116.198,116.197,116.196,116.195,116.193 ,116.191,116.189,116.188,116.185, 116.183,116.181,116.177,116.172,116.169 ,116.164,116.161,116.157,116.556, 116.893,117.125,117.609,117.903,118.135 ,118.414,118.41,118.406,118.402,118.398 ,118.393,118.387,118.383,118.376, 118.372,118.367,118.363,118.358,118.354 ,118.347,118.343,118.338,118.333, 118.329,118.324,118.319,118.312,118.307 ,118.301,118.294,118.289,118.281, 118.275,118.27,118.265,118.259,118.254, 118.246,118.237,118.231,118.226,118.22, 118.214,118.208,118.199,118.193,118.185 ,118.177,118.161,117.939)
ORBIT_NUMBER = 12781
ORBITAL_ECCENTRICITY = 0.577
ORBITAL_INCLINATION = 86.89
ORBITAL_SEMIMAJOR_AXIS = 8772.46
PERIAPSIS_ALTITUDE = 329.04
PERIAPSIS_ARGUMENT_ANGLE = 294.0
PERIAPSIS_TIME = 2014-01-22T12:21:16.000Z
SPACECRAFT_ORIENTATION = (0.0,1.0,0.0)
^MEX_ORIENTATION_DESC = "MEX_ORIENTATION_DESC.TXT"
SPACECRAFT_POINTING_MODE = NADIR
^MEX_POINTING_DESC = "MEX_POINTING_DESC.TXT"
RIGHT_ASCENSION = -1e+32
DECLINATION = -1e+32
OFFSET_ANGLE = -1e+32
SPACECRAFT_SOLAR_DISTANCE = 2.48956e+08
TARGET_NAME = MARS
/* CAMERA DATA ELEMENTS */
DETECTOR_TEMPERATURE = 18.9822
FOCAL_PLANE_TEMPERATURE = 8.7872
INST_CMPRS_NAME = "DISCRETE COSINE TRANSFORMATION (DCT)"
INST_CMPRS_RATIO = 4.60678
INST_CMPRS_QUALITY = 0
INST_CMPRS_QUANTZ_TBL_ID = 0
INSTRUMENT_TEMPERATURE = 12.2535
LENS_TEMPERATURE = 10.4184
MACROPIXEL_SIZE = 4
MISSING_FRAMES = 0
PIXEL_SUBSAMPLING_FLAG = N
SIGNAL_CHAIN_ID = 2
/* RADIOMETRIC DATA ELEMENTS */
BANDWIDTH = 48.0
CENTER_FILTER_WAVELENGTH = 748.0
RADIANCE_OFFSET = 0.105193
RADIANCE_SCALING_FACTOR = 0.0066691
REFLECTANCE_SCALING_FACTOR = 0.000943281
MEX:REFLECTANCE_OFFSET = 0.0148786
/* IMAGE OBJECT DEFINITIONS */
OBJECT = IMAGE
  INTERCHANGE_FORMAT = BINARY
  LINES = 12477
  LINE_SAMPLES = 2578
  SAMPLE_TYPE = UNSIGNED_INTEGER
  SAMPLE_BITS = 8
  BANDS = 1
  BAND_STORAGE_TYPE = BAND_SEQUENTIAL
  MAXIMUM = 255
  MEAN = 109.345
  MINIMUM = 1
  STANDARD_DEVIATION = 19.2203
END_OBJECT = IMAGE
/* MAP OBJECT DEFINITIONS */
OBJECT = IMAGE_MAP_PROJECTION
  ^DATA_SET_MAP_PROJECTION_CATALOG= "DSMAP.CAT"
  A_AXIS_RADIUS = 3396.0
  B_AXIS_RADIUS = 3396.0
  C_AXIS_RADIUS = 3396.0
  CENTER_LATITUDE = 0.0
  CENTER_LONGITUDE = 117.0
  COORDINATE_SYSTEM_NAME = PLANETOGRAPHIC
  COORDINATE_SYSTEM_TYPE = "BODY-FIXED ROTATING"
  EASTERNMOST_LONGITUDE = 118.414
  FIRST_STANDARD_PARALLEL = "N/A"
  LINE_FIRST_PIXEL = 1
  LINE_LAST_PIXEL = 12477
  LINE_PROJECTION_OFFSET = -34937.625
  MAP_PROJECTION_ROTATION = 0.0
  MAP_PROJECTION_TYPE = SINUSOIDAL
  MAP_RESOLUTION = 1185.42760773333
  MAP_SCALE = 0.05
  MAXIMUM_LATITUDE = -29.4871
  MINIMUM_LATITUDE = -40.0525
  POSITIVE_LONGITUDE_DIRECTION = EAST
  REFERENCE_LATITUDE = "N/A"
  REFERENCE_LONGITUDE = "N/A"
  SAMPLE_FIRST_PIXEL = 1
  SAMPLE_LAST_PIXEL = 2578
  SAMPLE_PROJECTION_OFFSET = 1000.875
  SECOND_STANDARD_PARALLEL = "N/A"
  WESTERNMOST_LONGITUDE = 116.151
END_OBJECT = IMAGE_MAP_PROJECTION
/* The JPEG2000 image data file associated with this label. */
OBJECT = COMPRESSED_FILE
  FILE_NAME = "HC781_0000_RE3.JP2"
  RECORD_TYPE = UNDEFINED
  FILE_RECORDS = UNK
  ENCODING_TYPE = "JP2"
  INTERCHANGE_FORMAT = BINARY
  UNCOMPRESSED_FILE_NAME = "HC781_0000_RE3.IMG"
  REQUIRED_STORAGE_BYTES = "32186330"
  ^DESCRIPTION = "JP2INFO.TXT"
END_OBJECT = COMPRESSED_FILE
END
