PDS_VERSION_ID = PDS3
/* FILE DATA ELEMENTS */
RECORD_TYPE = STREAM
/* POINTERS TO DATA OBJECTS */
^COMPRESSED_FILE = "HC785_0000_BL3.JP2"
/* IDENTIFICATION DATA ELEMENTS */
DATA_SET_ID = "MEX-M-HRSC-5-REFDR-MAPPROJECTED-V3.0"
DATA_SET_NAME = "MARS EXPRESS HRSC MAP PROJECTED REFDR V3.0"
DETECTOR_ID = MEX_HRSC_BLUE
EVENT_TYPE = "MARS-REGIONAL-MAPPING-Fl-Gl-Pf"
INSTRUMENT_HOST_ID = MEX
INSTRUMENT_HOST_NAME = "MARS EXPRESS"
INSTRUMENT_ID = HRSC
INSTRUMENT_NAME = "HIGH RESOLUTION STEREO CAMERA"
MISSION_NAME = "MARS EXPRESS"
MISSION_PHASE_NAME = ME_Phase_30
PROCESSING_LEVEL_ID = 3
PRODUCT_CREATION_TIME = 2016-10-29T02:00:08.000Z
PRODUCT_ID = "HC785_0000_BL3.JP2"
RELEASE_ID = 0121
REVISION_ID = 0000
/* QUALITY DATA ELEMENTS */
DATA_QUALITY_ID = 1
DATA_QUALITY_DESC = "Data calculated based on original SPICE kernels"
/* TIME DATA ELEMENTS */
SPACECRAFT_CLOCK_START_COUNT = "1/0338574136.08316"
SPACECRAFT_CLOCK_STOP_COUNT = "1/0338574380.03919"
START_TIME = 2014-01-23T16:22:46.242Z
STOP_TIME = 2014-01-23T16:25:31.909Z
/* ORBITAL DATA ELEMENTS */
ASCENDING_NODE_LONGITUDE = 333.74
MAXIMUM_RESOLUTION = 63.6
FOOTPRINT_POINT_LATITUDE = (-49.046,-49.0331,-49.0176,-49.0222, -48.8109,-48.4944,-48.0735,-47.8624, -47.441,-47.2251,-47.0086,-46.7923, -46.4678,-46.2516,-46.0353,-45.8149, -45.5928,-45.3709,-45.1489,-44.9268, -44.7049,-44.4785,-44.2508,-44.0232, -43.7956,-43.568,-43.3385,-43.1051, -42.7551,-42.5218,-42.2887,-41.9302, -41.6911,-41.452,-41.2129,-40.9686, -40.6014,-40.3565,-40.1105,-39.8596, -39.609,-39.3591,-38.9777,-38.7214, -38.4657,-38.2081,-37.9462,-37.684, -37.4213,-37.3932,-37.402,-37.408, -37.4127,-37.4183,-37.421,-37.6866, -37.949,-38.2115,-38.4702,-38.7275, -38.9836,-39.365,-39.7416,-39.9932, -40.2427,-40.6105,-40.8558,-41.1005, -41.4623,-41.8213,-42.1806,-42.5345, -42.7681,-43.0015,-43.2351,-43.4684, -43.6964,-43.9242,-44.266,-44.4939, -44.8326,-45.0548,-45.277,-45.6104, -45.8327,-46.0544,-46.2707,-46.5953, -46.8118,-47.0285,-47.2453,-47.4622, -47.6736,-47.8846,-48.0957,-48.3071, -48.5179,-48.7289,-49.0453,-49.046)
FOOTPRINT_POINT_LONGITUDE = (70.2276,69.6016,68.9891,68.4379, 68.4515,68.4719,68.4992,68.5121,68.5378 ,68.5507,68.5633,68.5758,68.5944, 68.6067,68.6186,68.6311,68.6429,68.6548 ,68.6664,68.6768,68.6885,68.6998, 68.7111,68.7221,68.7329,68.7436,68.7544 ,68.7654,68.7811,68.7914,68.8011, 68.8169,68.827,68.8368,68.8465,68.8564, 68.8708,68.8803,68.8897,68.8993,68.9085 ,68.917,68.9315,68.9403,68.9486,68.958, 68.9664,68.975,68.9837,69.2664,69.6769, 70.0091,70.3027,70.7268,71.0941,71.2162 ,71.2036,71.1905,71.1734,71.1581, 71.1475,71.1279,71.1075,71.0914,71.0799 ,71.0602,71.0461,71.036,71.0185,71.0004 ,70.979,70.9578,70.9443,70.9347,70.9236 ,70.9102,70.8947,70.8858,70.8687, 70.8578,70.8404,70.8274,70.8155,70.7969 ,70.7855,70.7732,70.7582,70.7382, 70.7258,70.7141,70.7034,70.6931,70.682, 70.6697,70.6582,70.6484,70.6345,70.6218 ,70.6022,70.2276)
ORBIT_NUMBER = 12785
ORBITAL_ECCENTRICITY = 0.577
ORBITAL_INCLINATION = 86.9
ORBITAL_SEMIMAJOR_AXIS = 8770.71
PERIAPSIS_ALTITUDE = 328.66
PERIAPSIS_ARGUMENT_ANGLE = 293.33
PERIAPSIS_TIME = 2014-01-23T16:18:09.000Z
SPACECRAFT_ORIENTATION = (0.0,1.0,0.0)
^MEX_ORIENTATION_DESC = "MEX_ORIENTATION_DESC.TXT"
SPACECRAFT_POINTING_MODE = INERT
^MEX_POINTING_DESC = "MEX_POINTING_DESC.TXT"
RIGHT_ASCENSION = 276.223
DECLINATION = 59.727
OFFSET_ANGLE = -1e+32
SPACECRAFT_SOLAR_DISTANCE = 2.48922e+08
TARGET_NAME = MARS
/* CAMERA DATA ELEMENTS */
DETECTOR_TEMPERATURE = 18.1666
FOCAL_PLANE_TEMPERATURE = 8.7872
INST_CMPRS_NAME = "DISCRETE COSINE TRANSFORMATION (DCT)"
INST_CMPRS_RATIO = 3.94537
INST_CMPRS_QUALITY = 0
INST_CMPRS_QUANTZ_TBL_ID = 0
INSTRUMENT_TEMPERATURE = 11.234
LENS_TEMPERATURE = 8.3794
MACROPIXEL_SIZE = 4
MISSING_FRAMES = 0
PIXEL_SUBSAMPLING_FLAG = N
SIGNAL_CHAIN_ID = 2
/* RADIOMETRIC DATA ELEMENTS */
BANDWIDTH = 76.0
CENTER_FILTER_WAVELENGTH = 444.0
RADIANCE_OFFSET = 0.247699
RADIANCE_SCALING_FACTOR = 0.00199454
REFLECTANCE_SCALING_FACTOR = 0.000126977
MEX:REFLECTANCE_OFFSET = 0.015769
/* IMAGE OBJECT DEFINITIONS */
OBJECT = IMAGE
  INTERCHANGE_FORMAT = BINARY
  LINES = 13816
  LINE_SAMPLES = 2436
  SAMPLE_TYPE = UNSIGNED_INTEGER
  SAMPLE_BITS = 8
  BANDS = 1
  BAND_STORAGE_TYPE = BAND_SEQUENTIAL
  MAXIMUM = 255
  MEAN = 142.77
  MINIMUM = 1
  STANDARD_DEVIATION = 29.0583
END_OBJECT = IMAGE
/* MAP OBJECT DEFINITIONS */
OBJECT = IMAGE_MAP_PROJECTION
  ^DATA_SET_MAP_PROJECTION_CATALOG= "DSMAP.CAT"
  A_AXIS_RADIUS = 3396.0
  B_AXIS_RADIUS = 3396.0
  C_AXIS_RADIUS = 3396.0
  CENTER_LATITUDE = 0.0
  CENTER_LONGITUDE = 70.0
  COORDINATE_SYSTEM_NAME = PLANETOGRAPHIC
  COORDINATE_SYSTEM_TYPE = "BODY-FIXED ROTATING"
  EASTERNMOST_LONGITUDE = 71.2162
  FIRST_STANDARD_PARALLEL = "N/A"
  LINE_FIRST_PIXEL = 1
  LINE_LAST_PIXEL = 13816
  LINE_PROJECTION_OFFSET = -44330.125
  MAP_PROJECTION_ROTATION = 0.0
  MAP_PROJECTION_TYPE = SINUSOIDAL
  MAP_RESOLUTION = 1185.42760773333
  MAP_SCALE = 0.05
  MAXIMUM_LATITUDE = -37.3932
  MINIMUM_LATITUDE = -49.046
  POSITIVE_LONGITUDE_DIRECTION = EAST
  REFERENCE_LATITUDE = "N/A"
  REFERENCE_LONGITUDE = "N/A"
  SAMPLE_FIRST_PIXEL = 1
  SAMPLE_LAST_PIXEL = 2436
  SAMPLE_PROJECTION_OFFSET = 1239.375
  SECOND_STANDARD_PARALLEL = "N/A"
  WESTERNMOST_LONGITUDE = 68.4379
END_OBJECT = IMAGE_MAP_PROJECTION
/* The JPEG2000 image data file associated with this label. */
OBJECT = COMPRESSED_FILE
  FILE_NAME = "HC785_0000_BL3.JP2"
  RECORD_TYPE = UNDEFINED
  FILE_RECORDS = UNK
  ENCODING_TYPE = "JP2"
  INTERCHANGE_FORMAT = BINARY
  UNCOMPRESSED_FILE_NAME = "HC785_0000_BL3.IMG"
  REQUIRED_STORAGE_BYTES = "33675264"
  ^DESCRIPTION = "JP2INFO.TXT"
END_OBJECT = COMPRESSED_FILE
END
