PDS_VERSION_ID = PDS3
/* FILE DATA ELEMENTS */
RECORD_TYPE = STREAM
/* POINTERS TO DATA OBJECTS */
^COMPRESSED_FILE = "HC792_0000_BL3.JP2"
/* IDENTIFICATION DATA ELEMENTS */
DATA_SET_ID = "MEX-M-HRSC-5-REFDR-MAPPROJECTED-V3.0"
DATA_SET_NAME = "MARS EXPRESS HRSC MAP PROJECTED REFDR V3.0"
DETECTOR_ID = MEX_HRSC_BLUE
EVENT_TYPE = "MARS-REGIONAL-MAPPING-Fl-Gl-La"
INSTRUMENT_HOST_ID = MEX
INSTRUMENT_HOST_NAME = "MARS EXPRESS"
INSTRUMENT_ID = HRSC
INSTRUMENT_NAME = "HIGH RESOLUTION STEREO CAMERA"
MISSION_NAME = "MARS EXPRESS"
MISSION_PHASE_NAME = ME_Phase_30
PROCESSING_LEVEL_ID = 3
PRODUCT_CREATION_TIME = 2016-10-29T02:00:08.000Z
PRODUCT_ID = "HC792_0000_BL3.JP2"
RELEASE_ID = 0121
REVISION_ID = 0000
/* QUALITY DATA ELEMENTS */
DATA_QUALITY_ID = 1
DATA_QUALITY_DESC = "Data calculated based on original SPICE kernels"
/* TIME DATA ELEMENTS */
SPACECRAFT_CLOCK_START_COUNT = "1/0338750356.08253"
SPACECRAFT_CLOCK_STOP_COUNT = "1/0338750657.50554"
START_TIME = 2014-01-25T17:19:52.250Z
STOP_TIME = 2014-01-25T17:23:11.048Z
/* ORBITAL DATA ELEMENTS */
ASCENDING_NODE_LONGITUDE = 333.61
MAXIMUM_RESOLUTION = 78.2
FOOTPRINT_POINT_LATITUDE = (-40.4179,-40.4167,-40.4147,-40.4119, -40.4081,-40.4036,-40.4072,-39.941, -39.473,-39.1172,-38.878,-38.6389, -38.3998,-38.1559,-37.9117,-37.5454, -37.1721,-36.9228,-36.6737,-36.42, -36.1658,-35.9113,-35.5242,-35.2648, -35.0054,-34.7409,-34.4763,-34.0768, -33.807,-33.5372,-33.2642,-32.9889, -32.714,-32.4338,-32.1535,-31.871, -31.5855,-31.3001,-31.0099,-30.7191, -30.2771,-29.9818,-29.6814,-29.3809, -29.0765,-28.7745,-28.4641,-28.1527, -27.8383,-27.5212,-27.2001,-26.7713, -26.7768,-26.7792,-26.7816,-26.7819, -26.7782,-26.9397,-27.4206,-27.8947, -28.2101,-28.5224,-28.9858,-29.2919, -29.5934,-30.0445,-30.3395,-30.6345, -30.9248,-31.2158,-31.503,-31.789, -32.0733,-32.3539,-32.7737,-33.0492, -33.3246,-33.5969,-33.867,-34.1372, -34.4038,-34.6687,-35.0649,-35.3247, -35.5845,-35.8437,-36.0984,-36.4804, -36.8583,-37.1079,-37.3574,-37.7276, -37.9721,-38.2166,-38.5797,-38.8191, -39.0586,-39.5336,-40.1195,-40.4179)
FOOTPRINT_POINT_LONGITUDE = (73.377,73.0559,72.7333,72.4094,72.0844 ,71.7574,71.3654,71.3785,71.3872, 71.3946,71.4002,71.4042,71.4081,71.4108 ,71.4136,71.4215,71.423,71.4259,71.4305 ,71.4319,71.4357,71.4365,71.4376, 71.4396,71.4409,71.4409,71.4418,71.442, 71.4421,71.4419,71.4417,71.4403,71.4396 ,71.4381,71.4365,71.4343,71.4322, 71.4303,71.4278,71.4248,71.4203,71.4179 ,71.4139,71.4111,71.4076,71.4088, 71.4035,71.3987,71.3941,71.3883,71.3821 ,71.5425,71.9821,72.3695,72.8762, 73.2842,73.5716,73.9585,73.951,73.9433, 73.9371,73.931,73.9218,73.9161,73.9102, 73.9006,73.8951,73.8894,73.8836,73.8773 ,73.8709,73.8643,73.8578,73.8513, 73.8414,73.8347,73.8279,73.8214,73.8146 ,73.8077,73.8007,73.7938,73.7831, 73.7761,73.7689,73.7616,73.7543,73.7432 ,73.7319,73.7243,73.7168,73.7052, 73.6974,73.6894,73.6777,73.6696,73.6615 ,73.645,73.6237,73.377)
ORBIT_NUMBER = 12792
ORBITAL_ECCENTRICITY = 0.577
ORBITAL_INCLINATION = 86.9
ORBITAL_SEMIMAJOR_AXIS = 8769.23
PERIAPSIS_ALTITUDE = 328.41
PERIAPSIS_ARGUMENT_ANGLE = 292.14
PERIAPSIS_TIME = 2014-01-25T17:12:40.000Z
SPACECRAFT_ORIENTATION = (0.0,1.0,0.0)
^MEX_ORIENTATION_DESC = "MEX_ORIENTATION_DESC.TXT"
SPACECRAFT_POINTING_MODE = INERT
^MEX_POINTING_DESC = "MEX_POINTING_DESC.TXT"
RIGHT_ASCENSION = 278.615
DECLINATION = 59.953
OFFSET_ANGLE = -1e+32
SPACECRAFT_SOLAR_DISTANCE = 2.48856e+08
TARGET_NAME = MARS
/* CAMERA DATA ELEMENTS */
DETECTOR_TEMPERATURE = 18.3705
FOCAL_PLANE_TEMPERATURE = 8.7872
INST_CMPRS_NAME = "DISCRETE COSINE TRANSFORMATION (DCT)"
INST_CMPRS_RATIO = 9.40605
INST_CMPRS_QUALITY = 0
INST_CMPRS_QUANTZ_TBL_ID = 0
INSTRUMENT_TEMPERATURE = 11.8457
LENS_TEMPERATURE = 8.5833
MACROPIXEL_SIZE = 4
MISSING_FRAMES = 0
PIXEL_SUBSAMPLING_FLAG = N
SIGNAL_CHAIN_ID = 2
/* RADIOMETRIC DATA ELEMENTS */
BANDWIDTH = 76.0
CENTER_FILTER_WAVELENGTH = 444.0
RADIANCE_OFFSET = 0.34342
RADIANCE_SCALING_FACTOR = 0.00175077
REFLECTANCE_SCALING_FACTOR = 0.000111399
MEX:REFLECTANCE_OFFSET = 0.0218513
/* IMAGE OBJECT DEFINITIONS */
OBJECT = IMAGE
  INTERCHANGE_FORMAT = BINARY
  LINES = 8057
  LINE_SAMPLES = 1415
  SAMPLE_TYPE = UNSIGNED_INTEGER
  SAMPLE_BITS = 8
  BANDS = 1
  BAND_STORAGE_TYPE = BAND_SEQUENTIAL
  MAXIMUM = 255
  MEAN = 162.055
  MINIMUM = 1
  STANDARD_DEVIATION = 24.2061
END_OBJECT = IMAGE
/* MAP OBJECT DEFINITIONS */
OBJECT = IMAGE_MAP_PROJECTION
  ^DATA_SET_MAP_PROJECTION_CATALOG= "DSMAP.CAT"
  A_AXIS_RADIUS = 3396.0
  B_AXIS_RADIUS = 3396.0
  C_AXIS_RADIUS = 3396.0
  CENTER_LATITUDE = 0.0
  CENTER_LONGITUDE = 73.0
  COORDINATE_SYSTEM_NAME = PLANETOGRAPHIC
  COORDINATE_SYSTEM_TYPE = "BODY-FIXED ROTATING"
  EASTERNMOST_LONGITUDE = 73.9585
  FIRST_STANDARD_PARALLEL = "N/A"
  LINE_FIRST_PIXEL = 1
  LINE_LAST_PIXEL = 8057
  LINE_PROJECTION_OFFSET = -15890.625
  MAP_PROJECTION_ROTATION = 0.0
  MAP_PROJECTION_TYPE = SINUSOIDAL
  MAP_RESOLUTION = 592.713803866667
  MAP_SCALE = 0.1
  MAXIMUM_LATITUDE = -26.7713
  MINIMUM_LATITUDE = -40.4179
  POSITIVE_LONGITUDE_DIRECTION = EAST
  REFERENCE_LATITUDE = "N/A"
  REFERENCE_LONGITUDE = "N/A"
  SAMPLE_FIRST_PIXEL = 1
  SAMPLE_LAST_PIXEL = 1415
  SAMPLE_PROJECTION_OFFSET = 891.125
  SECOND_STANDARD_PARALLEL = "N/A"
  WESTERNMOST_LONGITUDE = 71.36539999999999
END_OBJECT = IMAGE_MAP_PROJECTION
/* The JPEG2000 image data file associated with this label. */
OBJECT = COMPRESSED_FILE
  FILE_NAME = "HC792_0000_BL3.JP2"
  RECORD_TYPE = UNDEFINED
  FILE_RECORDS = UNK
  ENCODING_TYPE = "JP2"
  INTERCHANGE_FORMAT = BINARY
  UNCOMPRESSED_FILE_NAME = "HC792_0000_BL3.IMG"
  REQUIRED_STORAGE_BYTES = "11420465"
  ^DESCRIPTION = "JP2INFO.TXT"
END_OBJECT = COMPRESSED_FILE
END
