PDS_VERSION_ID = PDS3
/* FILE DATA ELEMENTS */
RECORD_TYPE = STREAM
/* POINTERS TO DATA OBJECTS */
^COMPRESSED_FILE = "HC792_0000_IR3.JP2"
/* IDENTIFICATION DATA ELEMENTS */
DATA_SET_ID = "MEX-M-HRSC-5-REFDR-MAPPROJECTED-V3.0"
DATA_SET_NAME = "MARS EXPRESS HRSC MAP PROJECTED REFDR V3.0"
DETECTOR_ID = MEX_HRSC_IR
EVENT_TYPE = "MARS-REGIONAL-MAPPING-Fl-Gl-La"
INSTRUMENT_HOST_ID = MEX
INSTRUMENT_HOST_NAME = "MARS EXPRESS"
INSTRUMENT_ID = HRSC
INSTRUMENT_NAME = "HIGH RESOLUTION STEREO CAMERA"
MISSION_NAME = "MARS EXPRESS"
MISSION_PHASE_NAME = ME_Phase_30
PROCESSING_LEVEL_ID = 3
PRODUCT_CREATION_TIME = 2016-10-29T02:00:08.000Z
PRODUCT_ID = "HC792_0000_IR3.JP2"
RELEASE_ID = 0121
REVISION_ID = 0000
/* QUALITY DATA ELEMENTS */
DATA_QUALITY_ID = 1
DATA_QUALITY_DESC = "Data calculated based on original SPICE kernels"
/* TIME DATA ELEMENTS */
SPACECRAFT_CLOCK_START_COUNT = "1/0338750356.08253"
SPACECRAFT_CLOCK_STOP_COUNT = "1/0338750657.50554"
START_TIME = 2014-01-25T17:20:37.671Z
STOP_TIME = 2014-01-25T17:24:10.442Z
/* ORBITAL DATA ELEMENTS */
ASCENDING_NODE_LONGITUDE = 333.61
MAXIMUM_RESOLUTION = 89.6
FOOTPRINT_POINT_LATITUDE = (-40.3339,-40.3386,-40.3427,-40.3463, -40.3492,-40.3516,-40.0956,-39.7475, -39.3971,-38.68,-38.2021,-37.9585, -37.7116,-37.3441,-37.0971,-36.7196, -36.4692,-36.215,-35.8326,-35.5769, -35.3174,-35.0562,-34.7954,-34.5303, -34.2655,-33.9978,-33.7281,-33.4579, -33.1837,-32.9108,-32.632,-32.3545, -32.0723,-31.7902,-31.5039,-31.2169, -30.9261,-30.6352,-30.3397,-29.8932, -29.4412,-29.1363,-28.8241,-28.5163, -28.2034,-27.8883,-27.5716,-27.2511, -26.9282,-26.7984,-26.7938,-26.7888, -26.781,-26.7743,-26.7671,-26.7567, -27.0869,-27.4077,-27.7298,-28.0452, -28.358,-28.6683,-28.9763,-29.2809, -29.5841,-29.8833,-30.3328,-30.6296, -30.9222,-31.2132,-31.5,-31.7859, -32.0686,-32.3506,-32.6287,-33.0439, -33.3178,-33.5908,-33.8609,-34.1306, -34.3956,-34.7935,-35.055,-35.3167, -35.5751,-35.8319,-36.0888,-36.3418, -36.5947,-36.8463,-37.0947,-37.3444, -37.7144,-37.9577,-38.444,-38.8048, -39.3989,-39.8687,-40.3302,-40.3339)
FOOTPRINT_POINT_LONGITUDE = (73.4115,73.0566,72.6999,72.3417,71.982 ,71.6201,71.2918,71.3008,71.3074, 71.3262,71.3341,71.3382,71.3445,71.3493 ,71.3522,71.3602,71.3619,71.3661, 71.3695,71.3713,71.3742,71.3763,71.378, 71.3798,71.3808,71.3821,71.383,71.3836, 71.3843,71.3838,71.3842,71.3835,71.3829 ,71.382,71.381,71.3801,71.3787,71.3768, 71.3748,71.3721,71.3686,71.3666,71.369, 71.3649,71.3614,71.358,71.3535,71.3487, 71.3434,71.6727,72.0055,72.3615,72.8175 ,73.1458,73.5483,74.0576,74.0556, 74.0505,74.0476,74.0421,74.0371,74.032, 74.0268,74.0219,74.0167,74.0113,74.0051 ,74.0004,73.9956,73.9904,73.985,73.9795 ,73.974,73.9684,73.9627,73.9543,73.9485 ,73.9429,73.9371,73.9312,73.9252, 73.9162,73.9102,73.9041,73.8979,73.8916 ,73.8852,73.8789,73.8724,73.8659, 73.8593,73.8528,73.8429,73.8358,73.8222 ,73.8117,73.7938,73.7788,73.7633, 73.4115)
ORBIT_NUMBER = 12792
ORBITAL_ECCENTRICITY = 0.577
ORBITAL_INCLINATION = 86.9
ORBITAL_SEMIMAJOR_AXIS = 8769.23
PERIAPSIS_ALTITUDE = 328.41
PERIAPSIS_ARGUMENT_ANGLE = 292.14
PERIAPSIS_TIME = 2014-01-25T17:12:40.000Z
SPACECRAFT_ORIENTATION = (0.0,1.0,0.0)
^MEX_ORIENTATION_DESC = "MEX_ORIENTATION_DESC.TXT"
SPACECRAFT_POINTING_MODE = INERT
^MEX_POINTING_DESC = "MEX_POINTING_DESC.TXT"
RIGHT_ASCENSION = 278.615
DECLINATION = 59.953
OFFSET_ANGLE = -1e+32
SPACECRAFT_SOLAR_DISTANCE = 2.48856e+08
TARGET_NAME = MARS
/* CAMERA DATA ELEMENTS */
DETECTOR_TEMPERATURE = 17.5549
FOCAL_PLANE_TEMPERATURE = 8.7872
INST_CMPRS_NAME = "DISCRETE COSINE TRANSFORMATION (DCT)"
INST_CMPRS_RATIO = 14.7681
INST_CMPRS_QUALITY = 0
INST_CMPRS_QUANTZ_TBL_ID = 0
INSTRUMENT_TEMPERATURE = 11.8457
LENS_TEMPERATURE = 8.5833
MACROPIXEL_SIZE = 4
MISSING_FRAMES = 0
PIXEL_SUBSAMPLING_FLAG = N
SIGNAL_CHAIN_ID = 2
/* RADIOMETRIC DATA ELEMENTS */
BANDWIDTH = 81.0
CENTER_FILTER_WAVELENGTH = 955.5
RADIANCE_OFFSET = 0.323436
RADIANCE_SCALING_FACTOR = 0.0034669
REFLECTANCE_SCALING_FACTOR = 0.000463194
MEX:REFLECTANCE_OFFSET = 0.0432126
/* IMAGE OBJECT DEFINITIONS */
OBJECT = IMAGE
  INTERCHANGE_FORMAT = BINARY
  LINES = 8057
  LINE_SAMPLES = 1415
  SAMPLE_TYPE = UNSIGNED_INTEGER
  SAMPLE_BITS = 8
  BANDS = 1
  BAND_STORAGE_TYPE = BAND_SEQUENTIAL
  MAXIMUM = 255
  MEAN = 111.054
  MINIMUM = 1
  STANDARD_DEVIATION = 37.7239
END_OBJECT = IMAGE
/* MAP OBJECT DEFINITIONS */
OBJECT = IMAGE_MAP_PROJECTION
  ^DATA_SET_MAP_PROJECTION_CATALOG= "DSMAP.CAT"
  A_AXIS_RADIUS = 3396.0
  B_AXIS_RADIUS = 3396.0
  C_AXIS_RADIUS = 3396.0
  CENTER_LATITUDE = 0.0
  CENTER_LONGITUDE = 73.0
  COORDINATE_SYSTEM_NAME = PLANETOGRAPHIC
  COORDINATE_SYSTEM_TYPE = "BODY-FIXED ROTATING"
  EASTERNMOST_LONGITUDE = 74.05759999999999
  FIRST_STANDARD_PARALLEL = "N/A"
  LINE_FIRST_PIXEL = 1
  LINE_LAST_PIXEL = 8057
  LINE_PROJECTION_OFFSET = -15890.625
  MAP_PROJECTION_ROTATION = 0.0
  MAP_PROJECTION_TYPE = SINUSOIDAL
  MAP_RESOLUTION = 592.713803866667
  MAP_SCALE = 0.1
  MAXIMUM_LATITUDE = -26.7567
  MINIMUM_LATITUDE = -40.3516
  POSITIVE_LONGITUDE_DIRECTION = EAST
  REFERENCE_LATITUDE = "N/A"
  REFERENCE_LONGITUDE = "N/A"
  SAMPLE_FIRST_PIXEL = 1
  SAMPLE_LAST_PIXEL = 1415
  SAMPLE_PROJECTION_OFFSET = 891.125
  SECOND_STANDARD_PARALLEL = "N/A"
  WESTERNMOST_LONGITUDE = 71.29179999999999
END_OBJECT = IMAGE_MAP_PROJECTION
/* The JPEG2000 image data file associated with this label. */
OBJECT = COMPRESSED_FILE
  FILE_NAME = "HC792_0000_IR3.JP2"
  RECORD_TYPE = UNDEFINED
  FILE_RECORDS = UNK
  ENCODING_TYPE = "JP2"
  INTERCHANGE_FORMAT = BINARY
  UNCOMPRESSED_FILE_NAME = "HC792_0000_IR3.IMG"
  REQUIRED_STORAGE_BYTES = "11420465"
  ^DESCRIPTION = "JP2INFO.TXT"
END_OBJECT = COMPRESSED_FILE
END
