PDS_VERSION_ID = PDS3
/* FILE DATA ELEMENTS */
RECORD_TYPE = STREAM
/* POINTERS TO DATA OBJECTS */
^COMPRESSED_FILE = "HC792_0000_S13.JP2"
/* IDENTIFICATION DATA ELEMENTS */
DATA_SET_ID = "MEX-M-HRSC-5-REFDR-MAPPROJECTED-V3.0"
DATA_SET_NAME = "MARS EXPRESS HRSC MAP PROJECTED REFDR V3.0"
DETECTOR_ID = MEX_HRSC_S1
EVENT_TYPE = "MARS-REGIONAL-MAPPING-Fl-Gl-La"
INSTRUMENT_HOST_ID = MEX
INSTRUMENT_HOST_NAME = "MARS EXPRESS"
INSTRUMENT_ID = HRSC
INSTRUMENT_NAME = "HIGH RESOLUTION STEREO CAMERA"
MISSION_NAME = "MARS EXPRESS"
MISSION_PHASE_NAME = ME_Phase_30
PROCESSING_LEVEL_ID = 3
PRODUCT_CREATION_TIME = 2016-10-29T02:00:08.000Z
PRODUCT_ID = "HC792_0000_S13.JP2"
RELEASE_ID = 0121
REVISION_ID = 0000
/* QUALITY DATA ELEMENTS */
DATA_QUALITY_ID = 1
DATA_QUALITY_DESC = "Data calculated based on original SPICE kernels"
/* TIME DATA ELEMENTS */
SPACECRAFT_CLOCK_START_COUNT = "1/0338750356.08253"
SPACECRAFT_CLOCK_STOP_COUNT = "1/0338750657.50554"
START_TIME = 2014-01-25T17:20:46.206Z
STOP_TIME = 2014-01-25T17:24:20.616Z
/* ORBITAL DATA ELEMENTS */
ASCENDING_NODE_LONGITUDE = 333.61
MAXIMUM_RESOLUTION = 46.2
FOOTPRINT_POINT_LATITUDE = (-40.3128,-40.3193,-40.3252,-40.3305, -40.3352,-40.3394,-40.2163,-39.7508, -39.4017,-39.044,-38.6834,-38.204, -37.9612,-37.7134,-37.4662,-37.0923, -36.8409,-36.4638,-36.2088,-35.9544, -35.6977,-35.4394,-35.0477,-34.7864, -34.5209,-34.2556,-33.8525,-33.5825, -33.3086,-33.0354,-32.7583,-32.4802, -32.1995,-31.9172,-31.6323,-31.3456, -31.0553,-30.7645,-30.4704,-30.024, -29.7246,-29.4211,-29.1156,-28.8006, -28.4914,-28.1795,-27.8625,-27.5439, -27.2242,-26.8258,-26.8189,-26.815, -26.8054,-26.7967,-26.7917,-26.7809, -27.1055,-27.4263,-27.751,-28.0657, -28.3785,-28.6896,-28.9967,-29.3026, -29.6058,-29.9046,-30.2073,-30.504, -30.9463,-31.2378,-31.5245,-31.8106, -32.0933,-32.3755,-32.6537,-32.9323, -33.2063,-33.617,-33.8875,-34.1561, -34.4222,-34.6884,-34.9507,-35.2132, -35.4729,-35.7306,-35.9884,-36.242, -36.496,-36.7483,-36.9978,-37.248, -37.6249,-37.8711,-38.1149,-38.5995, -39.078,-39.5528,-40.0174,-40.3128)
FOOTPRINT_POINT_LONGITUDE = (73.6761,73.3018,72.9259,72.548,72.1689 ,71.7874,71.2702,71.2827,71.2896, 71.2993,71.3089,71.3172,71.3215,71.3275 ,71.333,71.3363,71.3414,71.3462,71.3503 ,71.3532,71.3554,71.3584,71.3621, 71.3639,71.3658,71.367,71.369,71.3701, 71.3712,71.3711,71.3713,71.3712,71.3708 ,71.3703,71.3694,71.3685,71.3677, 71.3662,71.3643,71.3622,71.36,71.358, 71.3561,71.3591,71.3549,71.3514,71.3484 ,71.3444,71.3392,71.574,71.9761,72.2688 ,72.694,73.0909,73.381,73.8546,74.0714, 74.0665,74.0638,74.0585,74.0537,74.0489 ,74.0439,74.0392,74.0342,74.029,74.0252 ,74.0207,74.0141,74.0091,74.0039, 73.9985,73.9933,73.9879,73.9824,73.977, 73.9715,73.9633,73.9578,73.952,73.9462, 73.9404,73.9346,73.9287,73.9228,73.9167 ,73.9106,73.9044,73.8982,73.8919, 73.8855,73.8791,73.8695,73.863,73.8561, 73.8429,73.8291,73.8149,73.8001, 73.6761)
ORBIT_NUMBER = 12792
ORBITAL_ECCENTRICITY = 0.577
ORBITAL_INCLINATION = 86.9
ORBITAL_SEMIMAJOR_AXIS = 8769.23
PERIAPSIS_ALTITUDE = 328.41
PERIAPSIS_ARGUMENT_ANGLE = 292.14
PERIAPSIS_TIME = 2014-01-25T17:12:40.000Z
SPACECRAFT_ORIENTATION = (0.0,1.0,0.0)
^MEX_ORIENTATION_DESC = "MEX_ORIENTATION_DESC.TXT"
SPACECRAFT_POINTING_MODE = INERT
^MEX_POINTING_DESC = "MEX_POINTING_DESC.TXT"
RIGHT_ASCENSION = 278.615
DECLINATION = 59.953
OFFSET_ANGLE = -1e+32
SPACECRAFT_SOLAR_DISTANCE = 2.48856e+08
TARGET_NAME = MARS
/* CAMERA DATA ELEMENTS */
DETECTOR_TEMPERATURE = 17.5549
FOCAL_PLANE_TEMPERATURE = 8.7872
INST_CMPRS_NAME = "DISCRETE COSINE TRANSFORMATION (DCT)"
INST_CMPRS_RATIO = 13.2256
INST_CMPRS_QUALITY = 0
INST_CMPRS_QUANTZ_TBL_ID = 0
INSTRUMENT_TEMPERATURE = 11.8457
LENS_TEMPERATURE = 8.5833
MACROPIXEL_SIZE = 2
MISSING_FRAMES = 1
PIXEL_SUBSAMPLING_FLAG = N
SIGNAL_CHAIN_ID = 1
/* RADIOMETRIC DATA ELEMENTS */
BANDWIDTH = 180.0
CENTER_FILTER_WAVELENGTH = 677.0
RADIANCE_OFFSET = 1.7032
RADIANCE_SCALING_FACTOR = 0.0131994
REFLECTANCE_SCALING_FACTOR = 0.000426474
MEX:REFLECTANCE_OFFSET = 0.0550305
/* IMAGE OBJECT DEFINITIONS */
OBJECT = IMAGE
  INTERCHANGE_FORMAT = BINARY
  LINES = 16114
  LINE_SAMPLES = 2829
  SAMPLE_TYPE = UNSIGNED_INTEGER
  SAMPLE_BITS = 8
  BANDS = 1
  BAND_STORAGE_TYPE = BAND_SEQUENTIAL
  MAXIMUM = 255
  MEAN = 127.192
  MINIMUM = 1
  STANDARD_DEVIATION = 31.9181
END_OBJECT = IMAGE
/* MAP OBJECT DEFINITIONS */
OBJECT = IMAGE_MAP_PROJECTION
  ^DATA_SET_MAP_PROJECTION_CATALOG= "DSMAP.CAT"
  A_AXIS_RADIUS = 3396.0
  B_AXIS_RADIUS = 3396.0
  C_AXIS_RADIUS = 3396.0
  CENTER_LATITUDE = 0.0
  CENTER_LONGITUDE = 73.0
  COORDINATE_SYSTEM_NAME = PLANETOGRAPHIC
  COORDINATE_SYSTEM_TYPE = "BODY-FIXED ROTATING"
  EASTERNMOST_LONGITUDE = 74.0714
  FIRST_STANDARD_PARALLEL = "N/A"
  LINE_FIRST_PIXEL = 1
  LINE_LAST_PIXEL = 16114
  LINE_PROJECTION_OFFSET = -31780.75
  MAP_PROJECTION_ROTATION = 0.0
  MAP_PROJECTION_TYPE = SINUSOIDAL
  MAP_RESOLUTION = 1185.42760773333
  MAP_SCALE = 0.05
  MAXIMUM_LATITUDE = -26.7809
  MINIMUM_LATITUDE = -40.3394
  POSITIVE_LONGITUDE_DIRECTION = EAST
  REFERENCE_LATITUDE = "N/A"
  REFERENCE_LONGITUDE = "N/A"
  SAMPLE_FIRST_PIXEL = 1
  SAMPLE_LAST_PIXEL = 2829
  SAMPLE_PROJECTION_OFFSET = 1782.75
  SECOND_STANDARD_PARALLEL = "N/A"
  WESTERNMOST_LONGITUDE = 71.2702
END_OBJECT = IMAGE_MAP_PROJECTION
/* The JPEG2000 image data file associated with this label. */
OBJECT = COMPRESSED_FILE
  FILE_NAME = "HC792_0000_S13.JP2"
  RECORD_TYPE = UNDEFINED
  FILE_RECORDS = UNK
  ENCODING_TYPE = "JP2"
  INTERCHANGE_FORMAT = BINARY
  UNCOMPRESSED_FILE_NAME = "HC792_0000_S13.IMG"
  REQUIRED_STORAGE_BYTES = "45609138"
  ^DESCRIPTION = "JP2INFO.TXT"
END_OBJECT = COMPRESSED_FILE
END
