PDS_VERSION_ID = PDS3
/* FILE DATA ELEMENTS */
RECORD_TYPE = STREAM
/* POINTERS TO DATA OBJECTS */
^COMPRESSED_FILE = "HC813_0000_IR3.JP2"
/* IDENTIFICATION DATA ELEMENTS */
DATA_SET_ID = "MEX-M-HRSC-5-REFDR-MAPPROJECTED-V3.0"
DATA_SET_NAME = "MARS EXPRESS HRSC MAP PROJECTED REFDR V3.0"
DETECTOR_ID = MEX_HRSC_IR
EVENT_TYPE = "MARS-REGIONAL-MAPPING-Im-Fl"
INSTRUMENT_HOST_ID = MEX
INSTRUMENT_HOST_NAME = "MARS EXPRESS"
INSTRUMENT_ID = HRSC
INSTRUMENT_NAME = "HIGH RESOLUTION STEREO CAMERA"
MISSION_NAME = "MARS EXPRESS"
MISSION_PHASE_NAME = ME_Phase_30
PROCESSING_LEVEL_ID = 3
PRODUCT_CREATION_TIME = 2016-10-29T02:00:08.000Z
PRODUCT_ID = "HC813_0000_IR3.JP2"
RELEASE_ID = 0121
REVISION_ID = 0000
/* QUALITY DATA ELEMENTS */
DATA_QUALITY_ID = 1
DATA_QUALITY_DESC = "Data calculated based on original SPICE kernels"
/* TIME DATA ELEMENTS */
SPACECRAFT_CLOCK_START_COUNT = "1/0339278493.07301"
SPACECRAFT_CLOCK_STOP_COUNT = "1/0339278772.08242"
START_TIME = 2014-01-31T20:02:46.763Z
STOP_TIME = 2014-01-31T20:06:05.756Z
/* ORBITAL DATA ELEMENTS */
ASCENDING_NODE_LONGITUDE = 333.22
MAXIMUM_RESOLUTION = 80.8
FOOTPRINT_POINT_LATITUDE = (-50.1973,-50.1935,-50.1889,-50.1835, -50.1775,-50.1708,-50.3024,-49.8513, -49.2726,-49.0404,-48.8084,-48.4534, -48.2166,-47.9805,-47.7435,-47.5028, -47.2607,-46.8999,-46.5338,-46.2884, -45.9199,-45.6708,-45.4202,-45.1703, -44.9194,-44.6644,-44.4095,-44.1553, -43.8962,-43.6364,-43.2449,-42.9833, -42.7172,-42.3146,-42.0452,-41.7772, -41.3674,-41.0943,-40.8171,-40.5389, -40.1176,-39.837,-39.5516,-39.265, -38.9769,-38.685,-38.3921,-37.9483, -37.6514,-37.2989,-37.3046,-37.3075, -37.3102,-37.3125,-37.3137,-37.3162, -37.6191,-37.9188,-38.2166,-38.5095, -38.8017,-39.0924,-39.3803,-39.8097, -40.0929,-40.375,-40.653,-40.932, -41.3452,-41.6173,-41.8906,-42.161, -42.427,-42.6945,-42.9594,-43.2234, -43.618,-43.8778,-44.1377,-44.3929, -44.7758,-45.0306,-45.2797,-45.5312, -45.9068,-46.2743,-46.5205,-46.7668, -47.0089,-47.2496,-47.611,-47.971, -48.2072,-48.4442,-48.6806,-48.9128, -49.2599,-49.6006,-50.0651,-50.1973)
FOOTPRINT_POINT_LONGITUDE = (87.5869,87.2072,86.8268,86.4461,86.065 ,85.6829,85.2932,85.3283,85.3726, 85.3902,85.4074,85.4327,85.4493,85.4651 ,85.4811,85.4964,85.5121,85.534,85.5554 ,85.5694,85.5899,85.6032,85.6165, 85.6291,85.6415,85.6537,85.6656,85.677, 85.6883,85.6996,85.7165,85.7254,85.7366 ,85.7529,85.7627,85.7715,85.7848, 85.7931,85.8013,85.8093,85.8212,85.8271 ,85.835,85.8412,85.848,85.8541,85.8604, 85.8685,85.8737,86.0752,86.5451,86.8658 ,87.2847,87.6296,87.9249,88.5234, 88.5144,88.5059,88.4967,88.4866,88.4769 ,88.4674,88.4578,88.4435,88.4337, 88.4236,88.4136,88.4038,88.3889,88.3781 ,88.3684,88.3587,88.347,88.337,88.3267, 88.3158,88.301,88.2901,88.279,88.268, 88.2513,88.24,88.2282,88.2171,88.1996, 88.1816,88.1698,88.1577,88.1456,88.1333 ,88.1143,88.0959,88.0831,88.0703,88.057 ,88.0429,88.0228,88.0002,87.9735, 87.5869)
ORBIT_NUMBER = 12813
ORBITAL_ECCENTRICITY = 0.577
ORBITAL_INCLINATION = 86.9
ORBITAL_SEMIMAJOR_AXIS = 8765.46
PERIAPSIS_ALTITUDE = 328.04
PERIAPSIS_ARGUMENT_ANGLE = 288.58
PERIAPSIS_TIME = 2014-01-31T19:56:26.000Z
SPACECRAFT_ORIENTATION = (0.0,1.0,0.0)
^MEX_ORIENTATION_DESC = "MEX_ORIENTATION_DESC.TXT"
SPACECRAFT_POINTING_MODE = INERT
^MEX_POINTING_DESC = "MEX_POINTING_DESC.TXT"
RIGHT_ASCENSION = 285.737
DECLINATION = 60.337
OFFSET_ANGLE = -1e+32
SPACECRAFT_SOLAR_DISTANCE = 2.48622e+08
TARGET_NAME = MARS
/* CAMERA DATA ELEMENTS */
DETECTOR_TEMPERATURE = 17.5549
FOCAL_PLANE_TEMPERATURE = 8.1755
INST_CMPRS_NAME = "DISCRETE COSINE TRANSFORMATION (DCT)"
INST_CMPRS_RATIO = 6.95046
INST_CMPRS_QUALITY = 0
INST_CMPRS_QUANTZ_TBL_ID = 0
INSTRUMENT_TEMPERATURE = 11.6418
LENS_TEMPERATURE = 8.5833
MACROPIXEL_SIZE = 4
MISSING_FRAMES = 0
PIXEL_SUBSAMPLING_FLAG = N
SIGNAL_CHAIN_ID = 2
/* RADIOMETRIC DATA ELEMENTS */
BANDWIDTH = 81.0
CENTER_FILTER_WAVELENGTH = 955.5
RADIANCE_OFFSET = 0.179724
RADIANCE_SCALING_FACTOR = 0.00304656
REFLECTANCE_SCALING_FACTOR = 0.000406272
MEX:REFLECTANCE_OFFSET = 0.023967
/* IMAGE OBJECT DEFINITIONS */
OBJECT = IMAGE
  INTERCHANGE_FORMAT = BINARY
  LINES = 15394
  LINE_SAMPLES = 2594
  SAMPLE_TYPE = UNSIGNED_INTEGER
  SAMPLE_BITS = 8
  BANDS = 1
  BAND_STORAGE_TYPE = BAND_SEQUENTIAL
  MAXIMUM = 255
  MEAN = 141.11
  MINIMUM = 1
  STANDARD_DEVIATION = 21.556
END_OBJECT = IMAGE
/* MAP OBJECT DEFINITIONS */
OBJECT = IMAGE_MAP_PROJECTION
  ^DATA_SET_MAP_PROJECTION_CATALOG= "DSMAP.CAT"
  A_AXIS_RADIUS = 3396.0
  B_AXIS_RADIUS = 3396.0
  C_AXIS_RADIUS = 3396.0
  CENTER_LATITUDE = 0.0
  CENTER_LONGITUDE = 87.0
  COORDINATE_SYSTEM_NAME = PLANETOGRAPHIC
  COORDINATE_SYSTEM_TYPE = "BODY-FIXED ROTATING"
  EASTERNMOST_LONGITUDE = 88.5234
  FIRST_STANDARD_PARALLEL = "N/A"
  LINE_FIRST_PIXEL = 1
  LINE_LAST_PIXEL = 15394
  LINE_PROJECTION_OFFSET = -44211.125
  MAP_PROJECTION_ROTATION = 0.0
  MAP_PROJECTION_TYPE = SINUSOIDAL
  MAP_RESOLUTION = 1185.42760773333
  MAP_SCALE = 0.05
  MAXIMUM_LATITUDE = -37.2989
  MINIMUM_LATITUDE = -50.3024
  POSITIVE_LONGITUDE_DIRECTION = EAST
  REFERENCE_LATITUDE = "N/A"
  REFERENCE_LONGITUDE = "N/A"
  SAMPLE_FIRST_PIXEL = 1
  SAMPLE_LAST_PIXEL = 2594
  SAMPLE_PROJECTION_OFFSET = 1234.875
  SECOND_STANDARD_PARALLEL = "N/A"
  WESTERNMOST_LONGITUDE = 85.2932
END_OBJECT = IMAGE_MAP_PROJECTION
/* The JPEG2000 image data file associated with this label. */
OBJECT = COMPRESSED_FILE
  FILE_NAME = "HC813_0000_IR3.JP2"
  RECORD_TYPE = UNDEFINED
  FILE_RECORDS = UNK
  ENCODING_TYPE = "JP2"
  INTERCHANGE_FORMAT = BINARY
  UNCOMPRESSED_FILE_NAME = "HC813_0000_IR3.IMG"
  REQUIRED_STORAGE_BYTES = "39952788"
  ^DESCRIPTION = "JP2INFO.TXT"
END_OBJECT = COMPRESSED_FILE
END
