PDS_VERSION_ID = PDS3
/* FILE DATA ELEMENTS */
RECORD_TYPE = STREAM
/* POINTERS TO DATA OBJECTS */
^COMPRESSED_FILE = "HC821_0000_GR3.JP2"
/* IDENTIFICATION DATA ELEMENTS */
DATA_SET_ID = "MEX-M-HRSC-5-REFDR-MAPPROJECTED-V3.0"
DATA_SET_NAME = "MARS EXPRESS HRSC MAP PROJECTED REFDR V3.0"
DETECTOR_ID = MEX_HRSC_GREEN
EVENT_TYPE = "MARS-REGIONAL-MAPPING-Im-Pf"
INSTRUMENT_HOST_ID = MEX
INSTRUMENT_HOST_NAME = "MARS EXPRESS"
INSTRUMENT_ID = HRSC
INSTRUMENT_NAME = "HIGH RESOLUTION STEREO CAMERA"
MISSION_NAME = "MARS EXPRESS"
MISSION_PHASE_NAME = ME_Phase_30
PROCESSING_LEVEL_ID = 3
PRODUCT_CREATION_TIME = 2016-10-29T02:00:08.000Z
PRODUCT_ID = "HC821_0000_GR3.JP2"
RELEASE_ID = 0121
REVISION_ID = 0000
/* QUALITY DATA ELEMENTS */
DATA_QUALITY_ID = 1
DATA_QUALITY_DESC = "Data calculated based on original SPICE kernels"
/* TIME DATA ELEMENTS */
SPACECRAFT_CLOCK_START_COUNT = "1/0339479774.09063"
SPACECRAFT_CLOCK_STOP_COUNT = "1/0339480125.49019"
START_TIME = 2014-02-03T03:57:02.410Z
STOP_TIME = 2014-02-03T04:01:17.591Z
/* ORBITAL DATA ELEMENTS */
ASCENDING_NODE_LONGITUDE = 333.07
MAXIMUM_RESOLUTION = 75.3
FOOTPRINT_POINT_LATITUDE = (-48.0844,-48.0681,-48.0477,-47.6386, -47.0674,-46.6327,-46.3427,-46.048, -45.752,-45.3082,-45.0067,-44.7049, -44.4028,-44.0951,-43.6342,-43.3225, -43.0073,-42.6931,-42.3736,-42.0536, -41.5679,-41.2416,-40.7464,-40.4136, -40.0771,-39.7384,-39.2242,-38.8789, -38.5285,-38.1769,-37.8203,-37.4626, -37.0985,-36.5482,-36.1775,-35.8017, -35.2318,-34.6528,-34.263,-33.8668, -33.4671,-33.0636,-32.6541,-32.2403, -31.8218,-31.3994,-30.9661,-30.9809, -30.9901,-30.9984,-31.0043,-31.0074, -31.4394,-31.862,-32.2805,-32.6943, -33.1039,-33.5073,-33.9074,-34.3042, -34.6944,-35.0813,-35.4649,-35.8432, -36.2197,-36.5905,-37.141,-37.5052, -37.8632,-38.2202,-38.572,-38.9228, -39.2682,-39.6131,-39.9522,-40.2912, -40.6261,-40.9577,-41.2871,-41.6139, -41.9397,-42.2603,-42.581,-42.8977, -43.2118,-43.5261,-43.8349,-44.1433, -44.4513,-44.7536,-45.0561,-45.3579, -45.654,-45.9501,-46.393,-46.6831, -46.9733,-47.4072,-48.1172,-48.0844)
FOOTPRINT_POINT_LONGITUDE = (348.547,347.821,347.081,346.736, 346.769,346.794,346.81,346.827,346.842, 346.863,346.876,346.888,346.901,346.913 ,346.926,346.937,346.95,346.96,346.969, 346.975,346.988,346.994,347.003,347.009 ,347.015,347.016,347.024,347.027,347.03 ,347.032,347.033,347.025,347.025, 347.024,347.028,347.032,347.026,347.016 ,347.014,347.01,347.004,346.997,346.99, 346.981,346.972,346.963,347.244,347.781 ,348.229,348.725,349.191,349.549, 349.757,349.752,349.746,349.74,349.734, 349.728,349.721,349.715,349.708,349.701 ,349.693,349.686,349.678,349.67,349.657 ,349.648,349.639,349.63,349.621,349.611 ,349.601,349.591,349.58,349.57,349.559, 349.548,349.536,349.525,349.513,349.501 ,349.488,349.476,349.463,349.45,349.436 ,349.423,349.409,349.395,349.38,349.365 ,349.35,349.335,349.311,349.296,349.279 ,349.254,349.211,348.547)
ORBIT_NUMBER = 12821
ORBITAL_ECCENTRICITY = 0.577
ORBITAL_INCLINATION = 86.9
ORBITAL_SEMIMAJOR_AXIS = 8762.23
PERIAPSIS_ALTITUDE = 329.0
PERIAPSIS_ARGUMENT_ANGLE = 287.22
PERIAPSIS_TIME = 2014-02-03T03:50:19.000Z
SPACECRAFT_ORIENTATION = (0.0,1.0,0.0)
^MEX_ORIENTATION_DESC = "MEX_ORIENTATION_DESC.TXT"
SPACECRAFT_POINTING_MODE = INERT
^MEX_POINTING_DESC = "MEX_POINTING_DESC.TXT"
RIGHT_ASCENSION = 288.55
DECLINATION = 60.369
OFFSET_ANGLE = -1e+32
SPACECRAFT_SOLAR_DISTANCE = 2.48519e+08
TARGET_NAME = MARS
/* CAMERA DATA ELEMENTS */
DETECTOR_TEMPERATURE = 18.3705
FOCAL_PLANE_TEMPERATURE = 7.9716
INST_CMPRS_NAME = "DISCRETE COSINE TRANSFORMATION (DCT)"
INST_CMPRS_RATIO = 6.1987
INST_CMPRS_QUALITY = 0
INST_CMPRS_QUANTZ_TBL_ID = 0
INSTRUMENT_TEMPERATURE = 11.234
LENS_TEMPERATURE = 8.3794
MACROPIXEL_SIZE = 4
MISSING_FRAMES = 0
PIXEL_SUBSAMPLING_FLAG = N
SIGNAL_CHAIN_ID = 2
/* RADIOMETRIC DATA ELEMENTS */
BANDWIDTH = 88.0
CENTER_FILTER_WAVELENGTH = 538.0
RADIANCE_OFFSET = 0.120061
RADIANCE_SCALING_FACTOR = 0.00532397
REFLECTANCE_SCALING_FACTOR = 0.000283102
MEX:REFLECTANCE_OFFSET = 0.00638423
/* IMAGE OBJECT DEFINITIONS */
OBJECT = IMAGE
  INTERCHANGE_FORMAT = BINARY
  LINES = 20336
  LINE_SAMPLES = 2929
  SAMPLE_TYPE = UNSIGNED_INTEGER
  SAMPLE_BITS = 8
  BANDS = 1
  BAND_STORAGE_TYPE = BAND_SEQUENTIAL
  MAXIMUM = 255
  MEAN = 126.781
  MINIMUM = 1
  STANDARD_DEVIATION = 24.6721
END_OBJECT = IMAGE
/* MAP OBJECT DEFINITIONS */
OBJECT = IMAGE_MAP_PROJECTION
  ^DATA_SET_MAP_PROJECTION_CATALOG= "DSMAP.CAT"
  A_AXIS_RADIUS = 3396.0
  B_AXIS_RADIUS = 3396.0
  C_AXIS_RADIUS = 3396.0
  CENTER_LATITUDE = 0.0
  CENTER_LONGITUDE = 348.0
  COORDINATE_SYSTEM_NAME = PLANETOGRAPHIC
  COORDINATE_SYSTEM_TYPE = "BODY-FIXED ROTATING"
  EASTERNMOST_LONGITUDE = 349.757
  FIRST_STANDARD_PARALLEL = "N/A"
  LINE_FIRST_PIXEL = 1
  LINE_LAST_PIXEL = 20336
  LINE_PROJECTION_OFFSET = -36698.375
  MAP_PROJECTION_ROTATION = 0.0
  MAP_PROJECTION_TYPE = SINUSOIDAL
  MAP_RESOLUTION = 1185.42760773333
  MAP_SCALE = 0.05
  MAXIMUM_LATITUDE = -30.9661
  MINIMUM_LATITUDE = -48.1172
  POSITIVE_LONGITUDE_DIRECTION = EAST
  REFERENCE_LATITUDE = "N/A"
  REFERENCE_LONGITUDE = "N/A"
  SAMPLE_FIRST_PIXEL = 1
  SAMPLE_LAST_PIXEL = 2929
  SAMPLE_PROJECTION_OFFSET = 1139.375
  SECOND_STANDARD_PARALLEL = "N/A"
  WESTERNMOST_LONGITUDE = 346.736
END_OBJECT = IMAGE_MAP_PROJECTION
/* The JPEG2000 image data file associated with this label. */
OBJECT = COMPRESSED_FILE
  FILE_NAME = "HC821_0000_GR3.JP2"
  RECORD_TYPE = UNDEFINED
  FILE_RECORDS = UNK
  ENCODING_TYPE = "JP2"
  INTERCHANGE_FORMAT = BINARY
  UNCOMPRESSED_FILE_NAME = "HC821_0000_GR3.IMG"
  REQUIRED_STORAGE_BYTES = "59587576"
  ^DESCRIPTION = "JP2INFO.TXT"
END_OBJECT = COMPRESSED_FILE
END
