PDS_VERSION_ID = PDS3
/* FILE DATA ELEMENTS */
RECORD_TYPE = STREAM
/* POINTERS TO DATA OBJECTS */
^COMPRESSED_FILE = "HC822_0000_RE3.JP2"
/* IDENTIFICATION DATA ELEMENTS */
DATA_SET_ID = "MEX-M-HRSC-5-REFDR-MAPPROJECTED-V3.0"
DATA_SET_NAME = "MARS EXPRESS HRSC MAP PROJECTED REFDR V3.0"
DETECTOR_ID = MEX_HRSC_RED
EVENT_TYPE = "MARS-REGIONAL-MAPPING-Vo-Te"
INSTRUMENT_HOST_ID = MEX
INSTRUMENT_HOST_NAME = "MARS EXPRESS"
INSTRUMENT_ID = HRSC
INSTRUMENT_NAME = "HIGH RESOLUTION STEREO CAMERA"
MISSION_NAME = "MARS EXPRESS"
MISSION_PHASE_NAME = ME_Phase_30
PROCESSING_LEVEL_ID = 3
PRODUCT_CREATION_TIME = 2016-10-29T02:00:08.000Z
PRODUCT_ID = "HC822_0000_RE3.JP2"
RELEASE_ID = 0121
REVISION_ID = 0000
/* QUALITY DATA ELEMENTS */
DATA_QUALITY_ID = 1
DATA_QUALITY_DESC = "Data calculated based on original SPICE kernels"
/* TIME DATA ELEMENTS */
SPACECRAFT_CLOCK_START_COUNT = "1/0339505298.09044"
SPACECRAFT_CLOCK_STOP_COUNT = "1/0339505718.57682"
START_TIME = 2014-02-03T11:01:53.830Z
STOP_TIME = 2014-02-03T11:05:05.525Z
/* ORBITAL DATA ELEMENTS */
ASCENDING_NODE_LONGITUDE = 333.05
MAXIMUM_RESOLUTION = 122.1
FOOTPRINT_POINT_LATITUDE = (-28.4446,-28.4492,-28.4525,-28.4546, -28.4555,-28.4554,-28.331,-28.0895, -27.848,-27.6066,-27.3653,-27.0033, -26.762,-26.5208,-26.159,-25.9178, -25.6767,-25.4356,-24.9534,-24.4713, -23.9892,-23.5072,-23.1457,-22.7842, -22.4227,-21.9406,-21.4585,-20.8559, -20.253,-20.0118,-19.7706,-19.4086, -19.1673,-18.926,-18.6845,-18.3223, -18.0807,-17.8391,-17.4765,-17.2348, -16.9931,-16.7512,-16.3659,-16.3655, -16.3646,-16.3621,-16.3592,-16.3564, -16.3528,-16.3491,-16.3437,-16.3388, -16.3341,-16.4502,-16.6926,-17.0569, -17.2992,-17.6625,-18.0256,-18.2675, -18.63,-18.8716,-19.1132,-19.3548, -19.7173,-19.959,-20.2007,-20.4425, -20.6842,-20.9259,-21.1675,-21.4091, -21.6507,-22.013,-22.2546,-22.4962, -22.7377,-23.1,-23.3416,-23.5831, -23.8246,-24.1869,-24.4284,-24.6699, -24.9114,-25.1529,-25.3945,-25.6361, -25.8776,-26.1192,-26.3609,-26.6025, -26.844,-27.0855,-27.3272,-27.569, -27.8111,-28.1735,-28.4153,-28.4446)
FOOTPRINT_POINT_LONGITUDE = (249.205,248.769,248.334,247.9,247.467, 247.17,246.705,246.704,246.703,246.701, 246.7,246.697,246.695,246.693,246.69, 246.688,246.686,246.684,246.679,246.673 ,246.667,246.661,246.656,246.651, 246.646,246.639,246.631,246.621,246.611 ,246.607,246.602,246.595,246.591, 246.586,246.581,246.574,246.569,246.564 ,246.556,246.551,246.546,246.54,246.593 ,246.85,247.14,247.59,247.945,248.203, 248.495,248.754,249.112,249.469,249.73, 250.0,249.991,249.977,249.969,249.956, 249.943,249.935,249.924,249.916,249.909 ,249.901,249.89,249.882,249.874,249.866 ,249.858,249.85,249.842,249.834,249.827 ,249.815,249.807,249.8,249.792,249.78, 249.773,249.765,249.757,249.746,249.738 ,249.73,249.723,249.715,249.708,249.7, 249.693,249.685,249.678,249.67,249.662, 249.654,249.646,249.639,249.632,249.62, 249.612,249.205)
ORBIT_NUMBER = 12822
ORBITAL_ECCENTRICITY = 0.577
ORBITAL_INCLINATION = 86.89
ORBITAL_SEMIMAJOR_AXIS = 8762.14
PERIAPSIS_ALTITUDE = 328.29
PERIAPSIS_ARGUMENT_ANGLE = 287.05
PERIAPSIS_TIME = 2014-02-03T10:49:33.000Z
SPACECRAFT_ORIENTATION = (0.0,1.0,0.0)
^MEX_ORIENTATION_DESC = "MEX_ORIENTATION_DESC.TXT"
SPACECRAFT_POINTING_MODE = INERT
^MEX_POINTING_DESC = "MEX_POINTING_DESC.TXT"
RIGHT_ASCENSION = 288.87
DECLINATION = 60.373
OFFSET_ANGLE = -1e+32
SPACECRAFT_SOLAR_DISTANCE = 2.48505e+08
TARGET_NAME = MARS
/* CAMERA DATA ELEMENTS */
DETECTOR_TEMPERATURE = 18.5744
FOCAL_PLANE_TEMPERATURE = 7.3599
INST_CMPRS_NAME = "DISCRETE COSINE TRANSFORMATION (DCT)"
INST_CMPRS_RATIO = 15.7532
INST_CMPRS_QUALITY = 0
INST_CMPRS_QUANTZ_TBL_ID = 0
INSTRUMENT_TEMPERATURE = 11.234
LENS_TEMPERATURE = 7.7677
MACROPIXEL_SIZE = 4
MISSING_FRAMES = 0
PIXEL_SUBSAMPLING_FLAG = N
SIGNAL_CHAIN_ID = 2
/* RADIOMETRIC DATA ELEMENTS */
BANDWIDTH = 48.0
CENTER_FILTER_WAVELENGTH = 748.0
RADIANCE_OFFSET = 0.449431
RADIANCE_SCALING_FACTOR = 0.00857204
REFLECTANCE_SCALING_FACTOR = 0.00120804
MEX:REFLECTANCE_OFFSET = 0.0633376
/* IMAGE OBJECT DEFINITIONS */
OBJECT = IMAGE
  INTERCHANGE_FORMAT = BINARY
  LINES = 7233
  LINE_SAMPLES = 2356
  SAMPLE_TYPE = UNSIGNED_INTEGER
  SAMPLE_BITS = 8
  BANDS = 1
  BAND_STORAGE_TYPE = BAND_SEQUENTIAL
  MAXIMUM = 255
  MEAN = 126.696
  MINIMUM = 1
  STANDARD_DEVIATION = 26.4255
END_OBJECT = IMAGE
/* MAP OBJECT DEFINITIONS */
OBJECT = IMAGE_MAP_PROJECTION
  ^DATA_SET_MAP_PROJECTION_CATALOG= "DSMAP.CAT"
  A_AXIS_RADIUS = 3396.0
  B_AXIS_RADIUS = 3396.0
  C_AXIS_RADIUS = 3396.0
  CENTER_LATITUDE = 0.0
  CENTER_LONGITUDE = 248.0
  COORDINATE_SYSTEM_NAME = PLANETOGRAPHIC
  COORDINATE_SYSTEM_TYPE = "BODY-FIXED ROTATING"
  EASTERNMOST_LONGITUDE = 250.0
  FIRST_STANDARD_PARALLEL = "N/A"
  LINE_FIRST_PIXEL = 1
  LINE_LAST_PIXEL = 7233
  LINE_PROJECTION_OFFSET = -9675.375
  MAP_PROJECTION_ROTATION = 0.0
  MAP_PROJECTION_TYPE = SINUSOIDAL
  MAP_RESOLUTION = 592.713803866667
  MAP_SCALE = 0.1
  MAXIMUM_LATITUDE = -16.3341
  MINIMUM_LATITUDE = -28.4555
  POSITIVE_LONGITUDE_DIRECTION = EAST
  REFERENCE_LATITUDE = "N/A"
  REFERENCE_LONGITUDE = "N/A"
  SAMPLE_FIRST_PIXEL = 1
  SAMPLE_LAST_PIXEL = 2356
  SAMPLE_PROJECTION_OFFSET = 976.125
  SECOND_STANDARD_PARALLEL = "N/A"
  WESTERNMOST_LONGITUDE = 246.54
END_OBJECT = IMAGE_MAP_PROJECTION
/* The JPEG2000 image data file associated with this label. */
OBJECT = COMPRESSED_FILE
  FILE_NAME = "HC822_0000_RE3.JP2"
  RECORD_TYPE = UNDEFINED
  FILE_RECORDS = UNK
  ENCODING_TYPE = "JP2"
  INTERCHANGE_FORMAT = BINARY
  UNCOMPRESSED_FILE_NAME = "HC822_0000_RE3.IMG"
  REQUIRED_STORAGE_BYTES = "17059796"
  ^DESCRIPTION = "JP2INFO.TXT"
END_OBJECT = COMPRESSED_FILE
END
