PDS_VERSION_ID = PDS3
/* FILE DATA ELEMENTS */
RECORD_TYPE = STREAM
/* POINTERS TO DATA OBJECTS */
^COMPRESSED_FILE = "HC830_0000_P23.JP2"
/* IDENTIFICATION DATA ELEMENTS */
DATA_SET_ID = "MEX-M-HRSC-5-REFDR-MAPPROJECTED-V3.0"
DATA_SET_NAME = "MARS EXPRESS HRSC MAP PROJECTED REFDR V3.0"
DETECTOR_ID = MEX_HRSC_P2
EVENT_TYPE = "MARS-REGIONAL-MAPPING-Te-Im-Pf"
INSTRUMENT_HOST_ID = MEX
INSTRUMENT_HOST_NAME = "MARS EXPRESS"
INSTRUMENT_ID = HRSC
INSTRUMENT_NAME = "HIGH RESOLUTION STEREO CAMERA"
MISSION_NAME = "MARS EXPRESS"
MISSION_PHASE_NAME = ME_Phase_30
PROCESSING_LEVEL_ID = 3
PRODUCT_CREATION_TIME = 2016-10-29T02:00:08.000Z
PRODUCT_ID = "HC830_0000_P23.JP2"
RELEASE_ID = 0121
REVISION_ID = 0000
/* QUALITY DATA ELEMENTS */
DATA_QUALITY_ID = 1
DATA_QUALITY_DESC = "Data calculated based on original SPICE kernels"
/* TIME DATA ELEMENTS */
SPACECRAFT_CLOCK_START_COUNT = "1/0339706172.08288"
SPACECRAFT_CLOCK_STOP_COUNT = "1/0339706416.63992"
START_TIME = 2014-02-05T18:49:48.700Z
STOP_TIME = 2014-02-05T18:52:15.082Z
/* ORBITAL DATA ELEMENTS */
ASCENDING_NODE_LONGITUDE = 332.9
MAXIMUM_RESOLUTION = 35.8
FOOTPRINT_POINT_LATITUDE = (-49.2713,-49.2651,-49.257,-49.2486, -49.239,-49.214,-48.936,-48.5652, -48.3763,-48.0916,-47.9017,-47.6171, -47.4257,-47.2312,-47.0365,-46.842, -46.6472,-46.4524,-46.2579,-46.0599, -45.8603,-45.6583,-45.4586,-45.26, -45.0577,-44.8526,-44.6485,-44.4443, -44.2402,-44.0329,-43.8245,-43.51, -43.3004,-43.088,-42.8745,-42.6608, -42.4469,-42.2313,-42.0129,-41.6853, -41.4673,-41.1343,-40.9118,-40.6892, -40.4643,-40.1227,-39.895,-39.6654, -39.3152,-39.0813,-38.8464,-38.8482, -38.8578,-38.8627,-38.8694,-38.8713, -38.8726,-39.2252,-39.4589,-39.8079, -40.0372,-40.266,-40.4952,-40.7207, -40.9439,-41.1667,-41.3892,-41.6094, -41.9371,-42.1557,-42.4821,-42.8038, -43.1214,-43.3341,-43.5436,-43.7566, -43.9654,-44.2782,-44.4827,-44.7892, -44.9936,-45.1981,-45.3991,-45.599, -45.8985,-46.0982,-46.3952,-46.5901, -46.7852,-47.0775,-47.2724,-47.4655, -47.656,-47.8464,-48.0369,-48.3224, -48.5128,-48.8864,-49.2585,-49.2713)
FOOTPRINT_POINT_LONGITUDE = (150.277,149.901,149.503,149.149, 148.794,148.384,148.403,148.428,148.44, 148.458,148.47,148.488,148.497,148.506, 148.517,148.528,148.538,148.549,148.559 ,148.57,148.58,148.586,148.596,148.606, 148.616,148.624,148.632,148.641,148.65, 148.659,148.667,148.678,148.685,148.693 ,148.7,148.708,148.715,148.722,148.728, 148.738,148.745,148.755,148.761,148.767 ,148.773,148.782,148.787,148.792, 148.799,148.803,148.807,149.17,149.63, 149.921,150.357,150.671,151.132,151.295 ,151.284,151.268,151.257,151.246, 151.234,151.224,151.213,151.203,151.193 ,151.182,151.166,151.155,151.137,151.12 ,151.105,151.094,151.083,151.068, 151.057,151.04,151.028,151.011,150.999, 150.987,150.975,150.963,150.945,150.933 ,150.915,150.903,150.891,150.872,150.86 ,150.847,150.835,150.822,150.809,150.79 ,150.777,150.75,150.723,150.277)
ORBIT_NUMBER = 12830
ORBITAL_ECCENTRICITY = 0.577
ORBITAL_INCLINATION = 86.88
ORBITAL_SEMIMAJOR_AXIS = 8763.06
PERIAPSIS_ALTITUDE = 329.68
PERIAPSIS_ARGUMENT_ANGLE = 285.72
PERIAPSIS_TIME = 2014-02-05T18:43:31.000Z
SPACECRAFT_ORIENTATION = (0.0,1.0,0.0)
^MEX_ORIENTATION_DESC = "MEX_ORIENTATION_DESC.TXT"
SPACECRAFT_POINTING_MODE = INERT
^MEX_POINTING_DESC = "MEX_POINTING_DESC.TXT"
RIGHT_ASCENSION = 291.614
DECLINATION = 60.341
OFFSET_ANGLE = -1e+32
SPACECRAFT_SOLAR_DISTANCE = 2.48393e+08
TARGET_NAME = MARS
/* CAMERA DATA ELEMENTS */
DETECTOR_TEMPERATURE = 18.3705
FOCAL_PLANE_TEMPERATURE = 7.7677
INST_CMPRS_NAME = "DISCRETE COSINE TRANSFORMATION (DCT)"
INST_CMPRS_RATIO = 3.97723
INST_CMPRS_QUALITY = 0
INST_CMPRS_QUANTZ_TBL_ID = 0
INSTRUMENT_TEMPERATURE = 11.0301
LENS_TEMPERATURE = 7.7677
MACROPIXEL_SIZE = 2
MISSING_FRAMES = 0
PIXEL_SUBSAMPLING_FLAG = N
SIGNAL_CHAIN_ID = 3
/* RADIOMETRIC DATA ELEMENTS */
BANDWIDTH = 177.0
CENTER_FILTER_WAVELENGTH = 676.5
RADIANCE_OFFSET = 0.177996
RADIANCE_SCALING_FACTOR = 0.0180788
REFLECTANCE_SCALING_FACTOR = 0.000591432
MEX:REFLECTANCE_OFFSET = 0.00582298
/* IMAGE OBJECT DEFINITIONS */
OBJECT = IMAGE
  INTERCHANGE_FORMAT = BINARY
  LINES = 24648
  LINE_SAMPLES = 5233
  SAMPLE_TYPE = UNSIGNED_INTEGER
  SAMPLE_BITS = 8
  BANDS = 1
  BAND_STORAGE_TYPE = BAND_SEQUENTIAL
  MAXIMUM = 255
  MEAN = 88.0754
  MINIMUM = 1
  STANDARD_DEVIATION = 21.8841
END_OBJECT = IMAGE
/* MAP OBJECT DEFINITIONS */
OBJECT = IMAGE_MAP_PROJECTION
  ^DATA_SET_MAP_PROJECTION_CATALOG= "DSMAP.CAT"
  A_AXIS_RADIUS = 3396.0
  B_AXIS_RADIUS = 3396.0
  C_AXIS_RADIUS = 3396.0
  CENTER_LATITUDE = 0.0
  CENTER_LONGITUDE = 150.0
  COORDINATE_SYSTEM_NAME = PLANETOGRAPHIC
  COORDINATE_SYSTEM_TYPE = "BODY-FIXED ROTATING"
  EASTERNMOST_LONGITUDE = 151.295
  FIRST_STANDARD_PARALLEL = "N/A"
  LINE_FIRST_PIXEL = 1
  LINE_LAST_PIXEL = 24648
  LINE_PROJECTION_OFFSET = -92090.75
  MAP_PROJECTION_ROTATION = 0.0
  MAP_PROJECTION_TYPE = SINUSOIDAL
  MAP_RESOLUTION = 2370.85521546667
  MAP_SCALE = 0.025
  MAXIMUM_LATITUDE = -38.8464
  MINIMUM_LATITUDE = -49.2713
  POSITIVE_LONGITUDE_DIRECTION = EAST
  REFERENCE_LATITUDE = "N/A"
  REFERENCE_LONGITUDE = "N/A"
  SAMPLE_FIRST_PIXEL = 1
  SAMPLE_LAST_PIXEL = 5233
  SAMPLE_PROJECTION_OFFSET = 2617.25
  SECOND_STANDARD_PARALLEL = "N/A"
  WESTERNMOST_LONGITUDE = 148.384
END_OBJECT = IMAGE_MAP_PROJECTION
/* The JPEG2000 image data file associated with this label. */
OBJECT = COMPRESSED_FILE
  FILE_NAME = "HC830_0000_P23.JP2"
  RECORD_TYPE = UNDEFINED
  FILE_RECORDS = UNK
  ENCODING_TYPE = "JP2"
  INTERCHANGE_FORMAT = BINARY
  UNCOMPRESSED_FILE_NAME = "HC830_0000_P23.IMG"
  REQUIRED_STORAGE_BYTES = "129009149"
  ^DESCRIPTION = "JP2INFO.TXT"
END_OBJECT = COMPRESSED_FILE
END
