PDS_VERSION_ID = PDS3
/* FILE DATA ELEMENTS */
RECORD_TYPE = STREAM
/* POINTERS TO DATA OBJECTS */
^COMPRESSED_FILE = "HC831_0000_S13.JP2"
/* IDENTIFICATION DATA ELEMENTS */
DATA_SET_ID = "MEX-M-HRSC-5-REFDR-MAPPROJECTED-V3.0"
DATA_SET_NAME = "MARS EXPRESS HRSC MAP PROJECTED REFDR V3.0"
DETECTOR_ID = MEX_HRSC_S1
EVENT_TYPE = "MARS-REGIONAL-MAPPING-Pf-Ts-At"
INSTRUMENT_HOST_ID = MEX
INSTRUMENT_HOST_NAME = "MARS EXPRESS"
INSTRUMENT_ID = HRSC
INSTRUMENT_NAME = "HIGH RESOLUTION STEREO CAMERA"
MISSION_NAME = "MARS EXPRESS"
MISSION_PHASE_NAME = ME_Phase_30
PROCESSING_LEVEL_ID = 3
PRODUCT_CREATION_TIME = 2016-10-29T02:00:08.000Z
PRODUCT_ID = "HC831_0000_S13.JP2"
RELEASE_ID = 0121
REVISION_ID = 0000
/* QUALITY DATA ELEMENTS */
DATA_QUALITY_ID = 1
DATA_QUALITY_DESC = "Data calculated based on original SPICE kernels"
/* TIME DATA ELEMENTS */
SPACECRAFT_CLOCK_START_COUNT = "1/0339731320.08262"
SPACECRAFT_CLOCK_STOP_COUNT = "1/0339731601.07410"
START_TIME = 2014-02-06T01:50:04.849Z
STOP_TIME = 2014-02-06T01:53:23.980Z
/* ORBITAL DATA ELEMENTS */
ASCENDING_NODE_LONGITUDE = 332.88
MAXIMUM_RESOLUTION = 43.2
FOOTPRINT_POINT_LATITUDE = (-49.5381,-49.5304,-49.5225,-49.5137, -49.504,-49.4879,-49.5742,-49.1364, -48.6873,-48.3501,-48.0096,-47.7794, -47.3205,-46.9691,-46.7361,-46.5008, -46.2667,-46.0295,-45.7901,-45.4236, -45.179,-44.9486,-44.7056,-44.332, -44.0826,-43.836,-43.5864,-43.3311, -43.0761,-42.82,-42.5606,-42.3015, -42.0393,-41.7759,-41.511,-41.2429, -40.9753,-40.7032,-40.4304,-40.1548, -39.8781,-39.5971,-39.1772,-38.8914, -38.606,-38.3163,-38.0276,-37.7338, -37.4377,-37.1402,-36.8387,-36.7799, -36.7937,-36.8011,-36.8073,-36.8159, -36.8221,-36.8282,-37.129,-37.4292, -37.7261,-38.0205,-38.3119,-38.6006, -39.0317,-39.3153,-39.5966,-39.8791, -40.1549,-40.432,-40.7047,-40.9774, -41.2465,-41.5136,-41.9123,-42.1754, -42.5678,-42.8273,-43.2127,-43.4682, -43.7219,-43.9721,-44.2222,-44.595, -44.842,-45.088,-45.33,-45.5701, -45.9312,-46.1691,-46.4073,-46.6451, -46.8798,-47.2257,-47.4565,-47.8015, -48.2661,-48.8241,-49.2689,-49.5381)
FOOTPRINT_POINT_LONGITUDE = (49.1937,48.7245,48.3087,47.8939, 47.4806,46.8619,46.484,46.5136,46.5443, 46.5661,46.5878,46.6022,46.6296,46.65, 46.6628,46.6761,46.6874,46.6996,46.7123 ,46.7318,46.7443,46.7512,46.7612, 46.7791,46.7897,46.7987,46.8085,46.8187 ,46.8286,46.8382,46.8477,46.8568, 46.8657,46.8745,46.883,46.8914,46.8995, 46.9074,46.9154,46.923,46.9304,46.9383, 46.9478,46.9547,46.9611,46.9674,46.9727 ,46.9784,46.9844,46.9894,46.9949, 47.3192,47.9161,48.3509,48.6514,49.1449 ,49.5035,49.8189,49.8076,49.7988, 49.7888,49.7787,49.7682,49.7569,49.7428 ,49.7314,49.7212,49.712,49.7009,49.6904 ,49.68,49.6696,49.6588,49.6474,49.6317, 49.6203,49.6047,49.5938,49.5777,49.5667 ,49.5554,49.5439,49.5321,49.5157, 49.5045,49.493,49.4814,49.4686,49.4511, 49.4394,49.4276,49.416,49.4047,49.384, 49.3708,49.353,49.3314,49.2974,49.2709, 49.1937)
ORBIT_NUMBER = 12831
ORBITAL_ECCENTRICITY = 0.577
ORBITAL_INCLINATION = 86.89
ORBITAL_SEMIMAJOR_AXIS = 8762.57
PERIAPSIS_ALTITUDE = 328.88
PERIAPSIS_ARGUMENT_ANGLE = 285.55
PERIAPSIS_TIME = 2014-02-06T01:42:44.000Z
SPACECRAFT_ORIENTATION = (0.0,1.0,0.0)
^MEX_ORIENTATION_DESC = "MEX_ORIENTATION_DESC.TXT"
SPACECRAFT_POINTING_MODE = INERT
^MEX_POINTING_DESC = "MEX_POINTING_DESC.TXT"
RIGHT_ASCENSION = 291.887
DECLINATION = 60.33
OFFSET_ANGLE = -1e+32
SPACECRAFT_SOLAR_DISTANCE = 2.48379e+08
TARGET_NAME = MARS
/* CAMERA DATA ELEMENTS */
DETECTOR_TEMPERATURE = 17.351
FOCAL_PLANE_TEMPERATURE = 7.9716
INST_CMPRS_NAME = "DISCRETE COSINE TRANSFORMATION (DCT)"
INST_CMPRS_RATIO = 7.81717
INST_CMPRS_QUALITY = 0
INST_CMPRS_QUANTZ_TBL_ID = 0
INSTRUMENT_TEMPERATURE = 11.234
LENS_TEMPERATURE = 8.3794
MACROPIXEL_SIZE = 2
MISSING_FRAMES = 0
PIXEL_SUBSAMPLING_FLAG = N
SIGNAL_CHAIN_ID = 1
/* RADIOMETRIC DATA ELEMENTS */
BANDWIDTH = 180.0
CENTER_FILTER_WAVELENGTH = 677.0
RADIANCE_OFFSET = 0.238515
RADIANCE_SCALING_FACTOR = 0.0181225
REFLECTANCE_SCALING_FACTOR = 0.000583292
MEX:REFLECTANCE_OFFSET = 0.00767688
/* IMAGE OBJECT DEFINITIONS */
OBJECT = IMAGE
  INTERCHANGE_FORMAT = BINARY
  LINES = 30403
  LINE_SAMPLES = 5602
  SAMPLE_TYPE = UNSIGNED_INTEGER
  SAMPLE_BITS = 8
  BANDS = 1
  BAND_STORAGE_TYPE = BAND_SEQUENTIAL
  MAXIMUM = 255
  MEAN = 133.769
  MINIMUM = 1
  STANDARD_DEVIATION = 32.9438
END_OBJECT = IMAGE
/* MAP OBJECT DEFINITIONS */
OBJECT = IMAGE_MAP_PROJECTION
  ^DATA_SET_MAP_PROJECTION_CATALOG= "DSMAP.CAT"
  A_AXIS_RADIUS = 3396.0
  B_AXIS_RADIUS = 3396.0
  C_AXIS_RADIUS = 3396.0
  CENTER_LATITUDE = 0.0
  CENTER_LONGITUDE = 48.0
  COORDINATE_SYSTEM_NAME = PLANETOGRAPHIC
  COORDINATE_SYSTEM_TYPE = "BODY-FIXED ROTATING"
  EASTERNMOST_LONGITUDE = 49.8189
  FIRST_STANDARD_PARALLEL = "N/A"
  LINE_FIRST_PIXEL = 1
  LINE_LAST_PIXEL = 30403
  LINE_PROJECTION_OFFSET = -87213.75
  MAP_PROJECTION_ROTATION = 0.0
  MAP_PROJECTION_TYPE = SINUSOIDAL
  MAP_RESOLUTION = 2370.85521546667
  MAP_SCALE = 0.025
  MAXIMUM_LATITUDE = -36.7799
  MINIMUM_LATITUDE = -49.5742
  POSITIVE_LONGITUDE_DIRECTION = EAST
  REFERENCE_LATITUDE = "N/A"
  REFERENCE_LONGITUDE = "N/A"
  SAMPLE_FIRST_PIXEL = 1
  SAMPLE_LAST_PIXEL = 5602
  SAMPLE_PROJECTION_OFFSET = 2318.75
  SECOND_STANDARD_PARALLEL = "N/A"
  WESTERNMOST_LONGITUDE = 46.484
END_OBJECT = IMAGE_MAP_PROJECTION
/* The JPEG2000 image data file associated with this label. */
OBJECT = COMPRESSED_FILE
  FILE_NAME = "HC831_0000_S13.JP2"
  RECORD_TYPE = UNDEFINED
  FILE_RECORDS = UNK
  ENCODING_TYPE = "JP2"
  INTERCHANGE_FORMAT = BINARY
  UNCOMPRESSED_FILE_NAME = "HC831_0000_S13.IMG"
  REQUIRED_STORAGE_BYTES = "170345616"
  ^DESCRIPTION = "JP2INFO.TXT"
END_OBJECT = COMPRESSED_FILE
END
