PDS_VERSION_ID = PDS3
/* FILE DATA ELEMENTS */
RECORD_TYPE = STREAM
/* POINTERS TO DATA OBJECTS */
^COMPRESSED_FILE = "HC836_0009_P23.JP2"
/* IDENTIFICATION DATA ELEMENTS */
DATA_SET_ID = "MEX-M-HRSC-5-REFDR-MAPPROJECTED-V3.0"
DATA_SET_NAME = "MARS EXPRESS HRSC MAP PROJECTED REFDR V3.0"
DETECTOR_ID = MEX_HRSC_P2
EVENT_TYPE = "MARS-REGIONAL-MAPPING-Te-Fl-Pf"
INSTRUMENT_HOST_ID = MEX
INSTRUMENT_HOST_NAME = "MARS EXPRESS"
INSTRUMENT_ID = HRSC
INSTRUMENT_NAME = "HIGH RESOLUTION STEREO CAMERA"
MISSION_NAME = "MARS EXPRESS"
MISSION_PHASE_NAME = ME_Phase_30
PROCESSING_LEVEL_ID = 3
PRODUCT_CREATION_TIME = 2016-10-29T02:00:08.000Z
PRODUCT_ID = "HC836_0009_P23.JP2"
RELEASE_ID = 0121
REVISION_ID = 0000
/* QUALITY DATA ELEMENTS */
DATA_QUALITY_ID = 1
DATA_QUALITY_DESC = "Data calculated based on original SPICE kernels"
/* TIME DATA ELEMENTS */
SPACECRAFT_CLOCK_START_COUNT = "1/0339857325.07312"
SPACECRAFT_CLOCK_STOP_COUNT = "1/0339857705.10913"
START_TIME = 2014-02-07T12:49:06.776Z
STOP_TIME = 2014-02-07T12:52:40.401Z
/* ORBITAL DATA ELEMENTS */
ASCENDING_NODE_LONGITUDE = 332.79
MAXIMUM_RESOLUTION = 50.3
FOOTPRINT_POINT_LATITUDE = (-36.8922,-36.8948,-36.8964,-36.8965, -36.895,-36.8921,-36.5224,-36.1547, -35.6606,-35.1589,-34.653,-34.1412, -33.8826,-33.6232,-33.3603,-33.0971, -32.8322,-32.5651,-32.2973,-32.0273, -31.7558,-31.4817,-31.2072,-30.928, -30.6491,-30.3669,-30.0837,-29.7975, -29.3687,-29.0788,-28.7873,-28.4919, -28.0458,-27.7457,-27.4424,-26.9829, -26.6742,-26.3633,-26.0496,-25.7349, -25.4118,-24.9338,-24.6093,-24.2809, -23.95,-23.6169,-23.2796,-22.9397, -22.5973,-22.5919,-22.5918,-22.5894, -22.5849,-22.5802,-22.5702,-22.5636, -22.5573,-22.9011,-23.242,-23.5803, -23.9148,-24.2469,-24.5761,-24.9017, -25.2255,-25.5469,-25.8644,-26.1801, -26.493,-26.8079,-27.2716,-27.5755, -27.8763,-28.1746,-28.6188,-28.9149, -29.2068,-29.497,-29.7841,-30.0671, -30.3509,-30.6352,-30.9149,-31.1936, -31.4697,-31.7427,-32.0132,-32.2844, -32.5532,-32.8204,-33.2192,-33.4824, -33.7432,-34.0012,-34.6441,-35.1514, -35.6542,-36.1493,-36.6396,-36.8922)
FOOTPRINT_POINT_LONGITUDE = (257.799,257.438,257.025,256.612, 256.198,255.784,255.413,255.416,255.418 ,255.42,255.423,255.424,255.425,255.423 ,255.423,255.421,255.421,255.419, 255.418,255.418,255.415,255.414,255.412 ,255.408,255.406,255.403,255.399, 255.395,255.392,255.389,255.385,255.381 ,255.374,255.368,255.363,255.354, 255.347,255.342,255.335,255.329,255.32, 255.312,255.305,255.297,255.289,255.281 ,255.272,255.263,255.254,255.631, 256.165,256.573,257.044,257.389,257.923 ,258.206,258.501,258.492,258.483, 258.474,258.465,258.456,258.447,258.439 ,258.43,258.421,258.413,258.404,258.396 ,258.385,258.371,258.363,258.355, 258.348,258.336,258.327,258.319,258.31, 258.302,258.297,258.288,258.279,258.27, 258.262,258.253,258.247,258.24,258.232, 258.224,258.216,258.202,258.194,258.187 ,258.181,258.161,258.144,258.128, 258.111,258.095,257.799)
ORBIT_NUMBER = 12836
ORBITAL_ECCENTRICITY = 0.577
ORBITAL_INCLINATION = 86.89
ORBITAL_SEMIMAJOR_AXIS = 8760.27
PERIAPSIS_ALTITUDE = 328.41
PERIAPSIS_ARGUMENT_ANGLE = 284.69
PERIAPSIS_TIME = 2014-02-07T12:38:56.000Z
SPACECRAFT_ORIENTATION = (0.0,1.0,0.0)
^MEX_ORIENTATION_DESC = "MEX_ORIENTATION_DESC.TXT"
SPACECRAFT_POINTING_MODE = INERT
^MEX_POINTING_DESC = "MEX_POINTING_DESC.TXT"
RIGHT_ASCENSION = 293.636
DECLINATION = 60.266
OFFSET_ANGLE = -1e+32
SPACECRAFT_SOLAR_DISTANCE = 2.48304e+08
TARGET_NAME = MARS
/* CAMERA DATA ELEMENTS */
DETECTOR_TEMPERATURE = 18.9822
FOCAL_PLANE_TEMPERATURE = 7.9716
INST_CMPRS_NAME = "DISCRETE COSINE TRANSFORMATION (DCT)"
INST_CMPRS_RATIO = 5.52181
INST_CMPRS_QUALITY = 0
INST_CMPRS_QUANTZ_TBL_ID = 0
INSTRUMENT_TEMPERATURE = 11.4379
LENS_TEMPERATURE = 8.5833
MACROPIXEL_SIZE = 2
MISSING_FRAMES = 0
PIXEL_SUBSAMPLING_FLAG = N
SIGNAL_CHAIN_ID = 3
/* RADIOMETRIC DATA ELEMENTS */
BANDWIDTH = 177.0
CENTER_FILTER_WAVELENGTH = 676.5
RADIANCE_OFFSET = 1.02935
RADIANCE_SCALING_FACTOR = 0.0261037
REFLECTANCE_SCALING_FACTOR = 0.000853341
MEX:REFLECTANCE_OFFSET = 0.0336498
/* IMAGE OBJECT DEFINITIONS */
OBJECT = IMAGE
  INTERCHANGE_FORMAT = BINARY
  LINES = 17009
  LINE_SAMPLES = 3922
  SAMPLE_TYPE = UNSIGNED_INTEGER
  SAMPLE_BITS = 8
  BANDS = 1
  BAND_STORAGE_TYPE = BAND_SEQUENTIAL
  MAXIMUM = 255
  MEAN = 111.59
  MINIMUM = 1
  STANDARD_DEVIATION = 26.795
END_OBJECT = IMAGE
/* MAP OBJECT DEFINITIONS */
OBJECT = IMAGE_MAP_PROJECTION
  ^DATA_SET_MAP_PROJECTION_CATALOG= "DSMAP.CAT"
  A_AXIS_RADIUS = 3396.0
  B_AXIS_RADIUS = 3396.0
  C_AXIS_RADIUS = 3396.0
  CENTER_LATITUDE = 0.0
  CENTER_LONGITUDE = 257.0
  COORDINATE_SYSTEM_NAME = PLANETOGRAPHIC
  COORDINATE_SYSTEM_TYPE = "BODY-FIXED ROTATING"
  EASTERNMOST_LONGITUDE = 258.501
  FIRST_STANDARD_PARALLEL = "N/A"
  LINE_FIRST_PIXEL = 1
  LINE_LAST_PIXEL = 17009
  LINE_PROJECTION_OFFSET = -26675.25
  MAP_PROJECTION_ROTATION = 0.0
  MAP_PROJECTION_TYPE = SINUSOIDAL
  MAP_RESOLUTION = 1185.42760773333
  MAP_SCALE = 0.05
  MAXIMUM_LATITUDE = -22.5573
  MINIMUM_LATITUDE = -36.8965
  POSITIVE_LONGITUDE_DIRECTION = EAST
  REFERENCE_LATITUDE = "N/A"
  REFERENCE_LONGITUDE = "N/A"
  SAMPLE_FIRST_PIXEL = 1
  SAMPLE_LAST_PIXEL = 3922
  SAMPLE_PROJECTION_OFFSET = 2036.75
  SECOND_STANDARD_PARALLEL = "N/A"
  WESTERNMOST_LONGITUDE = 255.254
END_OBJECT = IMAGE_MAP_PROJECTION
/* The JPEG2000 image data file associated with this label. */
OBJECT = COMPRESSED_FILE
  FILE_NAME = "HC836_0009_P23.JP2"
  RECORD_TYPE = UNDEFINED
  FILE_RECORDS = UNK
  ENCODING_TYPE = "JP2"
  INTERCHANGE_FORMAT = BINARY
  UNCOMPRESSED_FILE_NAME = "HC836_0009_P23.IMG"
  REQUIRED_STORAGE_BYTES = "66732830"
  ^DESCRIPTION = "JP2INFO.TXT"
END_OBJECT = COMPRESSED_FILE
END
