PDS_VERSION_ID = PDS3
/* FILE DATA ELEMENTS */
RECORD_TYPE = STREAM
/* POINTERS TO DATA OBJECTS */
^COMPRESSED_FILE = "HC838_0000_P13.JP2"
/* IDENTIFICATION DATA ELEMENTS */
DATA_SET_ID = "MEX-M-HRSC-5-REFDR-MAPPROJECTED-V3.0"
DATA_SET_NAME = "MARS EXPRESS HRSC MAP PROJECTED REFDR V3.0"
DETECTOR_ID = MEX_HRSC_P1
EVENT_TYPE = "MARS-REGIONAL-MAPPING-Pf-Ts-At"
INSTRUMENT_HOST_ID = MEX
INSTRUMENT_HOST_NAME = "MARS EXPRESS"
INSTRUMENT_ID = HRSC
INSTRUMENT_NAME = "HIGH RESOLUTION STEREO CAMERA"
MISSION_NAME = "MARS EXPRESS"
MISSION_PHASE_NAME = ME_Phase_30
PROCESSING_LEVEL_ID = 3
PRODUCT_CREATION_TIME = 2016-10-29T02:00:08.000Z
PRODUCT_ID = "HC838_0000_P13.JP2"
RELEASE_ID = 0121
REVISION_ID = 0000
/* QUALITY DATA ELEMENTS */
DATA_QUALITY_ID = 1
DATA_QUALITY_DESC = "Data calculated based on original SPICE kernels"
/* TIME DATA ELEMENTS */
SPACECRAFT_CLOCK_START_COUNT = "1/0339907409.07288"
SPACECRAFT_CLOCK_STOP_COUNT = "1/0339907709.11128"
START_TIME = 2014-02-08T02:44:39.169Z
STOP_TIME = 2014-02-08T02:48:11.946Z
/* ORBITAL DATA ELEMENTS */
ASCENDING_NODE_LONGITUDE = 332.75
MAXIMUM_RESOLUTION = 41.6
FOOTPRINT_POINT_LATITUDE = (-50.2545,-50.2473,-50.2351,-50.2204, -50.2955,-50.0576,-49.582,-49.2215, -48.9799,-48.7377,-48.3737,-48.1264, -47.7554,-47.3784,-47.1259,-46.8738, -46.4888,-46.2317,-45.9721,-45.7103, -45.3177,-44.9196,-44.6536,-44.3837, -44.113,-43.8414,-43.5654,-43.1514, -42.8713,-42.5905,-42.1632,-41.8777, -41.4435,-41.1533,-40.8574,-40.563, -40.2635,-39.9639,-39.6597,-39.3553, -39.0464,-38.5792,-38.2653,-37.9477, -37.4663,-37.1424,-36.8144,-36.4843, -36.461,-36.467,-36.4752,-36.4807, -36.4836,-36.4868,-36.8174,-37.1465, -37.4706,-37.9526,-38.2711,-38.5861, -38.8994,-39.209,-39.6683,-39.9722, -40.2721,-40.5709,-40.8654,-41.3067, -41.5978,-41.8881,-42.1739,-42.6025, -42.8838,-43.1655,-43.4415,-43.7185, -43.9935,-44.2656,-44.5391,-44.8072, -45.0732,-45.3405,-45.6029,-45.864, -46.2547,-46.641,-46.8984,-47.1504, -47.4032,-47.7806,-48.152,-48.3997, -48.6463,-48.8891,-49.1305,-49.3737, -49.7331,-49.9719,-50.2101,-50.2545)
FOOTPRINT_POINT_LONGITUDE = (52.8961,52.4288,51.78,51.1308,50.6782, 50.6962,50.7311,50.7563,50.7723,50.7883 ,50.8103,50.8258,50.8486,50.8706, 50.8853,50.8994,50.92,50.9337,50.9471, 50.9602,50.9791,50.9964,51.0079,51.0197 ,51.0306,51.0417,51.0524,51.0679, 51.0777,51.0875,51.1019,51.111,51.1239, 51.1319,51.1407,51.1478,51.1554,51.1623 ,51.1692,51.1756,51.1817,51.1908,51.196 ,51.2009,51.2084,51.2128,51.2169, 51.2211,51.7521,52.0879,52.6473,53.1516 ,53.544,54.1161,54.1046,54.0933,54.0816 ,54.0642,54.0525,54.0413,54.0299, 54.0181,54.0,53.9871,53.9752,53.9621, 53.9496,53.9315,53.9199,53.908,53.896, 53.878,53.8659,53.8538,53.841,53.8288, 53.8162,53.8039,53.7921,53.7791,53.7655 ,53.7524,53.7393,53.7253,53.7046, 53.6842,53.6702,53.656,53.642,53.6198, 53.5981,53.5833,53.5685,53.5536,53.5377 ,53.5225,53.4994,53.4841,53.4683, 52.8961)
ORBIT_NUMBER = 12838
ORBITAL_ECCENTRICITY = 0.577
ORBITAL_INCLINATION = 86.89
ORBITAL_SEMIMAJOR_AXIS = 8761.4
PERIAPSIS_ALTITUDE = 328.68
PERIAPSIS_ARGUMENT_ANGLE = 284.37
PERIAPSIS_TIME = 2014-02-08T02:37:24.000Z
SPACECRAFT_ORIENTATION = (0.0,1.0,0.0)
^MEX_ORIENTATION_DESC = "MEX_ORIENTATION_DESC.TXT"
SPACECRAFT_POINTING_MODE = INERT
^MEX_POINTING_DESC = "MEX_POINTING_DESC.TXT"
RIGHT_ASCENSION = 294.324
DECLINATION = 60.232
OFFSET_ANGLE = -1e+32
SPACECRAFT_SOLAR_DISTANCE = 2.48273e+08
TARGET_NAME = MARS
/* CAMERA DATA ELEMENTS */
DETECTOR_TEMPERATURE = 17.5549
FOCAL_PLANE_TEMPERATURE = 8.1755
INST_CMPRS_NAME = "DISCRETE COSINE TRANSFORMATION (DCT)"
INST_CMPRS_RATIO = 9.85896
INST_CMPRS_QUALITY = 0
INST_CMPRS_QUANTZ_TBL_ID = 0
INSTRUMENT_TEMPERATURE = 11.4379
LENS_TEMPERATURE = 8.7872
MACROPIXEL_SIZE = 2
MISSING_FRAMES = 0
PIXEL_SUBSAMPLING_FLAG = N
SIGNAL_CHAIN_ID = 3
/* RADIOMETRIC DATA ELEMENTS */
BANDWIDTH = 174.0
CENTER_FILTER_WAVELENGTH = 675.0
RADIANCE_OFFSET = 1.08802
RADIANCE_SCALING_FACTOR = 0.0142886
REFLECTANCE_SCALING_FACTOR = 0.000473734
MEX:REFLECTANCE_OFFSET = 0.0360729
/* IMAGE OBJECT DEFINITIONS */
OBJECT = IMAGE
  INTERCHANGE_FORMAT = BINARY
  LINES = 16424
  LINE_SAMPLES = 2944
  SAMPLE_TYPE = UNSIGNED_INTEGER
  SAMPLE_BITS = 8
  BANDS = 1
  BAND_STORAGE_TYPE = BAND_SEQUENTIAL
  MAXIMUM = 255
  MEAN = 157.779
  MINIMUM = 1
  STANDARD_DEVIATION = 48.5435
END_OBJECT = IMAGE
/* MAP OBJECT DEFINITIONS */
OBJECT = IMAGE_MAP_PROJECTION
  ^DATA_SET_MAP_PROJECTION_CATALOG= "DSMAP.CAT"
  A_AXIS_RADIUS = 3396.0
  B_AXIS_RADIUS = 3396.0
  C_AXIS_RADIUS = 3396.0
  CENTER_LATITUDE = 0.0
  CENTER_LONGITUDE = 52.0
  COORDINATE_SYSTEM_NAME = PLANETOGRAPHIC
  COORDINATE_SYSTEM_TYPE = "BODY-FIXED ROTATING"
  EASTERNMOST_LONGITUDE = 54.1161
  FIRST_STANDARD_PARALLEL = "N/A"
  LINE_FIRST_PIXEL = 1
  LINE_LAST_PIXEL = 16424
  LINE_PROJECTION_OFFSET = -43208.75
  MAP_PROJECTION_ROTATION = 0.0
  MAP_PROJECTION_TYPE = SINUSOIDAL
  MAP_RESOLUTION = 1185.42760773333
  MAP_SCALE = 0.05
  MAXIMUM_LATITUDE = -36.461
  MINIMUM_LATITUDE = -50.2955
  POSITIVE_LONGITUDE_DIRECTION = EAST
  REFERENCE_LATITUDE = "N/A"
  REFERENCE_LONGITUDE = "N/A"
  SAMPLE_FIRST_PIXEL = 1
  SAMPLE_LAST_PIXEL = 2944
  SAMPLE_PROJECTION_OFFSET = 970.25
  SECOND_STANDARD_PARALLEL = "N/A"
  WESTERNMOST_LONGITUDE = 50.6782
END_OBJECT = IMAGE_MAP_PROJECTION
/* The JPEG2000 image data file associated with this label. */
OBJECT = COMPRESSED_FILE
  FILE_NAME = "HC838_0000_P13.JP2"
  RECORD_TYPE = UNDEFINED
  FILE_RECORDS = UNK
  ENCODING_TYPE = "JP2"
  INTERCHANGE_FORMAT = BINARY
  UNCOMPRESSED_FILE_NAME = "HC838_0000_P13.IMG"
  REQUIRED_STORAGE_BYTES = "48375808"
  ^DESCRIPTION = "JP2INFO.TXT"
END_OBJECT = COMPRESSED_FILE
END
