PDS_VERSION_ID = PDS3
/* FILE DATA ELEMENTS */
RECORD_TYPE = STREAM
/* POINTERS TO DATA OBJECTS */
^COMPRESSED_FILE = "HC838_0000_RE3.JP2"
/* IDENTIFICATION DATA ELEMENTS */
DATA_SET_ID = "MEX-M-HRSC-5-REFDR-MAPPROJECTED-V3.0"
DATA_SET_NAME = "MARS EXPRESS HRSC MAP PROJECTED REFDR V3.0"
DETECTOR_ID = MEX_HRSC_RED
EVENT_TYPE = "MARS-REGIONAL-MAPPING-Pf-Ts-At"
INSTRUMENT_HOST_ID = MEX
INSTRUMENT_HOST_NAME = "MARS EXPRESS"
INSTRUMENT_ID = HRSC
INSTRUMENT_NAME = "HIGH RESOLUTION STEREO CAMERA"
MISSION_NAME = "MARS EXPRESS"
MISSION_PHASE_NAME = ME_Phase_30
PROCESSING_LEVEL_ID = 3
PRODUCT_CREATION_TIME = 2016-10-29T02:00:08.000Z
PRODUCT_ID = "HC838_0000_RE3.JP2"
RELEASE_ID = 0121
REVISION_ID = 0000
/* QUALITY DATA ELEMENTS */
DATA_QUALITY_ID = 1
DATA_QUALITY_DESC = "Data calculated based on original SPICE kernels"
/* TIME DATA ELEMENTS */
SPACECRAFT_CLOCK_START_COUNT = "1/0339907409.07288"
SPACECRAFT_CLOCK_STOP_COUNT = "1/0339907709.11128"
START_TIME = 2014-02-08T02:43:39.576Z
STOP_TIME = 2014-02-08T02:46:51.410Z
/* ORBITAL DATA ELEMENTS */
ASCENDING_NODE_LONGITUDE = 332.75
MAXIMUM_RESOLUTION = 72.5
FOOTPRINT_POINT_LATITUDE = (-50.3583,-50.3494,-50.3316,-50.1569, -49.6817,-49.1998,-48.9555,-48.5888, -48.3444,-48.0964,-47.8467,-47.5964, -47.3465,-47.0952,-46.8386,-46.4548, -46.1991,-45.8087,-45.5469,-45.2842, -45.0197,-44.7503,-44.4822,-44.2133, -43.9417,-43.6669,-43.3923,-42.9747, -42.6936,-42.272,-41.9853,-41.6981, -41.4101,-41.116,-40.6758,-40.378, -40.0778,-39.7769,-39.3178,-39.0107, -38.6999,-38.3853,-38.07,-37.7494, -37.4295,-36.9391,-36.6125,-36.4095, -36.4198,-36.4264,-36.432,-36.4347, -36.4349,-36.6038,-37.0953,-37.4233, -37.7445,-38.0654,-38.3818,-38.6944, -39.0083,-39.3168,-39.625,-39.9294, -40.2312,-40.6836,-40.9779,-41.2717, -41.7079,-41.9952,-42.2828,-42.5646, -42.8451,-43.2655,-43.5414,-43.9532, -44.2256,-44.6275,-44.8965,-45.1643, -45.4271,-45.6899,-45.953,-46.2143, -46.471,-46.7272,-46.9838,-47.2396, -47.4901,-47.8658,-48.1164,-48.3652, -48.6095,-48.9764,-49.221,-49.4638, -49.7045,-50.0615,-50.2998,-50.3583)
FOOTPRINT_POINT_LONGITUDE = (52.5535,52.125,51.4396,50.7989,50.8333 ,50.8661,50.8816,50.904,50.9188,50.9337 ,50.9486,50.9628,50.9771,50.9909, 51.0041,51.0244,51.0376,51.0567,51.0693 ,51.081,51.092,51.1029,51.1144,51.1251, 51.1357,51.1461,51.1563,51.1705,51.1799 ,51.1936,51.2023,51.2109,51.2189, 51.2264,51.2381,51.2448,51.2518,51.2583 ,51.2673,51.2732,51.2789,51.2838, 51.2883,51.2928,51.2974,51.303,51.3068, 51.6552,52.1018,52.4985,52.9454,53.4174 ,53.7408,53.9658,53.9443,53.9293, 53.9148,53.9002,53.8854,53.8716,53.8563 ,53.8415,53.8265,53.8113,53.7963, 53.7722,53.7576,53.743,53.7204,53.7058, 53.6907,53.6757,53.6612,53.6387,53.6231 ,53.6004,53.5851,53.5628,53.5469, 53.5309,53.515,53.4989,53.4823,53.4655, 53.4491,53.4329,53.4159,53.3987,53.3818 ,53.3561,53.3383,53.321,53.3036,53.2766 ,53.258,53.241,53.2215,53.1942,53.1753, 52.5535)
ORBIT_NUMBER = 12838
ORBITAL_ECCENTRICITY = 0.577
ORBITAL_INCLINATION = 86.89
ORBITAL_SEMIMAJOR_AXIS = 8761.4
PERIAPSIS_ALTITUDE = 328.68
PERIAPSIS_ARGUMENT_ANGLE = 284.37
PERIAPSIS_TIME = 2014-02-08T02:37:24.000Z
SPACECRAFT_ORIENTATION = (0.0,1.0,0.0)
^MEX_ORIENTATION_DESC = "MEX_ORIENTATION_DESC.TXT"
SPACECRAFT_POINTING_MODE = INERT
^MEX_POINTING_DESC = "MEX_POINTING_DESC.TXT"
RIGHT_ASCENSION = 294.324
DECLINATION = 60.232
OFFSET_ANGLE = -1e+32
SPACECRAFT_SOLAR_DISTANCE = 2.48273e+08
TARGET_NAME = MARS
/* CAMERA DATA ELEMENTS */
DETECTOR_TEMPERATURE = 18.7783
FOCAL_PLANE_TEMPERATURE = 8.1755
INST_CMPRS_NAME = "DISCRETE COSINE TRANSFORMATION (DCT)"
INST_CMPRS_RATIO = 17.1094
INST_CMPRS_QUALITY = 0
INST_CMPRS_QUANTZ_TBL_ID = 0
INSTRUMENT_TEMPERATURE = 11.4379
LENS_TEMPERATURE = 8.7872
MACROPIXEL_SIZE = 4
MISSING_FRAMES = 0
PIXEL_SUBSAMPLING_FLAG = N
SIGNAL_CHAIN_ID = 2
/* RADIOMETRIC DATA ELEMENTS */
BANDWIDTH = 48.0
CENTER_FILTER_WAVELENGTH = 748.0
RADIANCE_OFFSET = 0.235633
RADIANCE_SCALING_FACTOR = 0.00409223
REFLECTANCE_SCALING_FACTOR = 0.000575632
MEX:REFLECTANCE_OFFSET = 0.0331453
/* IMAGE OBJECT DEFINITIONS */
OBJECT = IMAGE
  INTERCHANGE_FORMAT = BINARY
  LINES = 8212
  LINE_SAMPLES = 1472
  SAMPLE_TYPE = UNSIGNED_INTEGER
  SAMPLE_BITS = 8
  BANDS = 1
  BAND_STORAGE_TYPE = BAND_SEQUENTIAL
  MAXIMUM = 255
  MEAN = 158.017
  MINIMUM = 1
  STANDARD_DEVIATION = 49.2085
END_OBJECT = IMAGE
/* MAP OBJECT DEFINITIONS */
OBJECT = IMAGE_MAP_PROJECTION
  ^DATA_SET_MAP_PROJECTION_CATALOG= "DSMAP.CAT"
  A_AXIS_RADIUS = 3396.0
  B_AXIS_RADIUS = 3396.0
  C_AXIS_RADIUS = 3396.0
  CENTER_LATITUDE = 0.0
  CENTER_LONGITUDE = 52.0
  COORDINATE_SYSTEM_NAME = PLANETOGRAPHIC
  COORDINATE_SYSTEM_TYPE = "BODY-FIXED ROTATING"
  EASTERNMOST_LONGITUDE = 53.9658
  FIRST_STANDARD_PARALLEL = "N/A"
  LINE_FIRST_PIXEL = 1
  LINE_LAST_PIXEL = 8212
  LINE_PROJECTION_OFFSET = -21604.625
  MAP_PROJECTION_ROTATION = 0.0
  MAP_PROJECTION_TYPE = SINUSOIDAL
  MAP_RESOLUTION = 592.713803866667
  MAP_SCALE = 0.1
  MAXIMUM_LATITUDE = -36.4095
  MINIMUM_LATITUDE = -50.3583
  POSITIVE_LONGITUDE_DIRECTION = EAST
  REFERENCE_LATITUDE = "N/A"
  REFERENCE_LONGITUDE = "N/A"
  SAMPLE_FIRST_PIXEL = 1
  SAMPLE_LAST_PIXEL = 1472
  SAMPLE_PROJECTION_OFFSET = 484.875
  SECOND_STANDARD_PARALLEL = "N/A"
  WESTERNMOST_LONGITUDE = 50.7989
END_OBJECT = IMAGE_MAP_PROJECTION
/* The JPEG2000 image data file associated with this label. */
OBJECT = COMPRESSED_FILE
  FILE_NAME = "HC838_0000_RE3.JP2"
  RECORD_TYPE = UNDEFINED
  FILE_RECORDS = UNK
  ENCODING_TYPE = "JP2"
  INTERCHANGE_FORMAT = BINARY
  UNCOMPRESSED_FILE_NAME = "HC838_0000_RE3.IMG"
  REQUIRED_STORAGE_BYTES = "12107200"
  ^DESCRIPTION = "JP2INFO.TXT"
END_OBJECT = COMPRESSED_FILE
END
