PDS_VERSION_ID = PDS3
/* FILE DATA ELEMENTS */
RECORD_TYPE = STREAM
/* POINTERS TO DATA OBJECTS */
^COMPRESSED_FILE = "HC839_0000_ND3.JP2"
/* IDENTIFICATION DATA ELEMENTS */
DATA_SET_ID = "MEX-M-HRSC-5-REFDR-MAPPROJECTED-V3.0"
DATA_SET_NAME = "MARS EXPRESS HRSC MAP PROJECTED REFDR V3.0"
DETECTOR_ID = MEX_HRSC_NADIR
EVENT_TYPE = "MARS-REGIONAL-MAPPING-Fl-Pf"
INSTRUMENT_HOST_ID = MEX
INSTRUMENT_HOST_NAME = "MARS EXPRESS"
INSTRUMENT_ID = HRSC
INSTRUMENT_NAME = "HIGH RESOLUTION STEREO CAMERA"
MISSION_NAME = "MARS EXPRESS"
MISSION_PHASE_NAME = ME_Phase_30
PROCESSING_LEVEL_ID = 3
PRODUCT_CREATION_TIME = 2016-10-29T02:00:08.000Z
PRODUCT_ID = "HC839_0000_ND3.JP2"
RELEASE_ID = 0121
REVISION_ID = 0000
/* QUALITY DATA ELEMENTS */
DATA_QUALITY_ID = 1
DATA_QUALITY_DESC = "Data calculated based on original SPICE kernels"
/* TIME DATA ELEMENTS */
SPACECRAFT_CLOCK_START_COUNT = "1/0339932566.09034"
SPACECRAFT_CLOCK_STOP_COUNT = "1/0339932832.28395"
START_TIME = 2014-02-08T09:43:28.064Z
STOP_TIME = 2014-02-08T09:46:20.080Z
/* ORBITAL DATA ELEMENTS */
ASCENDING_NODE_LONGITUDE = 332.73
MAXIMUM_RESOLUTION = 19
FOOTPRINT_POINT_LATITUDE = (-50.3415,-50.3325,-50.3223,-50.3109, -50.2981,-50.284,-50.0996,-49.7914, -49.4776,-49.0596,-48.5312,-48.3179, -47.9957,-47.6704,-47.453,-47.2345, -47.0151,-46.7958,-46.5728,-46.3503, -46.0155,-45.7893,-45.5614,-45.3347, -45.1076,-44.8755,-44.6431,-44.2945, -44.0586,-43.8221,-43.5853,-43.2257, -42.9846,-42.7435,-42.4984,-42.2522, -42.0062,-41.7571,-41.5075,-41.2567, -41.0016,-40.7465,-40.3607,-40.0993, -39.839,-39.5743,-39.1773,-38.9108, -38.642,-38.6455,-38.6549,-38.6653, -38.6762,-38.6835,-38.6904,-38.6952, -38.9666,-39.2348,-39.6317,-39.8967, -40.1557,-40.4161,-40.6744,-40.9293, -41.1847,-41.4379,-41.6885,-42.0639, -42.3103,-42.5564,-42.8016,-43.0431, -43.2844,-43.6447,-43.8815,-44.1184, -44.3553,-44.588,-44.8204,-45.169, -45.397,-45.6248,-45.853,-46.0797, -46.3023,-46.6369,-46.8606,-47.1903, -47.4103,-47.6292,-47.8477,-48.1698, -48.3845,-48.5991,-49.0231,-49.3378, -49.5479,-49.9637,-50.3739,-50.3415)
FOOTPRINT_POINT_LONGITUDE = (310.015,309.619,309.222,308.823, 308.422,308.018,307.799,307.824,307.849 ,307.875,307.912,307.924,307.948, 307.976,307.985,307.997,308.014,308.025 ,308.036,308.045,308.063,308.073, 308.087,308.09,308.096,308.106,308.119, 308.139,308.144,308.149,308.155,308.171 ,308.187,308.196,308.198,308.199, 308.206,308.217,308.231,308.233,308.236 ,308.241,308.247,308.244,308.247,308.25 ,308.256,308.267,308.272,308.572, 308.896,309.272,309.728,310.075,310.528 ,310.872,310.981,310.973,310.959, 310.948,310.94,310.93,310.92,310.911, 310.901,310.89,310.88,310.865,310.852, 310.842,310.832,310.821,310.808,310.793 ,310.782,310.77,310.76,310.749,310.737, 310.72,310.708,310.696,310.684,310.671, 310.658,310.639,310.626,310.607,310.595 ,310.582,310.569,310.549,310.536, 310.522,310.494,310.473,310.458,310.429 ,310.399,310.015)
ORBIT_NUMBER = 12839
ORBITAL_ECCENTRICITY = 0.577
ORBITAL_INCLINATION = 86.89
ORBITAL_SEMIMAJOR_AXIS = 8759.31
PERIAPSIS_ALTITUDE = 328.95
PERIAPSIS_ARGUMENT_ANGLE = 284.21
PERIAPSIS_TIME = 2014-02-08T09:36:40.000Z
SPACECRAFT_ORIENTATION = (0.0,1.0,0.0)
^MEX_ORIENTATION_DESC = "MEX_ORIENTATION_DESC.TXT"
SPACECRAFT_POINTING_MODE = INERT
^MEX_POINTING_DESC = "MEX_POINTING_DESC.TXT"
RIGHT_ASCENSION = 294.657
DECLINATION = 60.213
OFFSET_ANGLE = -1e+32
SPACECRAFT_SOLAR_DISTANCE = 2.48257e+08
TARGET_NAME = MARS
/* CAMERA DATA ELEMENTS */
DETECTOR_TEMPERATURE = 17.9627
FOCAL_PLANE_TEMPERATURE = 7.5638
INST_CMPRS_NAME = "DISCRETE COSINE TRANSFORMATION (DCT)"
INST_CMPRS_RATIO = 5.75733
INST_CMPRS_QUALITY = 0
INST_CMPRS_QUANTZ_TBL_ID = 0
INSTRUMENT_TEMPERATURE = 11.234
LENS_TEMPERATURE = 8.3794
MACROPIXEL_SIZE = 1
MISSING_FRAMES = 0
PIXEL_SUBSAMPLING_FLAG = N
SIGNAL_CHAIN_ID = 0
/* RADIOMETRIC DATA ELEMENTS */
BANDWIDTH = 177.0
CENTER_FILTER_WAVELENGTH = 677.5
RADIANCE_OFFSET = 0.0
RADIANCE_SCALING_FACTOR = 0.0130498
REFLECTANCE_SCALING_FACTOR = 0.000427259
MEX:REFLECTANCE_OFFSET = 0.0
/* IMAGE OBJECT DEFINITIONS */
OBJECT = IMAGE
  INTERCHANGE_FORMAT = BINARY
  LINES = 27755
  LINE_SAMPLES = 5555
  SAMPLE_TYPE = UNSIGNED_INTEGER
  SAMPLE_BITS = 8
  BANDS = 1
  BAND_STORAGE_TYPE = BAND_SEQUENTIAL
  MAXIMUM = 255
  MEAN = 100.022
  MINIMUM = 1
  STANDARD_DEVIATION = 31.6909
END_OBJECT = IMAGE
/* MAP OBJECT DEFINITIONS */
OBJECT = IMAGE_MAP_PROJECTION
  ^DATA_SET_MAP_PROJECTION_CATALOG= "DSMAP.CAT"
  A_AXIS_RADIUS = 3396.0
  B_AXIS_RADIUS = 3396.0
  C_AXIS_RADIUS = 3396.0
  CENTER_LATITUDE = 0.0
  CENTER_LONGITUDE = 309.0
  COORDINATE_SYSTEM_NAME = PLANETOGRAPHIC
  COORDINATE_SYSTEM_TYPE = "BODY-FIXED ROTATING"
  EASTERNMOST_LONGITUDE = 310.981
  FIRST_STANDARD_PARALLEL = "N/A"
  LINE_FIRST_PIXEL = 1
  LINE_LAST_PIXEL = 27755
  LINE_PROJECTION_OFFSET = -91616.0
  MAP_PROJECTION_ROTATION = 0.0
  MAP_PROJECTION_TYPE = SINUSOIDAL
  MAP_RESOLUTION = 2370.85521546667
  MAP_SCALE = 0.025
  MAXIMUM_LATITUDE = -38.642
  MINIMUM_LATITUDE = -50.3739
  POSITIVE_LONGITUDE_DIRECTION = EAST
  REFERENCE_LATITUDE = "N/A"
  REFERENCE_LONGITUDE = "N/A"
  SAMPLE_FIRST_PIXEL = 1
  SAMPLE_LAST_PIXEL = 5555
  SAMPLE_PROJECTION_OFFSET = 1873.0
  SECOND_STANDARD_PARALLEL = "N/A"
  WESTERNMOST_LONGITUDE = 307.799
END_OBJECT = IMAGE_MAP_PROJECTION
/* The JPEG2000 image data file associated with this label. */
OBJECT = COMPRESSED_FILE
  FILE_NAME = "HC839_0000_ND3.JP2"
  RECORD_TYPE = UNDEFINED
  FILE_RECORDS = UNK
  ENCODING_TYPE = "JP2"
  INTERCHANGE_FORMAT = BINARY
  UNCOMPRESSED_FILE_NAME = "HC839_0000_ND3.IMG"
  REQUIRED_STORAGE_BYTES = "154206800"
  ^DESCRIPTION = "JP2INFO.TXT"
END_OBJECT = COMPRESSED_FILE
END
