PDS_VERSION_ID = PDS3
/* FILE DATA ELEMENTS */
RECORD_TYPE = STREAM
/* POINTERS TO DATA OBJECTS */
^COMPRESSED_FILE = "HC848_0000_GR3.JP2"
/* IDENTIFICATION DATA ELEMENTS */
DATA_SET_ID = "MEX-M-HRSC-5-REFDR-MAPPROJECTED-V3.0"
DATA_SET_NAME = "MARS EXPRESS HRSC MAP PROJECTED REFDR V3.0"
DETECTOR_ID = MEX_HRSC_GREEN
EVENT_TYPE = "MARS-REGIONAL-MAPPING-Gl-Pf"
INSTRUMENT_HOST_ID = MEX
INSTRUMENT_HOST_NAME = "MARS EXPRESS"
INSTRUMENT_ID = HRSC
INSTRUMENT_NAME = "HIGH RESOLUTION STEREO CAMERA"
MISSION_NAME = "MARS EXPRESS"
MISSION_PHASE_NAME = ME_Phase_30
PROCESSING_LEVEL_ID = 3
PRODUCT_CREATION_TIME = 2016-10-29T02:00:08.000Z
PRODUCT_ID = "HC848_0000_GR3.JP2"
RELEASE_ID = 0121
REVISION_ID = 0000
/* QUALITY DATA ELEMENTS */
DATA_QUALITY_ID = 1
DATA_QUALITY_DESC = "Data calculated based on original SPICE kernels"
/* TIME DATA ELEMENTS */
SPACECRAFT_CLOCK_START_COUNT = "1/0340158945.07333"
SPACECRAFT_CLOCK_STOP_COUNT = "1/0340159163.21388"
START_TIME = 2014-02-11T00:36:34.426Z
STOP_TIME = 2014-02-11T00:38:42.666Z
/* ORBITAL DATA ELEMENTS */
ASCENDING_NODE_LONGITUDE = 332.57
MAXIMUM_RESOLUTION = 76.3
FOOTPRINT_POINT_LATITUDE = (-52.0352,-52.0329,-52.0294,-52.0247, -52.0187,-52.0114,-51.7925,-51.4786, -51.168,-50.8493,-50.6882,-50.5268, -50.365,-50.2009,-50.0382,-49.7922, -49.5466,-49.3824,-49.1362,-48.9688, -48.801,-48.6332,-48.4652,-48.2969, -48.1264,-47.9555,-47.6991,-47.4428, -47.269,-47.0947,-46.9213,-46.7476, -46.5736,-46.3958,-46.2179,-46.0403, -45.8625,-45.6823,-45.501,-45.3196, -45.1381,-44.9551,-44.7699,-44.5852, -44.4018,-44.2164,-44.0284,-43.7463, -43.462,-43.4408,-43.4452,-43.4489, -43.4498,-43.4499,-43.449,-43.5448, -43.734,-43.9219,-44.1106,-44.2991, -44.4839,-44.6689,-44.8539,-45.1302, -45.3117,-45.4933,-45.6747,-45.8552, -46.0325,-46.2108,-46.3891,-46.6562, -46.8309,-47.0049,-47.1794,-47.3546, -47.5289,-47.7004,-47.8718,-48.1289, -48.2999,-48.4674,-48.6341,-48.8856, -49.0539,-49.2208,-49.3849,-49.6316, -49.8785,-50.0433,-50.2058,-50.3666, -50.6089,-50.7704,-51.0916,-51.4073, -51.647,-51.8873,-52.0479,-52.0352)
FOOTPRINT_POINT_LONGITUDE = (109.053,108.658,108.257,107.852, 107.442,107.027,106.679,106.705,106.718 ,106.744,106.758,106.772,106.788, 106.812,106.828,106.845,106.86,106.871, 106.888,106.899,106.91,106.921,106.934, 106.947,106.959,106.969,106.983,106.997 ,107.005,107.014,107.018,107.023, 107.029,107.037,107.046,107.052,107.059 ,107.067,107.075,107.083,107.092,107.1, 107.111,107.119,107.114,107.117,107.122 ,107.13,107.138,107.625,108.026,108.526 ,108.867,109.229,109.536,109.944, 109.936,109.929,109.921,109.912,109.904 ,109.896,109.888,109.875,109.866, 109.858,109.849,109.841,109.833,109.823 ,109.814,109.799,109.789,109.78,109.771 ,109.76,109.749,109.739,109.729,109.713 ,109.703,109.693,109.683,109.667, 109.656,109.644,109.634,109.617,109.599 ,109.587,109.575,109.564,109.545, 109.533,109.508,109.483,109.461,109.439 ,109.424,109.053)
ORBIT_NUMBER = 12848
ORBITAL_ECCENTRICITY = 0.577
ORBITAL_INCLINATION = 86.89
ORBITAL_SEMIMAJOR_AXIS = 8760.2
PERIAPSIS_ALTITUDE = 328.13
PERIAPSIS_ARGUMENT_ANGLE = 282.66
PERIAPSIS_TIME = 2014-02-11T00:29:43.000Z
SPACECRAFT_ORIENTATION = (0.0,1.0,0.0)
^MEX_ORIENTATION_DESC = "MEX_ORIENTATION_DESC.TXT"
SPACECRAFT_POINTING_MODE = INERT
^MEX_POINTING_DESC = "MEX_POINTING_DESC.TXT"
RIGHT_ASCENSION = 297.731
DECLINATION = 60.01
OFFSET_ANGLE = -1e+32
SPACECRAFT_SOLAR_DISTANCE = 2.48112e+08
TARGET_NAME = MARS
/* CAMERA DATA ELEMENTS */
DETECTOR_TEMPERATURE = 18.3705
FOCAL_PLANE_TEMPERATURE = 7.9716
INST_CMPRS_NAME = "DISCRETE COSINE TRANSFORMATION (DCT)"
INST_CMPRS_RATIO = 6.71272
INST_CMPRS_QUALITY = 0
INST_CMPRS_QUANTZ_TBL_ID = 0
INSTRUMENT_TEMPERATURE = 11.234
LENS_TEMPERATURE = 8.3794
MACROPIXEL_SIZE = 4
MISSING_FRAMES = 0
PIXEL_SUBSAMPLING_FLAG = N
SIGNAL_CHAIN_ID = 2
/* RADIOMETRIC DATA ELEMENTS */
BANDWIDTH = 88.0
CENTER_FILTER_WAVELENGTH = 538.0
RADIANCE_OFFSET = 0.036203
RADIANCE_SCALING_FACTOR = 0.00702764
REFLECTANCE_SCALING_FACTOR = 0.000372471
MEX:REFLECTANCE_OFFSET = 0.00191879
/* IMAGE OBJECT DEFINITIONS */
OBJECT = IMAGE
  INTERCHANGE_FORMAT = BINARY
  LINES = 10232
  LINE_SAMPLES = 2701
  SAMPLE_TYPE = UNSIGNED_INTEGER
  SAMPLE_BITS = 8
  BANDS = 1
  BAND_STORAGE_TYPE = BAND_SEQUENTIAL
  MAXIMUM = 255
  MEAN = 125.35
  MINIMUM = 1
  STANDARD_DEVIATION = 24.6318
END_OBJECT = IMAGE
/* MAP OBJECT DEFINITIONS */
OBJECT = IMAGE_MAP_PROJECTION
  ^DATA_SET_MAP_PROJECTION_CATALOG= "DSMAP.CAT"
  A_AXIS_RADIUS = 3396.0
  B_AXIS_RADIUS = 3396.0
  C_AXIS_RADIUS = 3396.0
  CENTER_LATITUDE = 0.0
  CENTER_LONGITUDE = 108.0
  COORDINATE_SYSTEM_NAME = PLANETOGRAPHIC
  COORDINATE_SYSTEM_TYPE = "BODY-FIXED ROTATING"
  EASTERNMOST_LONGITUDE = 109.944
  FIRST_STANDARD_PARALLEL = "N/A"
  LINE_FIRST_PIXEL = 1
  LINE_LAST_PIXEL = 10232
  LINE_PROJECTION_OFFSET = -51500.375
  MAP_PROJECTION_ROTATION = 0.0
  MAP_PROJECTION_TYPE = SINUSOIDAL
  MAP_RESOLUTION = 1185.42760773333
  MAP_SCALE = 0.05
  MAXIMUM_LATITUDE = -43.4408
  MINIMUM_LATITUDE = -52.0479
  POSITIVE_LONGITUDE_DIRECTION = EAST
  REFERENCE_LATITUDE = "N/A"
  REFERENCE_LONGITUDE = "N/A"
  SAMPLE_FIRST_PIXEL = 1
  SAMPLE_LAST_PIXEL = 2701
  SAMPLE_PROJECTION_OFFSET = 1042.625
  SECOND_STANDARD_PARALLEL = "N/A"
  WESTERNMOST_LONGITUDE = 106.679
END_OBJECT = IMAGE_MAP_PROJECTION
/* The JPEG2000 image data file associated with this label. */
OBJECT = COMPRESSED_FILE
  FILE_NAME = "HC848_0000_GR3.JP2"
  RECORD_TYPE = UNDEFINED
  FILE_RECORDS = UNK
  ENCODING_TYPE = "JP2"
  INTERCHANGE_FORMAT = BINARY
  UNCOMPRESSED_FILE_NAME = "HC848_0000_GR3.IMG"
  REQUIRED_STORAGE_BYTES = "27658240"
  ^DESCRIPTION = "JP2INFO.TXT"
END_OBJECT = COMPRESSED_FILE
END
