PDS_VERSION_ID = PDS3
/* FILE DATA ELEMENTS */
RECORD_TYPE = STREAM
/* POINTERS TO DATA OBJECTS */
^COMPRESSED_FILE = "HC848_0000_S13.JP2"
/* IDENTIFICATION DATA ELEMENTS */
DATA_SET_ID = "MEX-M-HRSC-5-REFDR-MAPPROJECTED-V3.0"
DATA_SET_NAME = "MARS EXPRESS HRSC MAP PROJECTED REFDR V3.0"
DETECTOR_ID = MEX_HRSC_S1
EVENT_TYPE = "MARS-REGIONAL-MAPPING-Gl-Pf"
INSTRUMENT_HOST_ID = MEX
INSTRUMENT_HOST_NAME = "MARS EXPRESS"
INSTRUMENT_ID = HRSC
INSTRUMENT_NAME = "HIGH RESOLUTION STEREO CAMERA"
MISSION_NAME = "MARS EXPRESS"
MISSION_PHASE_NAME = ME_Phase_30
PROCESSING_LEVEL_ID = 3
PRODUCT_CREATION_TIME = 2016-10-29T02:00:08.000Z
PRODUCT_ID = "HC848_0000_S13.JP2"
RELEASE_ID = 0121
REVISION_ID = 0000
/* QUALITY DATA ELEMENTS */
DATA_QUALITY_ID = 1
DATA_QUALITY_DESC = "Data calculated based on original SPICE kernels"
/* TIME DATA ELEMENTS */
SPACECRAFT_CLOCK_START_COUNT = "1/0340158945.07333"
SPACECRAFT_CLOCK_STOP_COUNT = "1/0340159163.21388"
START_TIME = 2014-02-11T00:37:12.446Z
STOP_TIME = 2014-02-11T00:39:26.100Z
/* ORBITAL DATA ELEMENTS */
ASCENDING_NODE_LONGITUDE = 332.57
MAXIMUM_RESOLUTION = 43.8
FOOTPRINT_POINT_LATITUDE = (-51.9255,-51.9393,-51.9522,-51.9641, -51.975,-51.9849,-51.9937,-51.988, -51.5987,-51.298,-51.0637,-50.7446, -50.4215,-50.1705,-50.0017,-49.8393, -49.6777,-49.5146,-49.3503,-49.1854, -48.9357,-48.685,-48.5175,-48.3455, -48.174,-48.0048,-47.8351,-47.663, -47.49,-47.3193,-47.1471,-46.9774, -46.8044,-46.6317,-46.4566,-46.279, -46.0124,-45.8342,-45.6548,-45.4729, -45.2906,-45.109,-44.8315,-44.6432, -44.4645,-44.2823,-44.0024,-43.7202, -43.5304,-43.4919,-43.4853,-43.471, -43.4585,-43.4462,-43.4295,-43.4116, -43.4028,-43.5921,-43.7813,-43.9664, -44.1565,-44.3443,-44.5286,-44.7133, -44.8985,-45.0813,-45.2631,-45.4448, -45.6258,-45.8033,-45.9792,-46.2461, -46.4242,-46.6923,-46.8667,-47.0381, -47.2112,-47.3889,-47.5637,-47.7372, -47.9072,-48.1619,-48.3317,-48.4976, -48.6604,-48.9121,-49.08,-49.2459, -49.4093,-49.5721,-49.7359,-49.9007, -50.0643,-50.3068,-50.628,-50.9478, -51.3425,-51.5901,-51.7542,-51.9255)
FOOTPRINT_POINT_LONGITUDE = (109.585,109.143,108.695,108.24,107.78, 107.313,106.839,106.548,106.587,106.601 ,106.621,106.651,106.682,106.714, 106.736,106.748,106.759,106.772,106.785 ,106.798,106.816,106.836,106.849, 106.864,106.878,106.889,106.9,106.912, 106.923,106.932,106.942,106.948,106.955 ,106.961,106.971,106.98,106.993,107.002 ,107.012,107.021,107.031,107.04,107.054 ,107.068,107.068,107.07,107.08,107.09, 107.097,107.516,107.753,108.25,108.625, 108.885,109.311,109.704,109.981,110.066 ,110.058,110.051,110.043,110.035, 110.027,110.019,110.011,110.003,109.994 ,109.986,109.977,109.969,109.961, 109.948,109.938,109.924,109.915,109.906 ,109.896,109.886,109.876,109.865, 109.856,109.84,109.83,109.821,109.811, 109.795,109.784,109.773,109.762,109.751 ,109.74,109.729,109.717,109.7,109.676, 109.652,109.622,109.6,109.586,109.585)
ORBIT_NUMBER = 12848
ORBITAL_ECCENTRICITY = 0.577
ORBITAL_INCLINATION = 86.89
ORBITAL_SEMIMAJOR_AXIS = 8760.2
PERIAPSIS_ALTITUDE = 328.13
PERIAPSIS_ARGUMENT_ANGLE = 282.66
PERIAPSIS_TIME = 2014-02-11T00:29:43.000Z
SPACECRAFT_ORIENTATION = (0.0,1.0,0.0)
^MEX_ORIENTATION_DESC = "MEX_ORIENTATION_DESC.TXT"
SPACECRAFT_POINTING_MODE = INERT
^MEX_POINTING_DESC = "MEX_POINTING_DESC.TXT"
RIGHT_ASCENSION = 297.731
DECLINATION = 60.01
OFFSET_ANGLE = -1e+32
SPACECRAFT_SOLAR_DISTANCE = 2.48112e+08
TARGET_NAME = MARS
/* CAMERA DATA ELEMENTS */
DETECTOR_TEMPERATURE = 17.5549
FOCAL_PLANE_TEMPERATURE = 7.9716
INST_CMPRS_NAME = "DISCRETE COSINE TRANSFORMATION (DCT)"
INST_CMPRS_RATIO = 7.3145
INST_CMPRS_QUALITY = 0
INST_CMPRS_QUANTZ_TBL_ID = 0
INSTRUMENT_TEMPERATURE = 11.234
LENS_TEMPERATURE = 8.3794
MACROPIXEL_SIZE = 2
MISSING_FRAMES = 0
PIXEL_SUBSAMPLING_FLAG = N
SIGNAL_CHAIN_ID = 1
/* RADIOMETRIC DATA ELEMENTS */
BANDWIDTH = 180.0
CENTER_FILTER_WAVELENGTH = 677.0
RADIANCE_OFFSET = 0.0876543
RADIANCE_SCALING_FACTOR = 0.0257807
REFLECTANCE_SCALING_FACTOR = 0.000828
MEX:REFLECTANCE_OFFSET = 0.0028152
/* IMAGE OBJECT DEFINITIONS */
OBJECT = IMAGE
  INTERCHANGE_FORMAT = BINARY
  LINES = 20464
  LINE_SAMPLES = 5402
  SAMPLE_TYPE = UNSIGNED_INTEGER
  SAMPLE_BITS = 8
  BANDS = 1
  BAND_STORAGE_TYPE = BAND_SEQUENTIAL
  MAXIMUM = 255
  MEAN = 100.651
  MINIMUM = 1
  STANDARD_DEVIATION = 26.5421
END_OBJECT = IMAGE
/* MAP OBJECT DEFINITIONS */
OBJECT = IMAGE_MAP_PROJECTION
  ^DATA_SET_MAP_PROJECTION_CATALOG= "DSMAP.CAT"
  A_AXIS_RADIUS = 3396.0
  B_AXIS_RADIUS = 3396.0
  C_AXIS_RADIUS = 3396.0
  CENTER_LATITUDE = 0.0
  CENTER_LONGITUDE = 108.0
  COORDINATE_SYSTEM_NAME = PLANETOGRAPHIC
  COORDINATE_SYSTEM_TYPE = "BODY-FIXED ROTATING"
  EASTERNMOST_LONGITUDE = 110.066
  FIRST_STANDARD_PARALLEL = "N/A"
  LINE_FIRST_PIXEL = 1
  LINE_LAST_PIXEL = 20464
  LINE_PROJECTION_OFFSET = -103000.25
  MAP_PROJECTION_ROTATION = 0.0
  MAP_PROJECTION_TYPE = SINUSOIDAL
  MAP_RESOLUTION = 2370.85521546667
  MAP_SCALE = 0.025
  MAXIMUM_LATITUDE = -43.4028
  MINIMUM_LATITUDE = -51.9937
  POSITIVE_LONGITUDE_DIRECTION = EAST
  REFERENCE_LATITUDE = "N/A"
  REFERENCE_LONGITUDE = "N/A"
  SAMPLE_FIRST_PIXEL = 1
  SAMPLE_LAST_PIXEL = 5402
  SAMPLE_PROJECTION_OFFSET = 2085.75
  SECOND_STANDARD_PARALLEL = "N/A"
  WESTERNMOST_LONGITUDE = 106.548
END_OBJECT = IMAGE_MAP_PROJECTION
/* The JPEG2000 image data file associated with this label. */
OBJECT = COMPRESSED_FILE
  FILE_NAME = "HC848_0000_S13.JP2"
  RECORD_TYPE = UNDEFINED
  FILE_RECORDS = UNK
  ENCODING_TYPE = "JP2"
  INTERCHANGE_FORMAT = BINARY
  UNCOMPRESSED_FILE_NAME = "HC848_0000_S13.IMG"
  REQUIRED_STORAGE_BYTES = "110573538"
  ^DESCRIPTION = "JP2INFO.TXT"
END_OBJECT = COMPRESSED_FILE
END
