PDS_VERSION_ID = PDS3
/* FILE DATA ELEMENTS */
RECORD_TYPE = STREAM
/* POINTERS TO DATA OBJECTS */
^COMPRESSED_FILE = "HC849_0000_RE3.JP2"
/* IDENTIFICATION DATA ELEMENTS */
DATA_SET_ID = "MEX-M-HRSC-5-REFDR-MAPPROJECTED-V3.0"
DATA_SET_NAME = "MARS EXPRESS HRSC MAP PROJECTED REFDR V3.0"
DETECTOR_ID = MEX_HRSC_RED
EVENT_TYPE = "MARS-REGIONAL-MAPPING-Im-Pf"
INSTRUMENT_HOST_ID = MEX
INSTRUMENT_HOST_NAME = "MARS EXPRESS"
INSTRUMENT_ID = HRSC
INSTRUMENT_NAME = "HIGH RESOLUTION STEREO CAMERA"
MISSION_NAME = "MARS EXPRESS"
MISSION_PHASE_NAME = ME_Phase_30
PROCESSING_LEVEL_ID = 3
PRODUCT_CREATION_TIME = 2016-10-29T02:00:08.000Z
PRODUCT_ID = "HC849_0000_RE3.JP2"
RELEASE_ID = 0121
REVISION_ID = 0000
/* QUALITY DATA ELEMENTS */
DATA_QUALITY_ID = 1
DATA_QUALITY_DESC = "Data calculated based on original SPICE kernels"
/* TIME DATA ELEMENTS */
SPACECRAFT_CLOCK_START_COUNT = "1/0340184185.07337"
SPACECRAFT_CLOCK_STOP_COUNT = "1/0340184489.11845"
START_TIME = 2014-02-11T07:36:36.652Z
STOP_TIME = 2014-02-11T07:39:35.202Z
/* ORBITAL DATA ELEMENTS */
ASCENDING_NODE_LONGITUDE = 332.55
MAXIMUM_RESOLUTION = 81.2
FOOTPRINT_POINT_LATITUDE = (-47.103,-47.0893,-47.0743,-47.0578, -47.0399,-47.0205,-46.9996,-46.6425, -46.2037,-45.7574,-45.4195,-45.1945, -44.9661,-44.6235,-44.3975,-44.1663, -43.9329,-43.5829,-43.3488,-42.9916, -42.7535,-42.5147,-42.2719,-41.9079, -41.6637,-41.4161,-41.1677,-40.9205, -40.6672,-40.41,-40.1566,-39.9033, -39.6446,-39.3863,-39.124,-38.8619, -38.598,-38.3232,-38.0547,-37.7945, -37.5202,-37.2471,-36.9707,-36.6924, -36.272,-35.9895,-35.7054,-35.417, -35.129,-34.8375,-34.5418,-34.3716, -34.3957,-34.4152,-34.4388,-34.4513, -34.4696,-34.4839,-34.5,-34.793, -35.0862,-35.3758,-35.6634,-36.0917, -36.374,-36.6563,-36.9338,-37.3497, -37.6226,-38.0294,-38.2973,-38.6988, -38.9619,-39.2238,-39.4862,-39.7435, -40.1291,-40.3844,-40.6331,-40.8856, -41.2634,-41.6336,-41.8806,-42.2451, -42.488,-42.7291,-42.9672,-43.2051, -43.5609,-43.7945,-44.0277,-44.261, -44.6078,-44.834,-45.0624,-45.4042, -45.9633,-46.408,-46.7368,-47.103)
FOOTPRINT_POINT_LONGITUDE = (8.09929,7.73597,7.37053,7.00226, 6.63177,6.25867,5.88213,5.67979,5.69816 ,5.71738,5.72593,5.73268,5.74111, 5.75353,5.76585,5.77272,5.77929,5.78925 ,5.79545,5.8042,5.80984,5.81509,5.82017 ,5.82768,5.83193,5.83597,5.8389,5.84315 ,5.84494,5.8422,5.8441,5.85051,5.8512, 5.85223,5.85308,5.85468,5.85425,5.84683 ,5.84626,5.8548,5.85257,5.85147,5.84984 ,5.84781,5.84431,5.84236,5.83932, 5.83586,5.83271,5.82893,5.82295,6.03507 ,6.36266,6.68524,7.13762,7.42808, 7.84906,8.24051,8.66463,8.65817,8.65152 ,8.64479,8.63796,8.62746,8.62034, 8.61304,8.60571,8.59441,8.58678,8.5751, 8.56719,8.55502,8.54683,8.5385,8.52999, 8.52146,8.50834,8.49944,8.49057,8.48141 ,8.46738,8.45319,8.4435,8.42886,8.41886 ,8.40874,8.39858,8.38822,8.37238, 8.36175,8.35094,8.33993,8.32324,8.31199 ,8.30051,8.28301,8.25329,8.22874, 8.21007,8.09929)
ORBIT_NUMBER = 12849
ORBITAL_ECCENTRICITY = 0.577
ORBITAL_INCLINATION = 86.89
ORBITAL_SEMIMAJOR_AXIS = 8759.05
PERIAPSIS_ALTITUDE = 328.91
PERIAPSIS_ARGUMENT_ANGLE = 282.49
PERIAPSIS_TIME = 2014-02-11T07:28:54.000Z
SPACECRAFT_ORIENTATION = (0.0,1.0,0.0)
^MEX_ORIENTATION_DESC = "MEX_ORIENTATION_DESC.TXT"
SPACECRAFT_POINTING_MODE = INERT
^MEX_POINTING_DESC = "MEX_POINTING_DESC.TXT"
RIGHT_ASCENSION = 298.141
DECLINATION = 59.978
OFFSET_ANGLE = -1e+32
SPACECRAFT_SOLAR_DISTANCE = 2.48095e+08
TARGET_NAME = MARS
/* CAMERA DATA ELEMENTS */
DETECTOR_TEMPERATURE = 18.5744
FOCAL_PLANE_TEMPERATURE = 7.7677
INST_CMPRS_NAME = "DISCRETE COSINE TRANSFORMATION (DCT)"
INST_CMPRS_RATIO = 8.38371
INST_CMPRS_QUALITY = 0
INST_CMPRS_QUANTZ_TBL_ID = 0
INSTRUMENT_TEMPERATURE = 11.234
LENS_TEMPERATURE = 8.1755
MACROPIXEL_SIZE = 4
MISSING_FRAMES = 0
PIXEL_SUBSAMPLING_FLAG = N
SIGNAL_CHAIN_ID = 2
/* RADIOMETRIC DATA ELEMENTS */
BANDWIDTH = 48.0
CENTER_FILTER_WAVELENGTH = 748.0
RADIANCE_OFFSET = 0.021048
RADIANCE_SCALING_FACTOR = 0.00524136
REFLECTANCE_SCALING_FACTOR = 0.000736216
MEX:REFLECTANCE_OFFSET = 0.00295646
/* IMAGE OBJECT DEFINITIONS */
OBJECT = IMAGE
  INTERCHANGE_FORMAT = BINARY
  LINES = 7487
  LINE_SAMPLES = 1534
  SAMPLE_TYPE = UNSIGNED_INTEGER
  SAMPLE_BITS = 8
  BANDS = 1
  BAND_STORAGE_TYPE = BAND_SEQUENTIAL
  MAXIMUM = 255
  MEAN = 110.843
  MINIMUM = 1
  STANDARD_DEVIATION = 28.772
END_OBJECT = IMAGE
/* MAP OBJECT DEFINITIONS */
OBJECT = IMAGE_MAP_PROJECTION
  ^DATA_SET_MAP_PROJECTION_CATALOG= "DSMAP.CAT"
  A_AXIS_RADIUS = 3396.0
  B_AXIS_RADIUS = 3396.0
  C_AXIS_RADIUS = 3396.0
  CENTER_LATITUDE = 0.0
  CENTER_LONGITUDE = 7.0
  COORDINATE_SYSTEM_NAME = PLANETOGRAPHIC
  COORDINATE_SYSTEM_TYPE = "BODY-FIXED ROTATING"
  EASTERNMOST_LONGITUDE = 8.664630000000001
  FIRST_STANDARD_PARALLEL = "N/A"
  LINE_FIRST_PIXEL = 1
  LINE_LAST_PIXEL = 7487
  LINE_PROJECTION_OFFSET = -20400.375
  MAP_PROJECTION_ROTATION = 0.0
  MAP_PROJECTION_TYPE = SINUSOIDAL
  MAP_RESOLUTION = 592.713803866667
  MAP_SCALE = 0.1
  MAXIMUM_LATITUDE = -34.3716
  MINIMUM_LATITUDE = -47.103
  POSITIVE_LONGITUDE_DIRECTION = EAST
  REFERENCE_LATITUDE = "N/A"
  REFERENCE_LONGITUDE = "N/A"
  SAMPLE_FIRST_PIXEL = 1
  SAMPLE_LAST_PIXEL = 1534
  SAMPLE_PROJECTION_OFFSET = 696.875
  SECOND_STANDARD_PARALLEL = "N/A"
  WESTERNMOST_LONGITUDE = 5.67979
END_OBJECT = IMAGE_MAP_PROJECTION
/* The JPEG2000 image data file associated with this label. */
OBJECT = COMPRESSED_FILE
  FILE_NAME = "HC849_0000_RE3.JP2"
  RECORD_TYPE = UNDEFINED
  FILE_RECORDS = UNK
  ENCODING_TYPE = "JP2"
  INTERCHANGE_FORMAT = BINARY
  UNCOMPRESSED_FILE_NAME = "HC849_0000_RE3.IMG"
  REQUIRED_STORAGE_BYTES = "11505000"
  ^DESCRIPTION = "JP2INFO.TXT"
END_OBJECT = COMPRESSED_FILE
END
