PDS_VERSION_ID = PDS3
/* FILE DATA ELEMENTS */
RECORD_TYPE = STREAM
/* POINTERS TO DATA OBJECTS */
^COMPRESSED_FILE = "HC853_0000_S23.JP2"
/* IDENTIFICATION DATA ELEMENTS */
DATA_SET_ID = "MEX-M-HRSC-5-REFDR-MAPPROJECTED-V3.0"
DATA_SET_NAME = "MARS EXPRESS HRSC MAP PROJECTED REFDR V3.0"
DETECTOR_ID = MEX_HRSC_S2
EVENT_TYPE = "MARS-REGIONAL-MAPPING-Fl-Gl-Pf"
INSTRUMENT_HOST_ID = MEX
INSTRUMENT_HOST_NAME = "MARS EXPRESS"
INSTRUMENT_ID = HRSC
INSTRUMENT_NAME = "HIGH RESOLUTION STEREO CAMERA"
MISSION_NAME = "MARS EXPRESS"
MISSION_PHASE_NAME = ME_Phase_30
PROCESSING_LEVEL_ID = 3
PRODUCT_CREATION_TIME = 2016-10-29T02:00:08.000Z
PRODUCT_ID = "HC853_0000_S23.JP2"
RELEASE_ID = 0121
REVISION_ID = 0000
/* QUALITY DATA ELEMENTS */
DATA_QUALITY_ID = 1
DATA_QUALITY_DESC = "Data calculated based on original SPICE kernels"
/* TIME DATA ELEMENTS */
SPACECRAFT_CLOCK_START_COUNT = "1/0340284722.09045"
SPACECRAFT_CLOCK_STOP_COUNT = "1/0340285005.58366"
START_TIME = 2014-02-12T11:32:06.986Z
STOP_TIME = 2014-02-12T11:35:01.456Z
/* ORBITAL DATA ELEMENTS */
ASCENDING_NODE_LONGITUDE = 332.47
MAXIMUM_RESOLUTION = 36.6
FOOTPRINT_POINT_LATITUDE = (-52.4788,-52.4705,-52.4609,-52.447, -52.4342,-52.4201,-52.4016,-52.0169, -51.5728,-51.3482,-51.1203,-50.7793, -50.5517,-50.324,-49.9754,-49.7424, -49.5084,-49.1578,-48.7986,-48.5604, -48.319,-48.0787,-47.8334,-47.5878, -47.3422,-47.0961,-46.8461,-46.5942, -46.3414,-46.0895,-45.8326,-45.5749, -45.3169,-44.9261,-44.6633,-44.3983, -44.1345,-43.7373,-43.4631,-43.0559, -42.7826,-42.3805,-42.0838,-41.8006, -41.5211,-41.2281,-40.9403,-40.6497, -40.3514,-40.0547,-39.755,-39.6042, -39.6192,-39.6346,-39.6476,-39.6614, -39.8271,-40.1235,-40.4174,-40.7071, -41.1412,-41.4272,-41.7183,-42.1393, -42.4221,-42.7041,-42.9785,-43.2529, -43.6569,-43.9259,-44.3287,-44.7248, -44.9889,-45.2513,-45.5099,-45.7685, -46.0251,-46.4051,-46.6577,-47.0361, -47.2835,-47.5302,-47.7766,-48.0213, -48.3844,-48.624,-48.8646,-49.104, -49.458,-49.6921,-50.0427,-50.2771, -50.507,-50.735,-50.9633,-51.1905, -51.4183,-51.644,-52.0888,-52.4788)
FOOTPRINT_POINT_LONGITUDE = (320.069,319.699,319.329,318.866, 318.496,318.124,317.682,317.655,317.692 ,317.711,317.729,317.756,317.774, 317.791,317.816,317.833,317.849,317.872 ,317.895,317.911,317.924,317.938, 317.952,317.966,317.979,317.992,318.005 ,318.017,318.029,318.041,318.053, 318.064,318.075,318.091,318.102,318.112 ,318.122,318.14,318.147,318.162,318.172 ,318.19,318.191,318.199,318.207,318.213 ,318.22,318.226,318.231,318.236,318.242 ,318.532,318.949,319.496,320.043, 320.405,320.924,320.91,320.896,320.884, 320.863,320.849,320.833,320.812,320.797 ,320.78,320.766,320.751,320.73,320.715, 320.692,320.669,320.653,320.637,320.621 ,320.605,320.589,320.565,320.548, 320.523,320.507,320.49,320.473,320.456, 320.43,320.413,320.395,320.378,320.351, 320.333,320.306,320.287,320.269,320.25, 320.232,320.213,320.194,320.174,320.136 ,320.069)
ORBIT_NUMBER = 12853
ORBITAL_ECCENTRICITY = 0.577
ORBITAL_INCLINATION = 86.9
ORBITAL_SEMIMAJOR_AXIS = 8757.34
PERIAPSIS_ALTITUDE = 328.63
PERIAPSIS_ARGUMENT_ANGLE = 281.84
PERIAPSIS_TIME = 2014-02-12T11:25:51.000Z
SPACECRAFT_ORIENTATION = (0.0,1.0,0.0)
^MEX_ORIENTATION_DESC = "MEX_ORIENTATION_DESC.TXT"
SPACECRAFT_POINTING_MODE = INERT
^MEX_POINTING_DESC = "MEX_POINTING_DESC.TXT"
RIGHT_ASCENSION = 299.376
DECLINATION = 59.863
OFFSET_ANGLE = -1e+32
SPACECRAFT_SOLAR_DISTANCE = 2.48026e+08
TARGET_NAME = MARS
/* CAMERA DATA ELEMENTS */
DETECTOR_TEMPERATURE = 18.5744
FOCAL_PLANE_TEMPERATURE = 7.7677
INST_CMPRS_NAME = "DISCRETE COSINE TRANSFORMATION (DCT)"
INST_CMPRS_RATIO = 7.38509
INST_CMPRS_QUALITY = 0
INST_CMPRS_QUANTZ_TBL_ID = 0
INSTRUMENT_TEMPERATURE = 11.4379
LENS_TEMPERATURE = 8.1755
MACROPIXEL_SIZE = 2
MISSING_FRAMES = 0
PIXEL_SUBSAMPLING_FLAG = N
SIGNAL_CHAIN_ID = 1
/* RADIOMETRIC DATA ELEMENTS */
BANDWIDTH = 178.0
CENTER_FILTER_WAVELENGTH = 679.0
RADIANCE_OFFSET = 0.614197
RADIANCE_SCALING_FACTOR = 0.013455
REFLECTANCE_SCALING_FACTOR = 0.000438339
MEX:REFLECTANCE_OFFSET = 0.0200094
/* IMAGE OBJECT DEFINITIONS */
OBJECT = IMAGE
  INTERCHANGE_FORMAT = BINARY
  LINES = 15147
  LINE_SAMPLES = 2920
  SAMPLE_TYPE = UNSIGNED_INTEGER
  SAMPLE_BITS = 8
  BANDS = 1
  BAND_STORAGE_TYPE = BAND_SEQUENTIAL
  MAXIMUM = 255
  MEAN = 114.504
  MINIMUM = 1
  STANDARD_DEVIATION = 24.4485
END_OBJECT = IMAGE
/* MAP OBJECT DEFINITIONS */
OBJECT = IMAGE_MAP_PROJECTION
  ^DATA_SET_MAP_PROJECTION_CATALOG= "DSMAP.CAT"
  A_AXIS_RADIUS = 3396.0
  B_AXIS_RADIUS = 3396.0
  C_AXIS_RADIUS = 3396.0
  CENTER_LATITUDE = 0.0
  CENTER_LONGITUDE = 319.0
  COORDINATE_SYSTEM_NAME = PLANETOGRAPHIC
  COORDINATE_SYSTEM_TYPE = "BODY-FIXED ROTATING"
  EASTERNMOST_LONGITUDE = 320.924
  FIRST_STANDARD_PARALLEL = "N/A"
  LINE_FIRST_PIXEL = 1
  LINE_LAST_PIXEL = 15147
  LINE_PROJECTION_OFFSET = -46974.75
  MAP_PROJECTION_ROTATION = 0.0
  MAP_PROJECTION_TYPE = SINUSOIDAL
  MAP_RESOLUTION = 1185.42760773333
  MAP_SCALE = 0.05
  MAXIMUM_LATITUDE = -39.6042
  MINIMUM_LATITUDE = -52.4788
  POSITIVE_LONGITUDE_DIRECTION = EAST
  REFERENCE_LATITUDE = "N/A"
  REFERENCE_LONGITUDE = "N/A"
  SAMPLE_FIRST_PIXEL = 1
  SAMPLE_LAST_PIXEL = 2920
  SAMPLE_PROJECTION_OFFSET = 1070.25
  SECOND_STANDARD_PARALLEL = "N/A"
  WESTERNMOST_LONGITUDE = 317.655
END_OBJECT = IMAGE_MAP_PROJECTION
/* The JPEG2000 image data file associated with this label. */
OBJECT = COMPRESSED_FILE
  FILE_NAME = "HC853_0000_S23.JP2"
  RECORD_TYPE = UNDEFINED
  FILE_RECORDS = UNK
  ENCODING_TYPE = "JP2"
  INTERCHANGE_FORMAT = BINARY
  UNCOMPRESSED_FILE_NAME = "HC853_0000_S23.IMG"
  REQUIRED_STORAGE_BYTES = "44252600"
  ^DESCRIPTION = "JP2INFO.TXT"
END_OBJECT = COMPRESSED_FILE
END
