PDS_VERSION_ID = PDS3
/* FILE DATA ELEMENTS */
RECORD_TYPE = STREAM
/* POINTERS TO DATA OBJECTS */
^COMPRESSED_FILE = "HC855_0000_S23.JP2"
/* IDENTIFICATION DATA ELEMENTS */
DATA_SET_ID = "MEX-M-HRSC-5-REFDR-MAPPROJECTED-V3.0"
DATA_SET_NAME = "MARS EXPRESS HRSC MAP PROJECTED REFDR V3.0"
DETECTOR_ID = MEX_HRSC_S2
EVENT_TYPE = "MARS-TERMINATOR-CALIBRATION-Tc"
INSTRUMENT_HOST_ID = MEX
INSTRUMENT_HOST_NAME = "MARS EXPRESS"
INSTRUMENT_ID = HRSC
INSTRUMENT_NAME = "HIGH RESOLUTION STEREO CAMERA"
MISSION_NAME = "MARS EXPRESS"
MISSION_PHASE_NAME = ME_Phase_30
PROCESSING_LEVEL_ID = 3
PRODUCT_CREATION_TIME = 2016-10-29T02:00:08.000Z
PRODUCT_ID = "HC855_0000_S23.JP2"
RELEASE_ID = 0121
REVISION_ID = 0000
/* QUALITY DATA ELEMENTS */
DATA_QUALITY_ID = 1
DATA_QUALITY_DESC = "Data calculated based on original SPICE kernels"
/* TIME DATA ELEMENTS */
SPACECRAFT_CLOCK_START_COUNT = "1/0340342272.08245"
SPACECRAFT_CLOCK_STOP_COUNT = "1/0340342727.06856"
START_TIME = 2014-02-13T03:31:16.981Z
STOP_TIME = 2014-02-13T03:34:47.961Z
/* ORBITAL DATA ELEMENTS */
ASCENDING_NODE_LONGITUDE = 332.44
MAXIMUM_RESOLUTION = 721.9
FOOTPRINT_POINT_LATITUDE = (7.36105,9.98868,11.7496,12.4665, 12.3731,11.4298,9.23789,7.13713,4.86194 ,5.78257,5.57265,12.9318,17.5199, 21.0008,23.9036,28.4459,32.2451,35.5679 ,38.5591,41.3022,43.8487,46.2377,48.496 ,52.696,56.5571,60.1452,63.4907,66.5992 ,69.4414,71.9427,73.9669,75.3043, 75.7062,74.9954,73.1617,70.305,68.5213, 66.4997,64.228,61.6749,58.7839,55.4623, 51.5392,49.2434,46.6304,43.5145,39.3868 ,31.6798,30.6155,29.4739,32.1144, 35.7876,38.2813,38.559,36.5396,33.9379, 30.1163,30.8224,30.6164,35.8056,40.8652 ,44.2407,46.8848,49.2088,53.2402, 56.5902,59.4659,61.9838,64.2027,66.157, 67.8659,69.3402,71.5736,72.8254,73.0832 ,72.4245,71.0056,69.006,66.5731,63.8003 ,60.7445,57.4232,53.8274,49.9084,45.594 ,43.2504,40.7451,38.0466,35.0984, 31.8197,28.0637,23.5684,20.7847,17.5375 ,13.2623,3.87093,5.56329,3.22023, 7.36105)
FOOTPRINT_POINT_LONGITUDE = (108.034,105.78,102.829,99.8925,96.951, 93.9854,90.9546,89.3743,88.7403,83.7968 ,79.8596,79.5353,79.64,79.6382,79.5671, 79.3046,78.9459,78.5099,78.0048,77.4322 ,76.7902,76.0752,75.2813,73.4246,71.133 ,68.2804,64.6812,60.0717,54.0765, 46.1947,35.8758,22.8398,7.7057,352.28, 338.565,327.497,322.941,318.956,315.468 ,312.404,309.697,307.286,305.116, 304.101,303.121,302.159,301.173,299.969 ,295.714,290.214,288.525,285.945, 280.454,276.256,269.889,267.372,265.753 ,259.842,255.305,252.47,251.141,249.971 ,248.844,247.693,245.263,242.639, 239.766,236.589,233.056,229.123,224.747 ,219.893,208.76,196.083,182.875,170.436 ,159.692,150.903,143.894,138.34,133.912 ,130.349,127.449,125.068,123.097,122.24 ,121.461,120.752,120.111,119.538, 119.035,118.615,118.442,118.316,118.264 ,118.575,114.565,110.403,108.034)
ORBIT_NUMBER = 12855
ORBITAL_ECCENTRICITY = 0.577
ORBITAL_INCLINATION = 86.89
ORBITAL_SEMIMAJOR_AXIS = 8759.36
PERIAPSIS_ALTITUDE = 328.17
PERIAPSIS_ARGUMENT_ANGLE = 281.48
PERIAPSIS_TIME = 2014-02-13T01:24:17.000Z
SPACECRAFT_ORIENTATION = (0.0,1.0,0.0)
^MEX_ORIENTATION_DESC = "MEX_ORIENTATION_DESC.TXT"
SPACECRAFT_POINTING_MODE = INERT
^MEX_POINTING_DESC = "MEX_POINTING_DESC.TXT"
RIGHT_ASCENSION = 158.217
DECLINATION = -47.21
OFFSET_ANGLE = -1e+32
SPACECRAFT_SOLAR_DISTANCE = 2.47992e+08
TARGET_NAME = MARS
/* CAMERA DATA ELEMENTS */
DETECTOR_TEMPERATURE = 18.3705
FOCAL_PLANE_TEMPERATURE = 8.3794
INST_CMPRS_NAME = "DISCRETE COSINE TRANSFORMATION (DCT)"
INST_CMPRS_RATIO = 17.5247
INST_CMPRS_QUALITY = 0
INST_CMPRS_QUANTZ_TBL_ID = 0
INSTRUMENT_TEMPERATURE = 11.0301
LENS_TEMPERATURE = 8.5833
MACROPIXEL_SIZE = 2
MISSING_FRAMES = 0
PIXEL_SUBSAMPLING_FLAG = N
SIGNAL_CHAIN_ID = 1
/* RADIOMETRIC DATA ELEMENTS */
BANDWIDTH = 178.0
CENTER_FILTER_WAVELENGTH = 679.0
RADIANCE_OFFSET = 0.0
RADIANCE_SCALING_FACTOR = 0.0435765
REFLECTANCE_SCALING_FACTOR = 0.00141918
MEX:REFLECTANCE_OFFSET = 0.0
/* IMAGE OBJECT DEFINITIONS */
OBJECT = IMAGE
  INTERCHANGE_FORMAT = BINARY
  LINES = 6014
  LINE_SAMPLES = 12028
  SAMPLE_TYPE = UNSIGNED_INTEGER
  SAMPLE_BITS = 8
  BANDS = 1
  BAND_STORAGE_TYPE = BAND_SEQUENTIAL
  MAXIMUM = 255
  MEAN = 112.532
  MINIMUM = 1
  STANDARD_DEVIATION = 80.4877
END_OBJECT = IMAGE
/* MAP OBJECT DEFINITIONS */
OBJECT = IMAGE_MAP_PROJECTION
  ^DATA_SET_MAP_PROJECTION_CATALOG= "DSMAP.CAT"
  A_AXIS_RADIUS = 3396.0
  B_AXIS_RADIUS = 3396.0
  C_AXIS_RADIUS = 3396.0
  CENTER_LATITUDE = 90.0
  CENTER_LONGITUDE = 0.0
  COORDINATE_SYSTEM_NAME = PLANETOGRAPHIC
  COORDINATE_SYSTEM_TYPE = "BODY-FIXED ROTATING"
  EASTERNMOST_LONGITUDE = 360.0
  FIRST_STANDARD_PARALLEL = "N/A"
  LINE_FIRST_PIXEL = 1
  LINE_LAST_PIXEL = 6014
  LINE_PROJECTION_OFFSET = 3639.0
  MAP_PROJECTION_ROTATION = 0.0
  MAP_PROJECTION_TYPE = STEREOGRAPHIC
  MAP_RESOLUTION = 74.08922548333329
  MAP_SCALE = 0.8
  MAXIMUM_LATITUDE = 90.0
  MINIMUM_LATITUDE = 3.22023
  POSITIVE_LONGITUDE_DIRECTION = EAST
  REFERENCE_LATITUDE = "N/A"
  REFERENCE_LONGITUDE = "N/A"
  SAMPLE_FIRST_PIXEL = 1
  SAMPLE_LAST_PIXEL = 12028
  SAMPLE_PROJECTION_OFFSET = 4645.0
  SECOND_STANDARD_PARALLEL = "N/A"
  WESTERNMOST_LONGITUDE = 0.0
END_OBJECT = IMAGE_MAP_PROJECTION
/* The JPEG2000 image data file associated with this label. */
OBJECT = COMPRESSED_FILE
  FILE_NAME = "HC855_0000_S23.JP2"
  RECORD_TYPE = UNDEFINED
  FILE_RECORDS = UNK
  ENCODING_TYPE = "JP2"
  INTERCHANGE_FORMAT = BINARY
  UNCOMPRESSED_FILE_NAME = "HC855_0000_S23.IMG"
  REQUIRED_STORAGE_BYTES = "72372476"
  ^DESCRIPTION = "JP2INFO.TXT"
END_OBJECT = COMPRESSED_FILE
END
