PDS_VERSION_ID = PDS3
/* FILE DATA ELEMENTS */
RECORD_TYPE = STREAM
/* POINTERS TO DATA OBJECTS */
^COMPRESSED_FILE = "HC860_0000_BL3.JP2"
/* IDENTIFICATION DATA ELEMENTS */
DATA_SET_ID = "MEX-M-HRSC-5-REFDR-MAPPROJECTED-V3.0"
DATA_SET_NAME = "MARS EXPRESS HRSC MAP PROJECTED REFDR V3.0"
DETECTOR_ID = MEX_HRSC_BLUE
EVENT_TYPE = "MARS-REGIONAL-MAPPING-Fl-Gl-Pf"
INSTRUMENT_HOST_ID = MEX
INSTRUMENT_HOST_NAME = "MARS EXPRESS"
INSTRUMENT_ID = HRSC
INSTRUMENT_NAME = "HIGH RESOLUTION STEREO CAMERA"
MISSION_NAME = "MARS EXPRESS"
MISSION_PHASE_NAME = ME_Phase_30
PROCESSING_LEVEL_ID = 3
PRODUCT_CREATION_TIME = 2016-10-29T02:00:08.000Z
PRODUCT_ID = "HC860_0000_BL3.JP2"
RELEASE_ID = 0121
REVISION_ID = 0000
/* QUALITY DATA ELEMENTS */
DATA_QUALITY_ID = 1
DATA_QUALITY_DESC = "Data calculated based on original SPICE kernels"
/* TIME DATA ELEMENTS */
SPACECRAFT_CLOCK_START_COUNT = "1/0340460822.09045"
SPACECRAFT_CLOCK_STOP_COUNT = "1/0340461024.45819"
START_TIME = 2014-02-14T12:27:38.500Z
STOP_TIME = 2014-02-14T12:29:26.202Z
/* ORBITAL DATA ELEMENTS */
ASCENDING_NODE_LONGITUDE = 332.34
MAXIMUM_RESOLUTION = 78
FOOTPRINT_POINT_LATITUDE = (-51.6723,-51.6658,-51.6536,-51.6432, -51.6315,-51.6244,-51.4847,-51.2157, -50.8794,-50.6077,-50.3326,-50.1263, -49.8512,-49.6416,-49.4309,-49.2905, -49.0799,-48.9394,-48.7968,-48.6534, -48.5101,-48.3667,-48.2234,-48.0799, -47.9345,-47.7881,-47.6418,-47.4955, -47.3492,-47.2026,-47.0533,-46.9042, -46.7548,-46.5308,-46.3047,-46.1524, -46.0002,-45.8478,-45.6955,-45.464, -45.3087,-45.0758,-44.9204,-44.6839, -44.5261,-44.3679,-44.2394,-44.2467, -44.2559,-44.263,-44.2721,-44.2765, -44.281,-44.2844,-44.2878,-44.4497, -44.6077,-44.7662,-44.9261,-45.082, -45.2364,-45.3912,-45.5461,-45.7008, -45.8532,-46.0058,-46.1584,-46.3108, -46.5386,-46.6886,-46.8376,-46.9867, -47.1361,-47.3587,-47.5052,-47.6517, -47.8715,-48.0179,-48.1631,-48.3067, -48.4503,-48.6657,-48.8094,-48.953, -49.0939,-49.2345,-49.4454,-49.586, -49.7266,-49.8672,-50.0049,-50.1425, -50.2802,-50.4867,-50.6244,-50.8977, -51.1675,-51.4371,-51.6393,-51.6723)
FOOTPRINT_POINT_LONGITUDE = (324.775,324.429,323.885,323.49,323.095 ,322.872,322.535,322.556,322.581, 322.601,322.622,322.638,322.659,322.674 ,322.689,322.698,322.712,322.721, 322.731,322.74,322.749,322.758,322.766, 322.774,322.783,322.791,322.799,322.808 ,322.816,322.824,322.832,322.841, 322.848,322.859,322.87,322.877,322.885, 322.891,322.898,322.909,322.916,322.926 ,322.932,322.942,322.949,322.956, 323.193,323.428,323.792,324.078,324.469 ,324.677,324.989,325.249,325.561, 325.742,325.734,325.725,325.713,325.703 ,325.697,325.689,325.681,325.673, 325.664,325.655,325.646,325.637,325.621 ,325.61,325.602,325.594,325.585,325.571 ,325.561,325.552,325.538,325.529, 325.519,325.509,325.499,325.484,325.473 ,325.462,325.452,325.442,325.428, 325.417,325.407,325.397,325.386,325.375 ,325.365,325.35,325.34,325.321,325.301, 325.28,325.263,324.775)
ORBIT_NUMBER = 12860
ORBITAL_ECCENTRICITY = 0.577
ORBITAL_INCLINATION = 86.9
ORBITAL_SEMIMAJOR_AXIS = 8756.53
PERIAPSIS_ALTITUDE = 328.47
PERIAPSIS_ARGUMENT_ANGLE = 280.66
PERIAPSIS_TIME = 2014-02-14T12:20:24.000Z
SPACECRAFT_ORIENTATION = (0.0,1.0,0.0)
^MEX_ORIENTATION_DESC = "MEX_ORIENTATION_DESC.TXT"
SPACECRAFT_POINTING_MODE = INERT
^MEX_POINTING_DESC = "MEX_POINTING_DESC.TXT"
RIGHT_ASCENSION = 301.726
DECLINATION = 59.614
OFFSET_ANGLE = -1e+32
SPACECRAFT_SOLAR_DISTANCE = 2.47902e+08
TARGET_NAME = MARS
/* CAMERA DATA ELEMENTS */
DETECTOR_TEMPERATURE = 18.1666
FOCAL_PLANE_TEMPERATURE = 7.5638
INST_CMPRS_NAME = "DISCRETE COSINE TRANSFORMATION (DCT)"
INST_CMPRS_RATIO = 4.12557
INST_CMPRS_QUALITY = 0
INST_CMPRS_QUANTZ_TBL_ID = 0
INSTRUMENT_TEMPERATURE = 11.0301
LENS_TEMPERATURE = 7.9716
MACROPIXEL_SIZE = 4
MISSING_FRAMES = 0
PIXEL_SUBSAMPLING_FLAG = N
SIGNAL_CHAIN_ID = 2
/* RADIOMETRIC DATA ELEMENTS */
BANDWIDTH = 76.0
CENTER_FILTER_WAVELENGTH = 444.0
RADIANCE_OFFSET = 0.084998
RADIANCE_SCALING_FACTOR = 0.00280638
REFLECTANCE_SCALING_FACTOR = 0.0001772
MEX:REFLECTANCE_OFFSET = 0.00536691
/* IMAGE OBJECT DEFINITIONS */
OBJECT = IMAGE
  INTERCHANGE_FORMAT = BINARY
  LINES = 4402
  LINE_SAMPLES = 1317
  SAMPLE_TYPE = UNSIGNED_INTEGER
  SAMPLE_BITS = 8
  BANDS = 1
  BAND_STORAGE_TYPE = BAND_SEQUENTIAL
  MAXIMUM = 255
  MEAN = 175.769
  MINIMUM = 1
  STANDARD_DEVIATION = 54.985
END_OBJECT = IMAGE
/* MAP OBJECT DEFINITIONS */
OBJECT = IMAGE_MAP_PROJECTION
  ^DATA_SET_MAP_PROJECTION_CATALOG= "DSMAP.CAT"
  A_AXIS_RADIUS = 3396.0
  B_AXIS_RADIUS = 3396.0
  C_AXIS_RADIUS = 3396.0
  CENTER_LATITUDE = 0.0
  CENTER_LONGITUDE = 324.0
  COORDINATE_SYSTEM_NAME = PLANETOGRAPHIC
  COORDINATE_SYSTEM_TYPE = "BODY-FIXED ROTATING"
  EASTERNMOST_LONGITUDE = 325.742
  FIRST_STANDARD_PARALLEL = "N/A"
  LINE_FIRST_PIXEL = 1
  LINE_LAST_PIXEL = 4402
  LINE_PROJECTION_OFFSET = -26217.375
  MAP_PROJECTION_ROTATION = 0.0
  MAP_PROJECTION_TYPE = SINUSOIDAL
  MAP_RESOLUTION = 592.713803866667
  MAP_SCALE = 0.1
  MAXIMUM_LATITUDE = -44.2394
  MINIMUM_LATITUDE = -51.6723
  POSITIVE_LONGITUDE_DIRECTION = EAST
  REFERENCE_LATITUDE = "N/A"
  REFERENCE_LONGITUDE = "N/A"
  SAMPLE_FIRST_PIXEL = 1
  SAMPLE_LAST_PIXEL = 1317
  SAMPLE_PROJECTION_OFFSET = 559.875
  SECOND_STANDARD_PARALLEL = "N/A"
  WESTERNMOST_LONGITUDE = 322.535
END_OBJECT = IMAGE_MAP_PROJECTION
/* The JPEG2000 image data file associated with this label. */
OBJECT = COMPRESSED_FILE
  FILE_NAME = "HC860_0000_BL3.JP2"
  RECORD_TYPE = UNDEFINED
  FILE_RECORDS = UNK
  ENCODING_TYPE = "JP2"
  INTERCHANGE_FORMAT = BINARY
  UNCOMPRESSED_FILE_NAME = "HC860_0000_BL3.IMG"
  REQUIRED_STORAGE_BYTES = "5817189"
  ^DESCRIPTION = "JP2INFO.TXT"
END_OBJECT = COMPRESSED_FILE
END
