PDS_VERSION_ID = PDS3
/* FILE DATA ELEMENTS */
RECORD_TYPE = STREAM
/* POINTERS TO DATA OBJECTS */
^COMPRESSED_FILE = "HC863_0000_P13.JP2"
/* IDENTIFICATION DATA ELEMENTS */
DATA_SET_ID = "MEX-M-HRSC-5-REFDR-MAPPROJECTED-V3.0"
DATA_SET_NAME = "MARS EXPRESS HRSC MAP PROJECTED REFDR V3.0"
DETECTOR_ID = MEX_HRSC_P1
EVENT_TYPE = "MARS-REGIONAL-MAPPING-Im-Pf-Tc"
INSTRUMENT_HOST_ID = MEX
INSTRUMENT_HOST_NAME = "MARS EXPRESS"
INSTRUMENT_ID = HRSC
INSTRUMENT_NAME = "HIGH RESOLUTION STEREO CAMERA"
MISSION_NAME = "MARS EXPRESS"
MISSION_PHASE_NAME = ME_Phase_30
PROCESSING_LEVEL_ID = 3
PRODUCT_CREATION_TIME = 2016-10-29T02:00:08.000Z
PRODUCT_ID = "HC863_0000_P13.JP2"
RELEASE_ID = 0121
REVISION_ID = 0000
/* QUALITY DATA ELEMENTS */
DATA_QUALITY_ID = 1
DATA_QUALITY_DESC = "Data calculated based on original SPICE kernels"
/* TIME DATA ELEMENTS */
SPACECRAFT_CLOCK_START_COUNT = "1/0340536374.09065"
SPACECRAFT_CLOCK_STOP_COUNT = "1/0340536632.00817"
START_TIME = 2014-02-15T09:27:40.887Z
STOP_TIME = 2014-02-15T09:30:11.007Z
/* ORBITAL DATA ELEMENTS */
ASCENDING_NODE_LONGITUDE = 332.29
MAXIMUM_RESOLUTION = 101.3
FOOTPRINT_POINT_LATITUDE = (-46.2986,-46.2952,-46.2904,-46.2844, -46.2791,-46.2709,-46.2125,-45.877, -45.5397,-45.1126,-44.7698,-44.5957, -44.4208,-44.2472,-44.072,-43.8948, -43.6301,-43.4521,-43.2729,-43.0936, -42.9134,-42.7313,-42.5494,-42.2743, -42.0896,-41.8159,-41.6293,-41.4375, -41.2496,-41.0598,-40.8704,-40.5827, -40.3904,-40.1975,-39.9043,-39.6093, -39.4113,-39.1128,-38.9118,-38.7136, -38.5126,-38.3095,-38.1044,-37.8992, -37.6932,-37.4848,-37.2762,-37.0647, -36.8748,-36.8827,-36.8875,-36.8928, -36.8972,-36.9006,-36.9058,-36.9031, -37.0105,-37.222,-37.4321,-37.6406, -37.8485,-38.0546,-38.2604,-38.4638, -38.7687,-38.9686,-39.1692,-39.4691, -39.6678,-39.866,-40.1548,-40.3475, -40.5421,-40.8309,-41.1163,-41.3067, -41.4948,-41.6825,-41.8695,-42.0545, -42.2396,-42.4244,-42.6068,-42.8801, -43.0613,-43.2406,-43.4191,-43.5983, -43.8633,-44.0406,-44.2167,-44.391, -44.5689,-44.7457,-44.9205,-45.2656, -45.6071,-45.9465,-46.2823,-46.2986)
FOOTPRINT_POINT_LONGITUDE = (19.205,18.7465,18.2886,17.8315,17.4891 ,17.033,16.3815,16.398,16.4134,16.4327, 16.4473,16.4546,16.4621,16.4687,16.4756 ,16.4825,16.4922,16.4984,16.5046, 16.5108,16.517,16.523,16.5288,16.5377, 16.5433,16.5494,16.5543,16.5622,16.5674 ,16.5722,16.5768,16.5842,16.5885,16.593 ,16.5998,16.6064,16.6105,16.6165, 16.6205,16.6225,16.6245,16.6278,16.6313 ,16.634,16.6368,16.6396,16.6423,16.6452 ,16.7677,17.0979,17.5509,17.9724, 18.3647,18.8488,19.1848,19.6986,19.8875 ,19.88,19.8727,19.8648,19.8577,19.8501, 19.8423,19.8346,19.8234,19.8149,19.8069 ,19.797,19.7898,19.7834,19.7677,19.7587 ,19.7525,19.741,19.7294,19.7216,19.714, 19.7062,19.6979,19.6901,19.6823,19.6741 ,19.6662,19.6541,19.6458,19.6375, 19.6286,19.6201,19.6075,19.5994,19.5909 ,19.5826,19.5766,19.5697,19.5628, 19.5469,19.53,19.5134,19.4963,19.205)
ORBIT_NUMBER = 12863
ORBITAL_ECCENTRICITY = 0.577
ORBITAL_INCLINATION = 86.89
ORBITAL_SEMIMAJOR_AXIS = 8757.82
PERIAPSIS_ALTITUDE = 328.74
PERIAPSIS_ARGUMENT_ANGLE = 280.12
PERIAPSIS_TIME = 2014-02-15T09:18:01.000Z
SPACECRAFT_ORIENTATION = (0.0,1.0,0.0)
^MEX_ORIENTATION_DESC = "MEX_ORIENTATION_DESC.TXT"
SPACECRAFT_POINTING_MODE = INERT
^MEX_POINTING_DESC = "MEX_POINTING_DESC.TXT"
RIGHT_ASCENSION = 302.723
DECLINATION = 59.506
OFFSET_ANGLE = -1e+32
SPACECRAFT_SOLAR_DISTANCE = 2.47847e+08
TARGET_NAME = MARS
/* CAMERA DATA ELEMENTS */
DETECTOR_TEMPERATURE = 17.5549
FOCAL_PLANE_TEMPERATURE = 7.7677
INST_CMPRS_NAME = "DISCRETE COSINE TRANSFORMATION (DCT)"
INST_CMPRS_RATIO = 5.41408
INST_CMPRS_QUALITY = 0
INST_CMPRS_QUANTZ_TBL_ID = 0
INSTRUMENT_TEMPERATURE = 11.0301
LENS_TEMPERATURE = 8.3794
MACROPIXEL_SIZE = 4
MISSING_FRAMES = 0
PIXEL_SUBSAMPLING_FLAG = N
SIGNAL_CHAIN_ID = 3
/* RADIOMETRIC DATA ELEMENTS */
BANDWIDTH = 174.0
CENTER_FILTER_WAVELENGTH = 675.0
RADIANCE_OFFSET = 0.125561
RADIANCE_SCALING_FACTOR = 0.0174801
REFLECTANCE_SCALING_FACTOR = 0.000577557
MEX:REFLECTANCE_OFFSET = 0.00414865
/* IMAGE OBJECT DEFINITIONS */
OBJECT = IMAGE
  INTERCHANGE_FORMAT = BINARY
  LINES = 5607
  LINE_SAMPLES = 1523
  SAMPLE_TYPE = UNSIGNED_INTEGER
  SAMPLE_BITS = 8
  BANDS = 1
  BAND_STORAGE_TYPE = BAND_SEQUENTIAL
  MAXIMUM = 255
  MEAN = 114.337
  MINIMUM = 1
  STANDARD_DEVIATION = 22.6166
END_OBJECT = IMAGE
/* MAP OBJECT DEFINITIONS */
OBJECT = IMAGE_MAP_PROJECTION
  ^DATA_SET_MAP_PROJECTION_CATALOG= "DSMAP.CAT"
  A_AXIS_RADIUS = 3396.0
  B_AXIS_RADIUS = 3396.0
  C_AXIS_RADIUS = 3396.0
  CENTER_LATITUDE = 0.0
  CENTER_LONGITUDE = 18.0
  COORDINATE_SYSTEM_NAME = PLANETOGRAPHIC
  COORDINATE_SYSTEM_TYPE = "BODY-FIXED ROTATING"
  EASTERNMOST_LONGITUDE = 19.8875
  FIRST_STANDARD_PARALLEL = "N/A"
  LINE_FIRST_PIXEL = 1
  LINE_LAST_PIXEL = 5607
  LINE_PROJECTION_OFFSET = -21872.125
  MAP_PROJECTION_ROTATION = 0.0
  MAP_PROJECTION_TYPE = SINUSOIDAL
  MAP_RESOLUTION = 592.713803866667
  MAP_SCALE = 0.1
  MAXIMUM_LATITUDE = -36.8748
  MINIMUM_LATITUDE = -46.2986
  POSITIVE_LONGITUDE_DIRECTION = EAST
  REFERENCE_LATITUDE = "N/A"
  REFERENCE_LONGITUDE = "N/A"
  SAMPLE_FIRST_PIXEL = 1
  SAMPLE_LAST_PIXEL = 1523
  SAMPLE_PROJECTION_OFFSET = 663.625
  SECOND_STANDARD_PARALLEL = "N/A"
  WESTERNMOST_LONGITUDE = 16.3815
END_OBJECT = IMAGE_MAP_PROJECTION
/* The JPEG2000 image data file associated with this label. */
OBJECT = COMPRESSED_FILE
  FILE_NAME = "HC863_0000_P13.JP2"
  RECORD_TYPE = UNDEFINED
  FILE_RECORDS = UNK
  ENCODING_TYPE = "JP2"
  INTERCHANGE_FORMAT = BINARY
  UNCOMPRESSED_FILE_NAME = "HC863_0000_P13.IMG"
  REQUIRED_STORAGE_BYTES = "8559260"
  ^DESCRIPTION = "JP2INFO.TXT"
END_OBJECT = COMPRESSED_FILE
END
