PDS_VERSION_ID = PDS3
/* FILE DATA ELEMENTS */
RECORD_TYPE = STREAM
/* POINTERS TO DATA OBJECTS */
^COMPRESSED_FILE = "HC890_0000_RE3.JP2"
/* IDENTIFICATION DATA ELEMENTS */
DATA_SET_ID = "MEX-M-HRSC-5-REFDR-MAPPROJECTED-V3.0"
DATA_SET_NAME = "MARS EXPRESS HRSC MAP PROJECTED REFDR V3.0"
DETECTOR_ID = MEX_HRSC_RED
EVENT_TYPE = "MARS-CLOUD-VARIABLE-At"
INSTRUMENT_HOST_ID = MEX
INSTRUMENT_HOST_NAME = "MARS EXPRESS"
INSTRUMENT_ID = HRSC
INSTRUMENT_NAME = "HIGH RESOLUTION STEREO CAMERA"
MISSION_NAME = "MARS EXPRESS"
MISSION_PHASE_NAME = ME_Phase_30
PROCESSING_LEVEL_ID = 3
PRODUCT_CREATION_TIME = 2016-10-29T02:00:08.000Z
PRODUCT_ID = "HC890_0000_RE3.JP2"
RELEASE_ID = 0121
REVISION_ID = 0000
/* QUALITY DATA ELEMENTS */
DATA_QUALITY_ID = 1
DATA_QUALITY_DESC = "Data calculated based on original SPICE kernels"
/* TIME DATA ELEMENTS */
SPACECRAFT_CLOCK_START_COUNT = "1/0341216346.09087"
SPACECRAFT_CLOCK_STOP_COUNT = "1/0341216793.26042"
START_TIME = 2014-02-23T06:19:11.017Z
STOP_TIME = 2014-02-23T06:22:51.622Z
/* ORBITAL DATA ELEMENTS */
ASCENDING_NODE_LONGITUDE = 331.79
MAXIMUM_RESOLUTION = 123.6
FOOTPRINT_POINT_LATITUDE = (-10.2849,-10.316,-10.3463,-10.3755, -10.4038,-10.4311,-10.4606,-10.4857, -10.5099,-10.533,-10.5552,-10.5765, -10.597,-10.3555,-9.84822,-9.34225, -8.96441,-8.45714,-7.69589,-7.18763, -6.80489,-6.29261,-5.78024,-5.26934, -5.00821,-4.62234,-4.23977,-3.98108, -3.4658,-3.07846,-2.81632,-2.30159, -2.04284,-1.65522,-1.39406,-1.13528, -0.874014,-0.615748,-0.352773, -0.0914691,0.298828,0.691484,0.964388, 1.22601,1.61205,2.00786,2.27203,2.29492 ,2.30855,2.33747,2.36751,2.39955, 2.42849,2.45832,2.49493,2.51869,2.54696 ,2.57772,2.61981,2.66721,2.71485, 2.75039,2.47832,2.21157,1.94538,1.68037 ,1.41502,1.15064,0.885565,0.62043, 0.35571,0.0912751,-0.172516,-0.436034, -0.699153,-0.962433,-1.22448,-1.48773, -1.88107,-2.27142,-2.53231,-2.79968, -3.19212,-3.45227,-3.83904,-4.09932, -4.36058,-4.74535,-5.26121,-5.52491, -6.0409,-6.68427,-7.07059,-7.45644, -7.84209,-8.22704,-8.86814,-9.37998, -9.7634,-10.2849)
FOOTPRINT_POINT_LONGITUDE = (140.059,139.652,139.245,138.838, 138.432,138.024,137.566,137.158,136.749 ,136.34,135.929,135.517,135.103,134.862 ,134.824,134.788,134.762,134.724, 134.667,134.628,134.598,134.556,134.514 ,134.473,134.449,134.416,134.386, 134.363,134.32,134.286,134.262,134.218, 134.196,134.162,134.138,134.116,134.092 ,134.069,134.044,134.02,133.985,133.949 ,133.919,133.894,133.861,133.823, 133.798,134.118,134.376,134.891,135.404 ,135.915,136.361,136.808,137.317, 137.636,138.019,138.401,138.912,139.486 ,140.062,140.407,140.398,140.391, 140.385,140.378,140.372,140.365,140.359 ,140.353,140.346,140.34,140.334,140.328 ,140.323,140.317,140.311,140.306, 140.297,140.29,140.285,140.278,140.27, 140.265,140.259,140.254,140.249,140.244 ,140.236,140.229,140.221,140.211, 140.205,140.199,140.193,140.187,140.178 ,140.171,140.165,140.059)
ORBIT_NUMBER = 12890
ORBITAL_ECCENTRICITY = 0.577
ORBITAL_INCLINATION = 86.89
ORBITAL_SEMIMAJOR_AXIS = 8756.69
PERIAPSIS_ALTITUDE = 328.9
PERIAPSIS_ARGUMENT_ANGLE = 275.57
PERIAPSIS_TIME = 2014-02-23T05:57:14.000Z
SPACECRAFT_ORIENTATION = (0.0,1.0,0.0)
^MEX_ORIENTATION_DESC = "MEX_ORIENTATION_DESC.TXT"
SPACECRAFT_POINTING_MODE = INERT
^MEX_POINTING_DESC = "MEX_POINTING_DESC.TXT"
RIGHT_ASCENSION = 311.196
DECLINATION = 58.082
OFFSET_ANGLE = -1e+32
SPACECRAFT_SOLAR_DISTANCE = 2.47302e+08
TARGET_NAME = MARS
/* CAMERA DATA ELEMENTS */
DETECTOR_TEMPERATURE = 18.9822
FOCAL_PLANE_TEMPERATURE = 8.5833
INST_CMPRS_NAME = "DISCRETE COSINE TRANSFORMATION (DCT)"
INST_CMPRS_RATIO = 16.2871
INST_CMPRS_QUALITY = 0
INST_CMPRS_QUANTZ_TBL_ID = 0
INSTRUMENT_TEMPERATURE = 12.0496
LENS_TEMPERATURE = 8.5833
MACROPIXEL_SIZE = 2
MISSING_FRAMES = 0
PIXEL_SUBSAMPLING_FLAG = N
SIGNAL_CHAIN_ID = 1
/* RADIOMETRIC DATA ELEMENTS */
BANDWIDTH = 48.0
CENTER_FILTER_WAVELENGTH = 748.0
RADIANCE_OFFSET = 0.826032
RADIANCE_SCALING_FACTOR = 0.00842229
REFLECTANCE_SCALING_FACTOR = 0.00117546
MEX:REFLECTANCE_OFFSET = 0.115286
/* IMAGE OBJECT DEFINITIONS */
OBJECT = IMAGE
  INTERCHANGE_FORMAT = BINARY
  LINES = 7953
  LINE_SAMPLES = 4381
  SAMPLE_TYPE = UNSIGNED_INTEGER
  SAMPLE_BITS = 8
  BANDS = 1
  BAND_STORAGE_TYPE = BAND_SEQUENTIAL
  MAXIMUM = 255
  MEAN = 156.603
  MINIMUM = 1
  STANDARD_DEVIATION = 43.0661
END_OBJECT = IMAGE
/* MAP OBJECT DEFINITIONS */
OBJECT = IMAGE_MAP_PROJECTION
  ^DATA_SET_MAP_PROJECTION_CATALOG= "DSMAP.CAT"
  A_AXIS_RADIUS = 3396.0
  B_AXIS_RADIUS = 3396.0
  C_AXIS_RADIUS = 3396.0
  CENTER_LATITUDE = 0.0
  CENTER_LONGITUDE = 138.0
  COORDINATE_SYSTEM_NAME = PLANETOGRAPHIC
  COORDINATE_SYSTEM_TYPE = "BODY-FIXED ROTATING"
  EASTERNMOST_LONGITUDE = 140.407
  FIRST_STANDARD_PARALLEL = "N/A"
  LINE_FIRST_PIXEL = 1
  LINE_LAST_PIXEL = 7953
  LINE_PROJECTION_OFFSET = 1641.0
  MAP_PROJECTION_ROTATION = 0.0
  MAP_PROJECTION_TYPE = SINUSOIDAL
  MAP_RESOLUTION = 592.713803866667
  MAP_SCALE = 0.1
  MAXIMUM_LATITUDE = 2.75039
  MINIMUM_LATITUDE = -10.597
  POSITIVE_LONGITUDE_DIRECTION = EAST
  REFERENCE_LATITUDE = "N/A"
  REFERENCE_LONGITUDE = "N/A"
  SAMPLE_FIRST_PIXEL = 1
  SAMPLE_LAST_PIXEL = 4381
  SAMPLE_PROJECTION_OFFSET = 2506.0
  SECOND_STANDARD_PARALLEL = "N/A"
  WESTERNMOST_LONGITUDE = 133.798
END_OBJECT = IMAGE_MAP_PROJECTION
/* The JPEG2000 image data file associated with this label. */
OBJECT = COMPRESSED_FILE
  FILE_NAME = "HC890_0000_RE3.JP2"
  RECORD_TYPE = UNDEFINED
  FILE_RECORDS = UNK
  ENCODING_TYPE = "JP2"
  INTERCHANGE_FORMAT = BINARY
  UNCOMPRESSED_FILE_NAME = "HC890_0000_RE3.IMG"
  REQUIRED_STORAGE_BYTES = "34868379"
  ^DESCRIPTION = "JP2INFO.TXT"
END_OBJECT = COMPRESSED_FILE
END
