PDS_VERSION_ID = PDS3
/* FILE DATA ELEMENTS */
RECORD_TYPE = STREAM
/* POINTERS TO DATA OBJECTS */
^COMPRESSED_FILE = "HC906_0000_BL3.JP2"
/* IDENTIFICATION DATA ELEMENTS */
DATA_SET_ID = "MEX-M-HRSC-5-REFDR-MAPPROJECTED-V3.0"
DATA_SET_NAME = "MARS EXPRESS HRSC MAP PROJECTED REFDR V3.0"
DETECTOR_ID = MEX_HRSC_BLUE
EVENT_TYPE = "MARS-CLOUD-VARIABLE-At"
INSTRUMENT_HOST_ID = MEX
INSTRUMENT_HOST_NAME = "MARS EXPRESS"
INSTRUMENT_ID = HRSC
INSTRUMENT_NAME = "HIGH RESOLUTION STEREO CAMERA"
MISSION_NAME = "MARS EXPRESS"
MISSION_PHASE_NAME = ME_Phase_30
PROCESSING_LEVEL_ID = 3
PRODUCT_CREATION_TIME = 2016-10-29T02:00:08.000Z
PRODUCT_ID = "HC906_0000_BL3.JP2"
RELEASE_ID = 0121
REVISION_ID = 0000
/* QUALITY DATA ELEMENTS */
DATA_QUALITY_ID = 1
DATA_QUALITY_DESC = "Data calculated based on original SPICE kernels"
/* TIME DATA ELEMENTS */
SPACECRAFT_CLOCK_START_COUNT = "1/0341618687.08408"
SPACECRAFT_CLOCK_STOP_COUNT = "1/0341619793.15188"
START_TIME = 2014-02-27T22:06:38.700Z
STOP_TIME = 2014-02-27T22:21:07.322Z
/* ORBITAL DATA ELEMENTS */
ASCENDING_NODE_LONGITUDE = 331.49
MAXIMUM_RESOLUTION = 249.5
FOOTPRINT_POINT_LATITUDE = (-23.553,-23.7121,-23.8702,-24.02, -23.1571,-22.2942,-21.4341,-20.5696, -19.7189,-18.4426,-17.5921,-16.7448, -15.9003,-14.6367,-13.4019,-12.1135, -11.2767,-10.4414,-9.60722,-8.77411, -7.52528,-5.86219,-4.62008,-3.78846, -2.9566,-2.12564,-0.46514,0.365611, 1.19678,2.02842,2.86053,3.69392,4.52816 ,5.78198,6.61894,7.45757,8.2977,9.13908 ,9.9822,10.8283,11.676,12.5262,13.3787, 14.2342,15.0924,15.9535,16.8188,17.6866 ,18.2581,18.4443,18.5765,18.6612, 18.8858,19.0707,19.2302,18.3396,17.4512 ,16.5674,15.2432,14.3744,13.0706, 11.7781,10.9143,10.0561,9.19983,8.34676 ,7.49445,6.64417,5.79692,4.52561, 3.68152,2.83905,1.57695,0.73583, -0.525382,-1.78532,-2.62473,-3.46393, -4.30304,-5.14226,-5.98173,-6.82163, -7.66215,-8.503,-9.34486,-10.1866, -11.0298,-11.8746,-12.7205,-13.5677, -14.4393,-16.1183,-16.9742,-17.8281, -18.6858,-19.5456,-20.4078,-21.2723, -22.1389,-23.553)
FOOTPRINT_POINT_LONGITUDE = (304.946,303.2,301.436,299.686,299.651, 299.616,299.578,299.543,299.499,299.432 ,299.387,299.339,299.289,299.211, 299.104,299.051,298.993,298.933,298.872 ,298.809,298.712,298.579,298.458, 298.388,298.321,298.249,298.106,298.027 ,297.947,297.866,297.784,297.699, 297.613,297.48,297.39,297.298,297.204, 297.11,297.013,296.913,296.812,296.709, 296.604,296.496,296.387,296.275,296.16, 296.043,296.769,298.769,300.166,301.065 ,303.375,305.204,306.784,306.711, 306.641,306.575,306.479,306.425,306.345 ,306.275,306.228,306.185,306.145, 306.107,306.071,306.036,306.006,305.959 ,305.932,305.908,305.874,305.853, 305.822,305.794,305.777,305.76,305.746, 305.732,305.72,305.708,305.698,305.688, 305.679,305.67,305.662,305.655,305.649, 305.644,305.654,305.629,305.626,305.622 ,305.619,305.615,305.613,305.61,305.607 ,304.946)
ORBIT_NUMBER = 12906
ORBITAL_ECCENTRICITY = 0.577
ORBITAL_INCLINATION = 86.89
ORBITAL_SEMIMAJOR_AXIS = 8754.99
PERIAPSIS_ALTITUDE = 328.52
PERIAPSIS_ARGUMENT_ANGLE = 272.89
PERIAPSIS_TIME = 2014-02-27T21:45:09.000Z
SPACECRAFT_ORIENTATION = (0.0,1.0,0.0)
^MEX_ORIENTATION_DESC = "MEX_ORIENTATION_DESC.TXT"
SPACECRAFT_POINTING_MODE = INERT
^MEX_POINTING_DESC = "MEX_POINTING_DESC.TXT"
RIGHT_ASCENSION = 315.67
DECLINATION = 56.997
OFFSET_ANGLE = -1e+32
SPACECRAFT_SOLAR_DISTANCE = 2.46938e+08
TARGET_NAME = MARS
/* CAMERA DATA ELEMENTS */
DETECTOR_TEMPERATURE = 18.3705
FOCAL_PLANE_TEMPERATURE = 7.9716
INST_CMPRS_NAME = "DISCRETE COSINE TRANSFORMATION (DCT)"
INST_CMPRS_RATIO = 34.7125
INST_CMPRS_QUALITY = 0
INST_CMPRS_QUANTZ_TBL_ID = 0
INSTRUMENT_TEMPERATURE = 11.0301
LENS_TEMPERATURE = 8.3794
MACROPIXEL_SIZE = 4
MISSING_FRAMES = 0
PIXEL_SUBSAMPLING_FLAG = N
SIGNAL_CHAIN_ID = 2
/* RADIOMETRIC DATA ELEMENTS */
BANDWIDTH = 76.0
CENTER_FILTER_WAVELENGTH = 444.0
RADIANCE_OFFSET = 0.480986
RADIANCE_SCALING_FACTOR = 0.00377244
REFLECTANCE_SCALING_FACTOR = 0.000236346
MEX:REFLECTANCE_OFFSET = 0.0301342
/* IMAGE OBJECT DEFINITIONS */
OBJECT = IMAGE
  INTERCHANGE_FORMAT = BINARY
  LINES = 12819
  LINE_SAMPLES = 3046
  SAMPLE_TYPE = UNSIGNED_INTEGER
  SAMPLE_BITS = 8
  BANDS = 1
  BAND_STORAGE_TYPE = BAND_SEQUENTIAL
  MAXIMUM = 255
  MEAN = 145.59
  MINIMUM = 1
  STANDARD_DEVIATION = 46.8084
END_OBJECT = IMAGE
/* MAP OBJECT DEFINITIONS */
OBJECT = IMAGE_MAP_PROJECTION
  ^DATA_SET_MAP_PROJECTION_CATALOG= "DSMAP.CAT"
  A_AXIS_RADIUS = 3396.0
  B_AXIS_RADIUS = 3396.0
  C_AXIS_RADIUS = 3396.0
  CENTER_LATITUDE = 0.0
  CENTER_LONGITUDE = 302.0
  COORDINATE_SYSTEM_NAME = PLANETOGRAPHIC
  COORDINATE_SYSTEM_TYPE = "BODY-FIXED ROTATING"
  EASTERNMOST_LONGITUDE = 306.784
  FIRST_STANDARD_PARALLEL = "N/A"
  LINE_FIRST_PIXEL = 1
  LINE_LAST_PIXEL = 12819
  LINE_PROJECTION_OFFSET = 5689.0
  MAP_PROJECTION_ROTATION = 0.0
  MAP_PROJECTION_TYPE = SINUSOIDAL
  MAP_RESOLUTION = 296.356901933333
  MAP_SCALE = 0.2
  MAXIMUM_LATITUDE = 19.2302
  MINIMUM_LATITUDE = -24.02
  POSITIVE_LONGITUDE_DIRECTION = EAST
  REFERENCE_LATITUDE = "N/A"
  REFERENCE_LONGITUDE = "N/A"
  SAMPLE_FIRST_PIXEL = 1
  SAMPLE_LAST_PIXEL = 3046
  SAMPLE_PROJECTION_OFFSET = 1701.0
  SECOND_STANDARD_PARALLEL = "N/A"
  WESTERNMOST_LONGITUDE = 296.043
END_OBJECT = IMAGE_MAP_PROJECTION
/* The JPEG2000 image data file associated with this label. */
OBJECT = COMPRESSED_FILE
  FILE_NAME = "HC906_0000_BL3.JP2"
  RECORD_TYPE = UNDEFINED
  FILE_RECORDS = UNK
  ENCODING_TYPE = "JP2"
  INTERCHANGE_FORMAT = BINARY
  UNCOMPRESSED_FILE_NAME = "HC906_0000_BL3.IMG"
  REQUIRED_STORAGE_BYTES = "39071042"
  ^DESCRIPTION = "JP2INFO.TXT"
END_OBJECT = COMPRESSED_FILE
END
