PDS_VERSION_ID = PDS3
/* FILE DATA ELEMENTS */
RECORD_TYPE = STREAM
/* POINTERS TO DATA OBJECTS */
^COMPRESSED_FILE = "HC919_0000_IR3.JP2"
/* IDENTIFICATION DATA ELEMENTS */
DATA_SET_ID = "MEX-M-HRSC-5-REFDR-MAPPROJECTED-V3.0"
DATA_SET_NAME = "MARS EXPRESS HRSC MAP PROJECTED REFDR V3.0"
DETECTOR_ID = MEX_HRSC_IR
EVENT_TYPE = "MARS-REGIONAL-MAPPING-Gl-Pf"
INSTRUMENT_HOST_ID = MEX
INSTRUMENT_HOST_NAME = "MARS EXPRESS"
INSTRUMENT_ID = HRSC
INSTRUMENT_NAME = "HIGH RESOLUTION STEREO CAMERA"
MISSION_NAME = "MARS EXPRESS"
MISSION_PHASE_NAME = ME_Phase_30
PROCESSING_LEVEL_ID = 3
PRODUCT_CREATION_TIME = 2016-10-29T02:00:08.000Z
PRODUCT_ID = "HC919_0000_IR3.JP2"
RELEASE_ID = 0121
REVISION_ID = 0000
/* QUALITY DATA ELEMENTS */
DATA_QUALITY_ID = 1
DATA_QUALITY_DESC = "Data calculated based on original SPICE kernels"
/* TIME DATA ELEMENTS */
SPACECRAFT_CLOCK_START_COUNT = "1/0341945073.07324"
SPACECRAFT_CLOCK_STOP_COUNT = "1/0341945549.46863"
START_TIME = 2014-03-03T16:46:43.294Z
STOP_TIME = 2014-03-03T16:52:02.132Z
/* ORBITAL DATA ELEMENTS */
ASCENDING_NODE_LONGITUDE = 331.24
MAXIMUM_RESOLUTION = 120.5
FOOTPRINT_POINT_LATITUDE = (-50.2367,-50.2302,-50.2215,-50.2108, -50.1981,-50.1833,-50.171,-50.2387, -49.7552,-49.1444,-48.6504,-48.1509, -47.6455,-47.2629,-46.7483,-46.3576, -46.0964,-45.8335,-45.5697,-45.3036, -45.0355,-44.7663,-44.4956,-44.221, -43.9467,-43.6699,-43.394,-43.1158, -42.8339,-42.5519,-42.268,-41.9826, -41.5554,-41.2672,-40.9742,-40.6805, -40.2413,-39.9476,-39.6491,-39.2005, -38.8997,-38.5956,-38.2895,-37.982, -37.6728,-37.3625,-37.0484,-36.7344, -36.3989,-36.3982,-36.3975,-36.3947, -36.3897,-36.3849,-36.3803,-36.3719, -36.3617,-36.3574,-36.6792,-36.9985, -37.3146,-37.786,-38.0987,-38.4068, -38.7146,-39.1749,-39.4773,-39.7802, -40.0801,-40.3787,-40.676,-40.9719, -41.2658,-41.5579,-41.8474,-42.1359, -42.4229,-42.7079,-42.9913,-43.273, -43.5533,-43.8322,-44.1093,-44.3847, -44.6582,-44.9303,-45.2,-45.605, -45.8713,-46.1359,-46.4015,-46.6649, -46.9257,-47.4471,-47.8311,-48.3402, -48.8418,-49.3364,-49.8279,-50.2367)
FOOTPRINT_POINT_LONGITUDE = (57.3369,56.7578,56.1807,55.605,55.0311 ,54.4588,54.0299,53.5133,53.5275, 53.5429,53.553,53.562,53.5694,53.5739, 53.5783,53.5812,53.5819,53.5825,53.5825 ,53.5826,53.5822,53.5813,53.5799, 53.5793,53.5774,53.5755,53.5721,53.5686 ,53.5654,53.5612,53.5567,53.5516, 53.5414,53.5347,53.5288,53.5219,53.509, 53.4991,53.49,53.4745,53.4633,53.4524, 53.4409,53.4287,53.416,53.4026,53.3892, 53.3746,53.6257,54.1671,54.5727,55.2034 ,55.8801,56.3774,56.7395,57.1917, 57.8271,58.2069,58.194,58.1809,58.1668, 58.1463,58.1334,58.1186,58.1045,58.0849 ,58.0703,58.0571,58.0432,58.0296, 58.0163,58.0032,57.9898,57.9763,57.9622 ,57.9486,57.9348,57.9209,57.9069, 57.8928,57.8787,57.8647,57.8504,57.8359 ,57.8213,57.8068,57.7916,57.7706, 57.7554,57.7398,57.7255,57.711,57.6958, 57.6668,57.6429,57.6121,57.579,57.5442, 57.5108,57.3369)
ORBIT_NUMBER = 12919
ORBITAL_ECCENTRICITY = 0.577
ORBITAL_INCLINATION = 86.89
ORBITAL_SEMIMAJOR_AXIS = 8754.88
PERIAPSIS_ALTITUDE = 327.96
PERIAPSIS_ARGUMENT_ANGLE = 270.69
PERIAPSIS_TIME = 2014-03-03T16:35:16.000Z
SPACECRAFT_ORIENTATION = (0.0,1.0,0.0)
^MEX_ORIENTATION_DESC = "MEX_ORIENTATION_DESC.TXT"
SPACECRAFT_POINTING_MODE = ACROSSTRACK
^MEX_POINTING_DESC = "MEX_POINTING_DESC.TXT"
RIGHT_ASCENSION = -1e+32
DECLINATION = -1e+32
OFFSET_ANGLE = -0.3
SPACECRAFT_SOLAR_DISTANCE = 2.4662e+08
TARGET_NAME = MARS
/* CAMERA DATA ELEMENTS */
DETECTOR_TEMPERATURE = 17.5549
FOCAL_PLANE_TEMPERATURE = 7.9716
INST_CMPRS_NAME = "DISCRETE COSINE TRANSFORMATION (DCT)"
INST_CMPRS_RATIO = 15.127
INST_CMPRS_QUALITY = 0
INST_CMPRS_QUANTZ_TBL_ID = 0
INSTRUMENT_TEMPERATURE = 11.4379
LENS_TEMPERATURE = 7.9716
MACROPIXEL_SIZE = 4
MISSING_FRAMES = 0
PIXEL_SUBSAMPLING_FLAG = N
SIGNAL_CHAIN_ID = 2
/* RADIOMETRIC DATA ELEMENTS */
BANDWIDTH = 81.0
CENTER_FILTER_WAVELENGTH = 955.5
RADIANCE_OFFSET = 0.222492
RADIANCE_SCALING_FACTOR = 0.00494427
REFLECTANCE_SCALING_FACTOR = 0.000648762
MEX:REFLECTANCE_OFFSET = 0.0291943
/* IMAGE OBJECT DEFINITIONS */
OBJECT = IMAGE
  INTERCHANGE_FORMAT = BINARY
  LINES = 8292
  LINE_SAMPLES = 1993
  SAMPLE_TYPE = UNSIGNED_INTEGER
  SAMPLE_BITS = 8
  BANDS = 1
  BAND_STORAGE_TYPE = BAND_SEQUENTIAL
  MAXIMUM = 255
  MEAN = 146.891
  MINIMUM = 1
  STANDARD_DEVIATION = 55.923
END_OBJECT = IMAGE
/* MAP OBJECT DEFINITIONS */
OBJECT = IMAGE_MAP_PROJECTION
  ^DATA_SET_MAP_PROJECTION_CATALOG= "DSMAP.CAT"
  A_AXIS_RADIUS = 3396.0
  B_AXIS_RADIUS = 3396.0
  C_AXIS_RADIUS = 3396.0
  CENTER_LATITUDE = 0.0
  CENTER_LONGITUDE = 56.0
  COORDINATE_SYSTEM_NAME = PLANETOGRAPHIC
  COORDINATE_SYSTEM_TYPE = "BODY-FIXED ROTATING"
  EASTERNMOST_LONGITUDE = 58.2069
  FIRST_STANDARD_PARALLEL = "N/A"
  LINE_FIRST_PIXEL = 1
  LINE_LAST_PIXEL = 8292
  LINE_PROJECTION_OFFSET = -21532.625
  MAP_PROJECTION_ROTATION = 0.0
  MAP_PROJECTION_TYPE = SINUSOIDAL
  MAP_RESOLUTION = 592.713803866667
  MAP_SCALE = 0.1
  MAXIMUM_LATITUDE = -36.3574
  MINIMUM_LATITUDE = -50.2387
  POSITIVE_LONGITUDE_DIRECTION = EAST
  REFERENCE_LATITUDE = "N/A"
  REFERENCE_LONGITUDE = "N/A"
  SAMPLE_FIRST_PIXEL = 1
  SAMPLE_LAST_PIXEL = 1993
  SAMPLE_PROJECTION_OFFSET = 1126.375
  SECOND_STANDARD_PARALLEL = "N/A"
  WESTERNMOST_LONGITUDE = 53.3746
END_OBJECT = IMAGE_MAP_PROJECTION
/* The JPEG2000 image data file associated with this label. */
OBJECT = COMPRESSED_FILE
  FILE_NAME = "HC919_0000_IR3.JP2"
  RECORD_TYPE = UNDEFINED
  FILE_RECORDS = UNK
  ENCODING_TYPE = "JP2"
  INTERCHANGE_FORMAT = BINARY
  UNCOMPRESSED_FILE_NAME = "HC919_0000_IR3.IMG"
  REQUIRED_STORAGE_BYTES = "16545886"
  ^DESCRIPTION = "JP2INFO.TXT"
END_OBJECT = COMPRESSED_FILE
END
