PDS_VERSION_ID = PDS3
/* FILE DATA ELEMENTS */
RECORD_TYPE = STREAM
/* POINTERS TO DATA OBJECTS */
^COMPRESSED_FILE = "HC923_0000_BL3.JP2"
/* IDENTIFICATION DATA ELEMENTS */
DATA_SET_ID = "MEX-M-HRSC-5-REFDR-MAPPROJECTED-V3.0"
DATA_SET_NAME = "MARS EXPRESS HRSC MAP PROJECTED REFDR V3.0"
DETECTOR_ID = MEX_HRSC_BLUE
EVENT_TYPE = "MARS-REGIONAL-MAPPING-Im-Fl-Pf"
INSTRUMENT_HOST_ID = MEX
INSTRUMENT_HOST_NAME = "MARS EXPRESS"
INSTRUMENT_ID = HRSC
INSTRUMENT_NAME = "HIGH RESOLUTION STEREO CAMERA"
MISSION_NAME = "MARS EXPRESS"
MISSION_PHASE_NAME = ME_Phase_30
PROCESSING_LEVEL_ID = 3
PRODUCT_CREATION_TIME = 2016-10-29T02:00:08.000Z
PRODUCT_ID = "HC923_0000_BL3.JP2"
RELEASE_ID = 0121
REVISION_ID = 0000
/* QUALITY DATA ELEMENTS */
DATA_QUALITY_ID = 1
DATA_QUALITY_DESC = "Data calculated based on original SPICE kernels"
/* TIME DATA ELEMENTS */
SPACECRAFT_CLOCK_START_COUNT = "1/0342045630.09057"
SPACECRAFT_CLOCK_STOP_COUNT = "1/0342046155.13958"
START_TIME = 2014-03-04T20:41:20.181Z
STOP_TIME = 2014-03-04T20:46:36.425Z
/* ORBITAL DATA ELEMENTS */
ASCENDING_NODE_LONGITUDE = 331.18
MAXIMUM_RESOLUTION = 92.5
FOOTPRINT_POINT_LATITUDE = (-54.7068,-54.6717,-54.6274,-54.5557, -54.1296,-53.5555,-52.9737,-52.3823, -51.7849,-51.3324,-51.0281,-50.7207, -50.2554,-49.7854,-49.4711,-49.1522, -48.8323,-48.5097,-48.185,-47.8579, -47.5283,-47.196,-46.8614,-46.3544, -46.0138,-45.6703,-45.3237,-44.9749, -44.6233,-44.2693,-43.9126,-43.5525, -43.1895,-42.8237,-42.4552,-42.0836, -41.709,-41.3314,-40.9501,-40.5651, -40.1779,-39.787,-39.3931,-38.996, -38.5956,-38.1912,-37.7835,-37.4361, -37.4509,-37.4678,-37.4754,-37.4788, -37.4812,-37.4805,-37.6883,-38.0991, -38.5098,-38.9144,-39.3157,-39.7135, -40.1085,-40.4995,-40.8867,-41.271, -41.6526,-42.0308,-42.4062,-42.7783, -43.147,-43.5128,-43.8759,-44.2355, -44.5937,-44.9484,-45.3007,-45.6495, -45.9955,-46.3392,-46.6807,-47.0192, -47.355,-47.6885,-48.0204,-48.3483, -48.6748,-48.999,-49.3189,-49.7977, -50.115,-50.4281,-50.8942,-51.2026, -51.5078,-51.9633,-52.2651,-52.5632, -53.1556,-53.7399,-54.3162,-54.7068)
FOOTPRINT_POINT_LONGITUDE = (6.31913,5.30768,4.29003,3.20208, 3.25101,3.31228,3.37043,3.42008,3.4727, 3.51243,3.53627,3.5599,3.59067,3.62098, 3.64451,3.66355,3.68168,3.70013,3.7198, 3.7365,3.75274,3.76908,3.78354,3.80331, 3.81587,3.82798,3.83925,3.85014,3.85951 ,3.86949,3.87813,3.88566,3.89281, 3.89881,3.90456,3.90901,3.91304,3.91679 ,3.91817,3.91689,3.9178,3.91677,3.91546 ,3.91337,3.91043,3.90672,3.90227, 4.08359,4.64986,5.51268,6.11037,6.52064 ,7.11577,7.59814,7.89933,7.88439,7.8649 ,7.84823,7.83141,7.81412,7.79589, 7.77783,7.76019,7.74186,7.72279,7.70354 ,7.68352,7.66369,7.64366,7.62314, 7.60216,7.58133,7.55896,7.53711,7.51474 ,7.49225,7.46943,7.4463,7.4227,7.39881, 7.37439,7.35017,7.3248,7.29985,7.2741, 7.24844,7.22316,7.18182,7.15353,7.12602 ,7.08386,7.05525,7.02711,6.98186, 6.95157,6.92126,6.85845,6.79423,6.72869 ,6.31913)
ORBIT_NUMBER = 12923
ORBITAL_ECCENTRICITY = 0.577
ORBITAL_INCLINATION = 86.89
ORBITAL_SEMIMAJOR_AXIS = 8754.67
PERIAPSIS_ALTITUDE = 328.47
PERIAPSIS_ARGUMENT_ANGLE = 269.99
PERIAPSIS_TIME = 2014-03-04T20:32:12.000Z
SPACECRAFT_ORIENTATION = (0.0,1.0,0.0)
^MEX_ORIENTATION_DESC = "MEX_ORIENTATION_DESC.TXT"
SPACECRAFT_POINTING_MODE = ACROSSTRACK
^MEX_POINTING_DESC = "MEX_POINTING_DESC.TXT"
RIGHT_ASCENSION = -1e+32
DECLINATION = -1e+32
OFFSET_ANGLE = 0.539
SPACECRAFT_SOLAR_DISTANCE = 2.46519e+08
TARGET_NAME = MARS
/* CAMERA DATA ELEMENTS */
DETECTOR_TEMPERATURE = 18.3705
FOCAL_PLANE_TEMPERATURE = 8.1755
INST_CMPRS_NAME = "DISCRETE COSINE TRANSFORMATION (DCT)"
INST_CMPRS_RATIO = 3.71983
INST_CMPRS_QUALITY = 0
INST_CMPRS_QUANTZ_TBL_ID = 0
INSTRUMENT_TEMPERATURE = 11.234
LENS_TEMPERATURE = 8.3794
MACROPIXEL_SIZE = 4
MISSING_FRAMES = 0
PIXEL_SUBSAMPLING_FLAG = N
SIGNAL_CHAIN_ID = 2
/* RADIOMETRIC DATA ELEMENTS */
BANDWIDTH = 76.0
CENTER_FILTER_WAVELENGTH = 444.0
RADIANCE_OFFSET = 0.0872394
RADIANCE_SCALING_FACTOR = 0.00363168
REFLECTANCE_SCALING_FACTOR = 0.000226758
MEX:REFLECTANCE_OFFSET = 0.00544713
/* IMAGE OBJECT DEFINITIONS */
OBJECT = IMAGE
  INTERCHANGE_FORMAT = BINARY
  LINES = 10236
  LINE_SAMPLES = 1982
  SAMPLE_TYPE = UNSIGNED_INTEGER
  SAMPLE_BITS = 8
  BANDS = 1
  BAND_STORAGE_TYPE = BAND_SEQUENTIAL
  MAXIMUM = 255
  MEAN = 93.673
  MINIMUM = 1
  STANDARD_DEVIATION = 34.4196
END_OBJECT = IMAGE
/* MAP OBJECT DEFINITIONS */
OBJECT = IMAGE_MAP_PROJECTION
  ^DATA_SET_MAP_PROJECTION_CATALOG= "DSMAP.CAT"
  A_AXIS_RADIUS = 3396.0
  B_AXIS_RADIUS = 3396.0
  C_AXIS_RADIUS = 3396.0
  CENTER_LATITUDE = 0.0
  CENTER_LONGITUDE = 6.0
  COORDINATE_SYSTEM_NAME = PLANETOGRAPHIC
  COORDINATE_SYSTEM_TYPE = "BODY-FIXED ROTATING"
  EASTERNMOST_LONGITUDE = 7.89933
  FIRST_STANDARD_PARALLEL = "N/A"
  LINE_FIRST_PIXEL = 1
  LINE_LAST_PIXEL = 10236
  LINE_PROJECTION_OFFSET = -22185.125
  MAP_PROJECTION_ROTATION = 0.0
  MAP_PROJECTION_TYPE = SINUSOIDAL
  MAP_RESOLUTION = 592.713803866667
  MAP_SCALE = 0.1
  MAXIMUM_LATITUDE = -37.4361
  MINIMUM_LATITUDE = -54.7068
  POSITIVE_LONGITUDE_DIRECTION = EAST
  REFERENCE_LATITUDE = "N/A"
  REFERENCE_LONGITUDE = "N/A"
  SAMPLE_FIRST_PIXEL = 1
  SAMPLE_LAST_PIXEL = 1982
  SAMPLE_PROJECTION_OFFSET = 1048.625
  SECOND_STANDARD_PARALLEL = "N/A"
  WESTERNMOST_LONGITUDE = 3.20208
END_OBJECT = IMAGE_MAP_PROJECTION
/* The JPEG2000 image data file associated with this label. */
OBJECT = COMPRESSED_FILE
  FILE_NAME = "HC923_0000_BL3.JP2"
  RECORD_TYPE = UNDEFINED
  FILE_RECORDS = UNK
  ENCODING_TYPE = "JP2"
  INTERCHANGE_FORMAT = BINARY
  UNCOMPRESSED_FILE_NAME = "HC923_0000_BL3.IMG"
  REQUIRED_STORAGE_BYTES = "20307572"
  ^DESCRIPTION = "JP2INFO.TXT"
END_OBJECT = COMPRESSED_FILE
END
