PDS_VERSION_ID = PDS3
/* FILE DATA ELEMENTS */
RECORD_TYPE = STREAM
/* POINTERS TO DATA OBJECTS */
^COMPRESSED_FILE = "HC923_0000_RE3.JP2"
/* IDENTIFICATION DATA ELEMENTS */
DATA_SET_ID = "MEX-M-HRSC-5-REFDR-MAPPROJECTED-V3.0"
DATA_SET_NAME = "MARS EXPRESS HRSC MAP PROJECTED REFDR V3.0"
DETECTOR_ID = MEX_HRSC_RED
EVENT_TYPE = "MARS-REGIONAL-MAPPING-Im-Fl-Pf"
INSTRUMENT_HOST_ID = MEX
INSTRUMENT_HOST_NAME = "MARS EXPRESS"
INSTRUMENT_ID = HRSC
INSTRUMENT_NAME = "HIGH RESOLUTION STEREO CAMERA"
MISSION_NAME = "MARS EXPRESS"
MISSION_PHASE_NAME = ME_Phase_30
PROCESSING_LEVEL_ID = 3
PRODUCT_CREATION_TIME = 2016-10-29T02:00:08.000Z
PRODUCT_ID = "HC923_0000_RE3.JP2"
RELEASE_ID = 0121
REVISION_ID = 0000
/* QUALITY DATA ELEMENTS */
DATA_QUALITY_ID = 1
DATA_QUALITY_DESC = "Data calculated based on original SPICE kernels"
/* TIME DATA ELEMENTS */
SPACECRAFT_CLOCK_START_COUNT = "1/0342045630.09057"
SPACECRAFT_CLOCK_STOP_COUNT = "1/0342046155.13958"
START_TIME = 2014-03-04T20:40:43.972Z
STOP_TIME = 2014-03-04T20:45:32.490Z
/* ORBITAL DATA ELEMENTS */
ASCENDING_NODE_LONGITUDE = 331.18
MAXIMUM_RESOLUTION = 91.6
FOOTPRINT_POINT_LATITUDE = (-54.7744,-54.7284,-54.6723,-54.4108, -53.8434,-53.2665,-52.9769,-52.6798, -52.2343,-51.9356,-51.4898,-51.1851, -50.8811,-50.5729,-50.2605,-49.9448, -49.6355,-49.3188,-48.8391,-48.5183, -48.1949,-47.7046,-47.3751,-47.0419, -46.707,-46.1967,-45.8546,-45.5093, -45.1617,-44.8116,-44.4559,-44.1028, -43.7441,-43.382,-43.0178,-42.6505, -42.2798,-41.9062,-41.5291,-41.1484, -40.5643,-40.1794,-39.7866,-39.3909, -38.9919,-38.5896,-38.1838,-37.7742, -37.4183,-37.4488,-37.4656,-37.4815, -37.5011,-37.5107,-37.7246,-38.3444, -38.7577,-39.1605,-39.56,-39.956, -40.3524,-40.7412,-41.125,-41.5086, -41.8885,-42.2654,-42.8261,-43.193, -43.7415,-44.2838,-44.6414,-44.9958, -45.3476,-45.6962,-46.0426,-46.3858, -46.7256,-47.0645,-47.4003,-47.7336, -48.0641,-48.3902,-48.8781,-49.3556, -49.6746,-50.1528,-50.4663,-50.7752, -51.0847,-51.5401,-51.8452,-52.1458, -52.4455,-52.7422,-53.0396,-53.3318, -53.7692,-54.0564,-54.6267,-54.7744)
FOOTPRINT_POINT_LONGITUDE = (6.09664,5.13033,4.15839,3.29241, 3.35754,3.4183,3.4486,3.47437,3.51431, 3.54157,3.58348,3.60865,3.63317,3.65752 ,3.67807,3.69891,3.72328,3.74489, 3.77476,3.7944,3.81458,3.84219,3.85942, 3.87645,3.89267,3.9135,3.92759,3.941, 3.95343,3.96549,3.97541,3.98761,3.99707 ,4.00628,4.01503,4.02273,4.02936, 4.03584,4.04137,4.04587,4.04674,4.05167 ,4.05299,4.05388,4.05398,4.05347, 4.05225,4.05017,4.22048,4.88623,5.33871 ,5.82489,6.62144,7.17322,7.76357, 7.74121,7.72455,7.70944,7.69385,7.67796 ,7.66059,7.64418,7.62785,7.61039, 7.59256,7.5743,7.54605,7.52755,7.49819, 7.46793,7.44731,7.42657,7.40543,7.38387 ,7.36202,7.33993,7.31745,7.29443, 7.27096,7.2472,7.22334,7.1993,7.16185, 7.12522,7.09911,7.0579,7.03109,7.0041, 6.97633,6.93492,6.90553,6.87652,6.84688 ,6.81688,6.78595,6.75515,6.70784, 6.67611,6.6111,6.09664)
ORBIT_NUMBER = 12923
ORBITAL_ECCENTRICITY = 0.577
ORBITAL_INCLINATION = 86.89
ORBITAL_SEMIMAJOR_AXIS = 8754.67
PERIAPSIS_ALTITUDE = 328.47
PERIAPSIS_ARGUMENT_ANGLE = 269.99
PERIAPSIS_TIME = 2014-03-04T20:32:12.000Z
SPACECRAFT_ORIENTATION = (0.0,1.0,0.0)
^MEX_ORIENTATION_DESC = "MEX_ORIENTATION_DESC.TXT"
SPACECRAFT_POINTING_MODE = ACROSSTRACK
^MEX_POINTING_DESC = "MEX_POINTING_DESC.TXT"
RIGHT_ASCENSION = -1e+32
DECLINATION = -1e+32
OFFSET_ANGLE = 0.539
SPACECRAFT_SOLAR_DISTANCE = 2.46519e+08
TARGET_NAME = MARS
/* CAMERA DATA ELEMENTS */
DETECTOR_TEMPERATURE = 18.3705
FOCAL_PLANE_TEMPERATURE = 8.1755
INST_CMPRS_NAME = "DISCRETE COSINE TRANSFORMATION (DCT)"
INST_CMPRS_RATIO = 5.20474
INST_CMPRS_QUALITY = 0
INST_CMPRS_QUANTZ_TBL_ID = 0
INSTRUMENT_TEMPERATURE = 11.234
LENS_TEMPERATURE = 8.3794
MACROPIXEL_SIZE = 4
MISSING_FRAMES = 0
PIXEL_SUBSAMPLING_FLAG = N
SIGNAL_CHAIN_ID = 2
/* RADIOMETRIC DATA ELEMENTS */
BANDWIDTH = 48.0
CENTER_FILTER_WAVELENGTH = 748.0
RADIANCE_OFFSET = 0.0551842
RADIANCE_SCALING_FACTOR = 0.00524791
REFLECTANCE_SCALING_FACTOR = 0.000727797
MEX:REFLECTANCE_OFFSET = 0.00765313
/* IMAGE OBJECT DEFINITIONS */
OBJECT = IMAGE
  INTERCHANGE_FORMAT = BINARY
  LINES = 10236
  LINE_SAMPLES = 1982
  SAMPLE_TYPE = UNSIGNED_INTEGER
  SAMPLE_BITS = 8
  BANDS = 1
  BAND_STORAGE_TYPE = BAND_SEQUENTIAL
  MAXIMUM = 255
  MEAN = 103.435
  MINIMUM = 1
  STANDARD_DEVIATION = 27.0205
END_OBJECT = IMAGE
/* MAP OBJECT DEFINITIONS */
OBJECT = IMAGE_MAP_PROJECTION
  ^DATA_SET_MAP_PROJECTION_CATALOG= "DSMAP.CAT"
  A_AXIS_RADIUS = 3396.0
  B_AXIS_RADIUS = 3396.0
  C_AXIS_RADIUS = 3396.0
  CENTER_LATITUDE = 0.0
  CENTER_LONGITUDE = 6.0
  COORDINATE_SYSTEM_NAME = PLANETOGRAPHIC
  COORDINATE_SYSTEM_TYPE = "BODY-FIXED ROTATING"
  EASTERNMOST_LONGITUDE = 7.76357
  FIRST_STANDARD_PARALLEL = "N/A"
  LINE_FIRST_PIXEL = 1
  LINE_LAST_PIXEL = 10236
  LINE_PROJECTION_OFFSET = -22185.125
  MAP_PROJECTION_ROTATION = 0.0
  MAP_PROJECTION_TYPE = SINUSOIDAL
  MAP_RESOLUTION = 592.713803866667
  MAP_SCALE = 0.1
  MAXIMUM_LATITUDE = -37.4183
  MINIMUM_LATITUDE = -54.7744
  POSITIVE_LONGITUDE_DIRECTION = EAST
  REFERENCE_LATITUDE = "N/A"
  REFERENCE_LONGITUDE = "N/A"
  SAMPLE_FIRST_PIXEL = 1
  SAMPLE_LAST_PIXEL = 1982
  SAMPLE_PROJECTION_OFFSET = 1048.625
  SECOND_STANDARD_PARALLEL = "N/A"
  WESTERNMOST_LONGITUDE = 3.29241
END_OBJECT = IMAGE_MAP_PROJECTION
/* The JPEG2000 image data file associated with this label. */
OBJECT = COMPRESSED_FILE
  FILE_NAME = "HC923_0000_RE3.JP2"
  RECORD_TYPE = UNDEFINED
  FILE_RECORDS = UNK
  ENCODING_TYPE = "JP2"
  INTERCHANGE_FORMAT = BINARY
  UNCOMPRESSED_FILE_NAME = "HC923_0000_RE3.IMG"
  REQUIRED_STORAGE_BYTES = "20307572"
  ^DESCRIPTION = "JP2INFO.TXT"
END_OBJECT = COMPRESSED_FILE
END
