PDS_VERSION_ID = PDS3
/* FILE DATA ELEMENTS */
RECORD_TYPE = STREAM
/* POINTERS TO DATA OBJECTS */
^COMPRESSED_FILE = "HC937_0000_IR3.JP2"
/* IDENTIFICATION DATA ELEMENTS */
DATA_SET_ID = "MEX-M-HRSC-5-REFDR-MAPPROJECTED-V3.0"
DATA_SET_NAME = "MARS EXPRESS HRSC MAP PROJECTED REFDR V3.0"
DETECTOR_ID = MEX_HRSC_IR
EVENT_TYPE = "MARS-REGIONAL-MAPPING-Im-Fl"
INSTRUMENT_HOST_ID = MEX
INSTRUMENT_HOST_NAME = "MARS EXPRESS"
INSTRUMENT_ID = HRSC
INSTRUMENT_NAME = "HIGH RESOLUTION STEREO CAMERA"
MISSION_NAME = "MARS EXPRESS"
MISSION_PHASE_NAME = ME_Phase_30
PROCESSING_LEVEL_ID = 3
PRODUCT_CREATION_TIME = 2016-10-29T02:00:08.000Z
PRODUCT_ID = "HC937_0000_IR3.JP2"
RELEASE_ID = 0121
REVISION_ID = 0000
/* QUALITY DATA ELEMENTS */
DATA_QUALITY_ID = 1
DATA_QUALITY_DESC = "Data calculated based on original SPICE kernels"
/* TIME DATA ELEMENTS */
SPACECRAFT_CLOCK_START_COUNT = "1/0342397872.08262"
SPACECRAFT_CLOCK_STOP_COUNT = "1/0342398502.63796"
START_TIME = 2014-03-08T22:33:29.769Z
STOP_TIME = 2014-03-08T22:41:02.377Z
/* ORBITAL DATA ELEMENTS */
ASCENDING_NODE_LONGITUDE = 330.92
MAXIMUM_RESOLUTION = 125.6
FOOTPRINT_POINT_LATITUDE = (-51.7276,-51.7187,-51.7073,-51.6936, -51.6775,-51.6461,-51.0784,-50.4523, -49.6662,-49.0227,-48.3624,-47.8674, -47.5349,-47.1999,-46.8629,-46.5266, -46.1856,-45.6646,-45.3177,-44.9672, -44.614,-44.2589,-43.7204,-43.3594, -42.9958,-42.6302,-42.2601,-41.7012, -41.3258,-40.9468,-40.3752,-39.9911, -39.6033,-39.2133,-38.8201,-38.2333, -37.6238,-37.2199,-36.8137,-36.4032, -35.9896,-35.5756,-35.1569,-34.5229, -34.0997,-33.68,-33.4362,-33.4248, -33.4164,-33.3978,-33.3874,-33.3746, -33.3589,-33.3444,-33.3323,-33.3151, -33.741,-34.3862,-34.8177,-35.2443, -35.6675,-36.0878,-36.5084,-37.139, -37.7498,-38.1571,-38.5595,-39.159, -39.5649,-39.9587,-40.5309,-40.9173, -41.3013,-41.6808,-42.0577,-42.4323, -42.8048,-43.1726,-43.5388,-43.9022, -44.2635,-44.6221,-44.9855,-45.3404, -45.6914,-46.0402,-46.3869,-46.7304, -47.0713,-47.4117,-47.747,-48.0737, -48.4077,-48.7386,-49.0662,-49.7156, -50.3574,-50.9895,-51.6133,-51.7276)
FOOTPRINT_POINT_LONGITUDE = (17.4758,16.8494,16.2243,15.6011, 14.9796,13.9706,13.8769,13.8984,13.9169 ,13.9313,13.947,13.9536,13.957,13.9598, 13.9618,13.9616,13.9617,13.9628,13.9611 ,13.9591,13.9563,13.9526,13.9462, 13.9404,13.9336,13.9259,13.9183,13.9045 ,13.8943,13.8833,13.8646,13.8507, 13.8363,13.8208,13.8045,13.7748,13.7498 ,13.7293,13.7077,13.6854,13.6622,13.637 ,13.6114,13.571,13.543,13.5146,14.174, 14.7498,15.2196,15.9502,16.4724,17.153, 17.6233,18.0943,18.514,19.1099,19.0916, 19.0631,19.0438,19.0235,19.0033,18.9834 ,18.9655,18.942,18.9111,18.893,18.8737, 18.8455,18.8327,18.8143,18.7788,18.7603 ,18.7421,18.7228,18.7033,18.6842, 18.6654,18.6453,18.6256,18.6056,18.5862 ,18.5664,18.5511,18.5317,18.5117, 18.4915,18.4714,18.4505,18.4295,18.4095 ,18.3873,18.3608,18.3407,18.3198, 18.2981,18.2545,18.2108,18.1651,18.1181 ,17.4758)
ORBIT_NUMBER = 12937
ORBITAL_ECCENTRICITY = 0.577
ORBITAL_INCLINATION = 86.89
ORBITAL_SEMIMAJOR_AXIS = 8754.98
PERIAPSIS_ALTITUDE = 328.4
PERIAPSIS_ARGUMENT_ANGLE = 267.63
PERIAPSIS_TIME = 2014-03-08T22:21:30.000Z
SPACECRAFT_ORIENTATION = (0.0,1.0,0.0)
^MEX_ORIENTATION_DESC = "MEX_ORIENTATION_DESC.TXT"
SPACECRAFT_POINTING_MODE = ACROSSTRACK
^MEX_POINTING_DESC = "MEX_POINTING_DESC.TXT"
RIGHT_ASCENSION = -1e+32
DECLINATION = -1e+32
OFFSET_ANGLE = -0.269
SPACECRAFT_SOLAR_DISTANCE = 2.46148e+08
TARGET_NAME = MARS
/* CAMERA DATA ELEMENTS */
DETECTOR_TEMPERATURE = 17.351
FOCAL_PLANE_TEMPERATURE = 8.1755
INST_CMPRS_NAME = "DISCRETE COSINE TRANSFORMATION (DCT)"
INST_CMPRS_RATIO = 8.9813
INST_CMPRS_QUALITY = 0
INST_CMPRS_QUANTZ_TBL_ID = 0
INSTRUMENT_TEMPERATURE = 11.0301
LENS_TEMPERATURE = 8.5833
MACROPIXEL_SIZE = 4
MISSING_FRAMES = 0
PIXEL_SUBSAMPLING_FLAG = N
SIGNAL_CHAIN_ID = 2
/* RADIOMETRIC DATA ELEMENTS */
BANDWIDTH = 81.0
CENTER_FILTER_WAVELENGTH = 955.5
RADIANCE_OFFSET = 0.0
RADIANCE_SCALING_FACTOR = 0.00457427
REFLECTANCE_SCALING_FACTOR = 0.000597917
MEX:REFLECTANCE_OFFSET = 0.0
/* IMAGE OBJECT DEFINITIONS */
OBJECT = IMAGE
  INTERCHANGE_FORMAT = BINARY
  LINES = 10938
  LINE_SAMPLES = 2349
  SAMPLE_TYPE = UNSIGNED_INTEGER
  SAMPLE_BITS = 8
  BANDS = 1
  BAND_STORAGE_TYPE = BAND_SEQUENTIAL
  MAXIMUM = 255
  MEAN = 117.312
  MINIMUM = 1
  STANDARD_DEVIATION = 35.3573
END_OBJECT = IMAGE
/* MAP OBJECT DEFINITIONS */
OBJECT = IMAGE_MAP_PROJECTION
  ^DATA_SET_MAP_PROJECTION_CATALOG= "DSMAP.CAT"
  A_AXIS_RADIUS = 3396.0
  B_AXIS_RADIUS = 3396.0
  C_AXIS_RADIUS = 3396.0
  CENTER_LATITUDE = 0.0
  CENTER_LONGITUDE = 16.0
  COORDINATE_SYSTEM_NAME = PLANETOGRAPHIC
  COORDINATE_SYSTEM_TYPE = "BODY-FIXED ROTATING"
  EASTERNMOST_LONGITUDE = 19.1099
  FIRST_STANDARD_PARALLEL = "N/A"
  LINE_FIRST_PIXEL = 1
  LINE_LAST_PIXEL = 10938
  LINE_PROJECTION_OFFSET = -19771.875
  MAP_PROJECTION_ROTATION = 0.0
  MAP_PROJECTION_TYPE = SINUSOIDAL
  MAP_RESOLUTION = 592.713803866667
  MAP_SCALE = 0.1
  MAXIMUM_LATITUDE = -33.3151
  MINIMUM_LATITUDE = -51.7276
  POSITIVE_LONGITUDE_DIRECTION = EAST
  REFERENCE_LATITUDE = "N/A"
  REFERENCE_LONGITUDE = "N/A"
  SAMPLE_FIRST_PIXEL = 1
  SAMPLE_LAST_PIXEL = 2349
  SAMPLE_PROJECTION_OFFSET = 1060.375
  SECOND_STANDARD_PARALLEL = "N/A"
  WESTERNMOST_LONGITUDE = 13.5146
END_OBJECT = IMAGE_MAP_PROJECTION
/* The JPEG2000 image data file associated with this label. */
OBJECT = COMPRESSED_FILE
  FILE_NAME = "HC937_0000_IR3.JP2"
  RECORD_TYPE = UNDEFINED
  FILE_RECORDS = UNK
  ENCODING_TYPE = "JP2"
  INTERCHANGE_FORMAT = BINARY
  UNCOMPRESSED_FILE_NAME = "HC937_0000_IR3.IMG"
  REQUIRED_STORAGE_BYTES = "25716852"
  ^DESCRIPTION = "JP2INFO.TXT"
END_OBJECT = COMPRESSED_FILE
END
