PDS_VERSION_ID = PDS3
/* FILE DATA ELEMENTS */
RECORD_TYPE = STREAM
/* POINTERS TO DATA OBJECTS */
^COMPRESSED_FILE = "HC954_0000_GR3.JP2"
/* IDENTIFICATION DATA ELEMENTS */
DATA_SET_ID = "MEX-M-HRSC-5-REFDR-MAPPROJECTED-V3.0"
DATA_SET_NAME = "MARS EXPRESS HRSC MAP PROJECTED REFDR V3.0"
DETECTOR_ID = MEX_HRSC_GREEN
EVENT_TYPE = "MARS-REGIONAL-MAPPING-Gl-Pf-At"
INSTRUMENT_HOST_ID = MEX
INSTRUMENT_HOST_NAME = "MARS EXPRESS"
INSTRUMENT_ID = HRSC
INSTRUMENT_NAME = "HIGH RESOLUTION STEREO CAMERA"
MISSION_NAME = "MARS EXPRESS"
MISSION_PHASE_NAME = ME_Phase_30
PROCESSING_LEVEL_ID = 3
PRODUCT_CREATION_TIME = 2016-10-29T02:00:08.000Z
PRODUCT_ID = "HC954_0000_GR3.JP2"
RELEASE_ID = 0121
REVISION_ID = 0000
/* QUALITY DATA ELEMENTS */
DATA_QUALITY_ID = 1
DATA_QUALITY_DESC = "Data calculated based on original SPICE kernels"
/* TIME DATA ELEMENTS */
SPACECRAFT_CLOCK_START_COUNT = "1/0342825497.07344"
SPACECRAFT_CLOCK_STOP_COUNT = "1/0342825987.04064"
START_TIME = 2014-03-13T21:19:40.559Z
STOP_TIME = 2014-03-13T21:24:15.031Z
/* ORBITAL DATA ELEMENTS */
ASCENDING_NODE_LONGITUDE = 330.6
MAXIMUM_RESOLUTION = 111.8
FOOTPRINT_POINT_LATITUDE = (-54.319,-54.3,-54.2845,-54.2685, -54.2474,-54.2233,-54.0849,-53.6133, -53.137,-52.534,-52.0458,-51.6762, -51.1784,-50.6752,-50.4212,-50.038, -49.6516,-49.3926,-49.1312,-48.8684, -48.6049,-48.3392,-48.0721,-47.8036, -47.5338,-47.2619,-46.9882,-46.7133, -46.4368,-46.1589,-45.8794,-45.5969, -45.3138,-45.0292,-44.7435,-44.4555, -44.1658,-43.874,-43.5799,-43.2844, -42.9874,-42.6885,-42.3874,-42.0847, -41.7801,-41.4729,-41.1648,-40.7024, -40.7188,-40.7327,-40.7369,-40.7389, -40.7404,-40.7401,-40.7387,-40.7344, -40.8898,-41.203,-41.515,-41.8249, -42.1324,-42.4381,-42.7419,-43.043, -43.3431,-43.6412,-43.9373,-44.2316, -44.524,-44.8145,-45.1033,-45.3904, -45.676,-45.9599,-46.242,-46.5221, -46.8004,-47.0776,-47.353,-47.627, -47.8988,-48.1691,-48.4383,-48.706, -48.9716,-49.236,-49.4992,-49.7598, -50.1489,-50.5349,-50.7906,-51.0449, -51.2971,-51.7978,-52.1695,-52.5381, -53.0252,-53.5077,-53.9828,-54.319)
FOOTPRINT_POINT_LONGITUDE = (79.6889,78.7046,78.0981,77.5674, 76.9606,76.3529,75.5608,75.5998,75.6358 ,75.6793,75.7118,75.7359,75.7659, 75.7943,75.8081,75.827,75.8456,75.8575, 75.8688,75.88,75.8898,75.9,75.9087, 75.9176,75.9264,75.9342,75.9422,75.9489 ,75.9559,75.9618,75.9654,75.9734,75.977 ,75.9793,75.9795,75.9818,75.9831, 75.9848,75.9875,75.9884,75.9875,75.9865 ,75.9855,75.9836,75.9814,75.9794, 75.9742,75.9683,76.7153,77.6387,78.0774 ,78.428,78.9101,79.392,79.7422,80.3112, 80.6696,80.655,80.6415,80.6273,80.613, 80.5984,80.5836,80.5673,80.5526,80.5371 ,80.5215,80.5058,80.4897,80.4738, 80.4571,80.4404,80.4236,80.4067,80.3894 ,80.3723,80.3543,80.3371,80.3187, 80.3008,80.2827,80.2639,80.2451,80.2262 ,80.2073,80.1877,80.168,80.1477,80.1176 ,80.0869,80.0662,80.0449,80.0234, 79.9788,79.9448,79.9101,79.8629,79.8162 ,79.7627,79.6889)
ORBIT_NUMBER = 12954
ORBITAL_ECCENTRICITY = 0.577
ORBITAL_INCLINATION = 86.9
ORBITAL_SEMIMAJOR_AXIS = 8754.51
PERIAPSIS_ALTITUDE = 327.2
PERIAPSIS_ARGUMENT_ANGLE = 264.78
PERIAPSIS_TIME = 2014-03-13T21:08:31.000Z
SPACECRAFT_ORIENTATION = (0.0,1.0,0.0)
^MEX_ORIENTATION_DESC = "MEX_ORIENTATION_DESC.TXT"
SPACECRAFT_POINTING_MODE = ACROSSTRACK
^MEX_POINTING_DESC = "MEX_POINTING_DESC.TXT"
RIGHT_ASCENSION = -1e+32
DECLINATION = -1e+32
OFFSET_ANGLE = 0.269
SPACECRAFT_SOLAR_DISTANCE = 2.45668e+08
TARGET_NAME = MARS
/* CAMERA DATA ELEMENTS */
DETECTOR_TEMPERATURE = 18.5744
FOCAL_PLANE_TEMPERATURE = 7.7677
INST_CMPRS_NAME = "DISCRETE COSINE TRANSFORMATION (DCT)"
INST_CMPRS_RATIO = 9.08613
INST_CMPRS_QUALITY = 0
INST_CMPRS_QUANTZ_TBL_ID = 0
INSTRUMENT_TEMPERATURE = 11.4379
LENS_TEMPERATURE = 8.3794
MACROPIXEL_SIZE = 4
MISSING_FRAMES = 0
PIXEL_SUBSAMPLING_FLAG = N
SIGNAL_CHAIN_ID = 2
/* RADIOMETRIC DATA ELEMENTS */
BANDWIDTH = 88.0
CENTER_FILTER_WAVELENGTH = 538.0
RADIANCE_OFFSET = 0.0908674
RADIANCE_SCALING_FACTOR = 0.0110823
REFLECTANCE_SCALING_FACTOR = 0.000575856
MEX:REFLECTANCE_OFFSET = 0.00472165
/* IMAGE OBJECT DEFINITIONS */
OBJECT = IMAGE
  INTERCHANGE_FORMAT = BINARY
  LINES = 8094
  LINE_SAMPLES = 2067
  SAMPLE_TYPE = UNSIGNED_INTEGER
  SAMPLE_BITS = 8
  BANDS = 1
  BAND_STORAGE_TYPE = BAND_SEQUENTIAL
  MAXIMUM = 255
  MEAN = 174.243
  MINIMUM = 1
  STANDARD_DEVIATION = 62.4
END_OBJECT = IMAGE
/* MAP OBJECT DEFINITIONS */
OBJECT = IMAGE_MAP_PROJECTION
  ^DATA_SET_MAP_PROJECTION_CATALOG= "DSMAP.CAT"
  A_AXIS_RADIUS = 3396.0
  B_AXIS_RADIUS = 3396.0
  C_AXIS_RADIUS = 3396.0
  CENTER_LATITUDE = 0.0
  CENTER_LONGITUDE = 78.0
  COORDINATE_SYSTEM_NAME = PLANETOGRAPHIC
  COORDINATE_SYSTEM_TYPE = "BODY-FIXED ROTATING"
  EASTERNMOST_LONGITUDE = 80.6696
  FIRST_STANDARD_PARALLEL = "N/A"
  LINE_FIRST_PIXEL = 1
  LINE_LAST_PIXEL = 8094
  LINE_PROJECTION_OFFSET = -24121.125
  MAP_PROJECTION_ROTATION = 0.0
  MAP_PROJECTION_TYPE = SINUSOIDAL
  MAP_RESOLUTION = 592.713803866667
  MAP_SCALE = 0.1
  MAXIMUM_LATITUDE = -40.7024
  MINIMUM_LATITUDE = -54.319
  POSITIVE_LONGITUDE_DIRECTION = EAST
  REFERENCE_LATITUDE = "N/A"
  REFERENCE_LONGITUDE = "N/A"
  SAMPLE_FIRST_PIXEL = 1
  SAMPLE_LAST_PIXEL = 2067
  SAMPLE_PROJECTION_OFFSET = 897.375
  SECOND_STANDARD_PARALLEL = "N/A"
  WESTERNMOST_LONGITUDE = 75.5608
END_OBJECT = IMAGE_MAP_PROJECTION
/* The JPEG2000 image data file associated with this label. */
OBJECT = COMPRESSED_FILE
  FILE_NAME = "HC954_0000_GR3.JP2"
  RECORD_TYPE = UNDEFINED
  FILE_RECORDS = UNK
  ENCODING_TYPE = "JP2"
  INTERCHANGE_FORMAT = BINARY
  UNCOMPRESSED_FILE_NAME = "HC954_0000_GR3.IMG"
  REQUIRED_STORAGE_BYTES = "16750968"
  ^DESCRIPTION = "JP2INFO.TXT"
END_OBJECT = COMPRESSED_FILE
END
